BEGIN:VCALENDAR
VERSION:2.0
PRODID:-//Waverly Presbyterian Church - ECPv6.15.20//NONSGML v1.0//EN
CALSCALE:GREGORIAN
METHOD:PUBLISH
X-ORIGINAL-URL:https://waverlychurch.org
X-WR-CALDESC:Events for Waverly Presbyterian Church
REFRESH-INTERVAL;VALUE=DURATION:PT1H
X-Robots-Tag:noindex
X-PUBLISHED-TTL:PT1H
BEGIN:VTIMEZONE
TZID:America/New_York
BEGIN:DAYLIGHT
TZOFFSETFROM:-0500
TZOFFSETTO:-0400
TZNAME:EDT
DTSTART:20220313T070000
END:DAYLIGHT
BEGIN:STANDARD
TZOFFSETFROM:-0400
TZOFFSETTO:-0500
TZNAME:EST
DTSTART:20221106T060000
END:STANDARD
BEGIN:DAYLIGHT
TZOFFSETFROM:-0500
TZOFFSETTO:-0400
TZNAME:EDT
DTSTART:20230312T070000
END:DAYLIGHT
BEGIN:STANDARD
TZOFFSETFROM:-0400
TZOFFSETTO:-0500
TZNAME:EST
DTSTART:20231105T060000
END:STANDARD
BEGIN:DAYLIGHT
TZOFFSETFROM:-0500
TZOFFSETTO:-0400
TZNAME:EDT
DTSTART:20240310T070000
END:DAYLIGHT
BEGIN:STANDARD
TZOFFSETFROM:-0400
TZOFFSETTO:-0500
TZNAME:EST
DTSTART:20241103T060000
END:STANDARD
END:VTIMEZONE
BEGIN:VTIMEZONE
TZID:UTC
BEGIN:STANDARD
TZOFFSETFROM:+0000
TZOFFSETTO:+0000
TZNAME:UTC
DTSTART:20220101T000000
END:STANDARD
END:VTIMEZONE
BEGIN:VEVENT
DTSTART;TZID=America/New_York:20231121T190000
DTEND;TZID=America/New_York:20231121T193000
DTSTAMP:20260422T174926
CREATED:20210711T201005Z
LAST-MODIFIED:20220704T150145Z
UID:10000206-1700593200-1700595000@waverlychurch.org
SUMMARY:Al-Anon [Beginners' Meeting]
DESCRIPTION:The Frick Park Al-Anon group may still be virtual. \nContact frickparkafg85[at]gmail.com with any questions.
URL:https://waverlychurch.org/event/al-anon-beginners-meeting-2022-01-04-2022-04-05/2023-11-21/
LOCATION:Social Hall
END:VEVENT
BEGIN:VEVENT
DTSTART;TZID=America/New_York:20231121T190000
DTEND;TZID=America/New_York:20231121T193000
DTSTAMP:20260422T174926
CREATED:20231115T174343Z
LAST-MODIFIED:20231115T174343Z
UID:10006922-1700593200-1700595000@waverlychurch.org
SUMMARY:Thanksgiving Candlelight Prayer Vigil
DESCRIPTION:Join us to connect and pray in gratitude and for justice and mercy across the world. Bundle up if the weather is cold as though the service will be brief\, it will be held outside on our front steps.
URL:https://waverlychurch.org/event/thanksgiving-candlelight-prayer-vigil/
END:VEVENT
BEGIN:VEVENT
DTSTART;TZID=UTC:20231121T193000
DTEND;TZID=UTC:20231121T203000
DTSTAMP:20260422T174926
CREATED:20190310T185001Z
LAST-MODIFIED:20220331T225559Z
UID:10002435-1700595000-1700598600@waverlychurch.org
SUMMARY:Al-Anon
DESCRIPTION:The Frick Park Al-Anon is holding in-person meetings in the Social Hall. \nContact frickparkafg85[at]gmail.com with any questions.
URL:https://waverlychurch.org/event/al-anon-2020-03-24-2021-07-06-2021-07-13/2023-11-21/
END:VEVENT
END:VCALENDAR