BEGIN:VCALENDAR
VERSION:2.0
PRODID:-//Waverly Presbyterian Church - ECPv6.15.20//NONSGML v1.0//EN
CALSCALE:GREGORIAN
METHOD:PUBLISH
X-ORIGINAL-URL:https://waverlychurch.org
X-WR-CALDESC:Events for Waverly Presbyterian Church
REFRESH-INTERVAL;VALUE=DURATION:PT1H
X-Robots-Tag:noindex
X-PUBLISHED-TTL:PT1H
BEGIN:VTIMEZONE
TZID:America/New_York
BEGIN:DAYLIGHT
TZOFFSETFROM:-0500
TZOFFSETTO:-0400
TZNAME:EDT
DTSTART:20230312T070000
END:DAYLIGHT
BEGIN:STANDARD
TZOFFSETFROM:-0400
TZOFFSETTO:-0500
TZNAME:EST
DTSTART:20231105T060000
END:STANDARD
BEGIN:DAYLIGHT
TZOFFSETFROM:-0500
TZOFFSETTO:-0400
TZNAME:EDT
DTSTART:20240310T070000
END:DAYLIGHT
BEGIN:STANDARD
TZOFFSETFROM:-0400
TZOFFSETTO:-0500
TZNAME:EST
DTSTART:20241103T060000
END:STANDARD
BEGIN:DAYLIGHT
TZOFFSETFROM:-0500
TZOFFSETTO:-0400
TZNAME:EDT
DTSTART:20250309T070000
END:DAYLIGHT
BEGIN:STANDARD
TZOFFSETFROM:-0400
TZOFFSETTO:-0500
TZNAME:EST
DTSTART:20251102T060000
END:STANDARD
END:VTIMEZONE
BEGIN:VEVENT
DTSTART;TZID=America/New_York:20240503T103000
DTEND;TZID=America/New_York:20240503T113000
DTSTAMP:20260421T202524
CREATED:20231023T201450Z
LAST-MODIFIED:20231128T181838Z
UID:10006896-1714732200-1714735800@waverlychurch.org
SUMMARY:Tai Chi for Health Part 2
DESCRIPTION:Learn or return to Tai Chi for Health! This tai chi form focuses on posture and stability while enhancing the connection between the brain and the body. \nNew movements will be added each class as we explore concepts of tai chi practice and enjoy performing this moving meditation. \nThis class requires no props but does require standing.  \nThe full form will be taught over the course of two six-week sessions. Regular attendance and practice at home is necessary to learn and benefit from tai chi. \n$40 for a six-week session. Contact laurakbudde@gmail.com to register.
URL:https://waverlychurch.org/event/tai-chi-for-health/2024-05-03/
LOCATION:Social Hall
END:VEVENT
BEGIN:VEVENT
DTSTART;TZID=America/New_York:20240503T120000
DTEND;TZID=America/New_York:20240503T130000
DTSTAMP:20260421T202524
CREATED:20231128T182022Z
LAST-MODIFIED:20231128T182022Z
UID:10006945-1714737600-1714741200@waverlychurch.org
SUMMARY:Tai Chi for Health Part 1
DESCRIPTION:Learn or return to Tai Chi for Health! This tai chi form focuses on posture and stability while enhancing the connection between the brain and the body. \nNew movements will be added each class as we explore concepts of tai chi practice and enjoy performing this moving meditation. \nThis class requires no props but does require standing.  \nThe full form will be taught over the course of two six-week sessions. Regular attendance and practice at home is necessary to learn and benefit from tai chi. \n$40 for a six-week session. Contact laurakbudde@gmail.com to register.
URL:https://waverlychurch.org/event/tai-chi-for-health-part-1/2024-05-03/
END:VEVENT
BEGIN:VEVENT
DTSTART;TZID=America/New_York:20240503T200000
DTEND;TZID=America/New_York:20240503T200000
DTSTAMP:20260421T202524
CREATED:20240409T185425Z
LAST-MODIFIED:20240409T185516Z
UID:10006994-1714766400-1714766400@waverlychurch.org
SUMMARY:2024 Waverly Opera House
DESCRIPTION:The Sherlock Home or Pave Paradise and Put Up a Parking Lot.
URL:https://waverlychurch.org/event/2024-waverly-opera-house-2/
LOCATION:Social Hall
END:VEVENT
END:VCALENDAR