BEGIN:VCALENDAR
VERSION:2.0
PRODID:-//Waverly Presbyterian Church - ECPv6.15.20//NONSGML v1.0//EN
CALSCALE:GREGORIAN
METHOD:PUBLISH
X-ORIGINAL-URL:https://waverlychurch.org
X-WR-CALDESC:Events for Waverly Presbyterian Church
REFRESH-INTERVAL;VALUE=DURATION:PT1H
X-Robots-Tag:noindex
X-PUBLISHED-TTL:PT1H
BEGIN:VTIMEZONE
TZID:America/New_York
BEGIN:DAYLIGHT
TZOFFSETFROM:-0500
TZOFFSETTO:-0400
TZNAME:EDT
DTSTART:20230312T070000
END:DAYLIGHT
BEGIN:STANDARD
TZOFFSETFROM:-0400
TZOFFSETTO:-0500
TZNAME:EST
DTSTART:20231105T060000
END:STANDARD
BEGIN:DAYLIGHT
TZOFFSETFROM:-0500
TZOFFSETTO:-0400
TZNAME:EDT
DTSTART:20240310T070000
END:DAYLIGHT
BEGIN:STANDARD
TZOFFSETFROM:-0400
TZOFFSETTO:-0500
TZNAME:EST
DTSTART:20241103T060000
END:STANDARD
BEGIN:DAYLIGHT
TZOFFSETFROM:-0500
TZOFFSETTO:-0400
TZNAME:EDT
DTSTART:20250309T070000
END:DAYLIGHT
BEGIN:STANDARD
TZOFFSETFROM:-0400
TZOFFSETTO:-0500
TZNAME:EST
DTSTART:20251102T060000
END:STANDARD
END:VTIMEZONE
BEGIN:VEVENT
DTSTART;TZID=America/New_York:20241213T110000
DTEND;TZID=America/New_York:20241213T120000
DTSTAMP:20260421T110732
CREATED:20240627T164711Z
LAST-MODIFIED:20240627T164711Z
UID:10008028-1734087600-1734091200@waverlychurch.org
SUMMARY:Tai Chi - Fall Session Two
DESCRIPTION:Learn or return to Tai Chi for Health! This tai chi form focuses on posture and stability while enhancing the connection between the brain and the body. \nNew movements will be added each class as we explore concepts of tai chi practice and enjoy performing this moving meditation. \nThis class requires no props but does require standing.  \nThe full form will be taught over the course of two six-week sessions. Regular attendance and practice at home is necessary to learn and benefit from tai chi. \n$40 for a six-week session. Contact laurakbudde@gmail.com to register.
URL:https://waverlychurch.org/event/tai-chi-fall-session-two/2024-12-13/
LOCATION:Social Hall
END:VEVENT
END:VCALENDAR