BEGIN:VCALENDAR
VERSION:2.0
PRODID:-//Waverly Presbyterian Church - ECPv6.15.20//NONSGML v1.0//EN
CALSCALE:GREGORIAN
METHOD:PUBLISH
X-WR-CALNAME:Waverly Presbyterian Church
X-ORIGINAL-URL:https://waverlychurch.org
X-WR-CALDESC:Events for Waverly Presbyterian Church
REFRESH-INTERVAL;VALUE=DURATION:PT1H
X-Robots-Tag:noindex
X-PUBLISHED-TTL:PT1H
BEGIN:VTIMEZONE
TZID:America/New_York
BEGIN:DAYLIGHT
TZOFFSETFROM:-0500
TZOFFSETTO:-0400
TZNAME:EDT
DTSTART:20240310T070000
END:DAYLIGHT
BEGIN:STANDARD
TZOFFSETFROM:-0400
TZOFFSETTO:-0500
TZNAME:EST
DTSTART:20241103T060000
END:STANDARD
BEGIN:DAYLIGHT
TZOFFSETFROM:-0500
TZOFFSETTO:-0400
TZNAME:EDT
DTSTART:20250309T070000
END:DAYLIGHT
BEGIN:STANDARD
TZOFFSETFROM:-0400
TZOFFSETTO:-0500
TZNAME:EST
DTSTART:20251102T060000
END:STANDARD
BEGIN:DAYLIGHT
TZOFFSETFROM:-0500
TZOFFSETTO:-0400
TZNAME:EDT
DTSTART:20260308T070000
END:DAYLIGHT
BEGIN:STANDARD
TZOFFSETFROM:-0400
TZOFFSETTO:-0500
TZNAME:EST
DTSTART:20261101T060000
END:STANDARD
END:VTIMEZONE
BEGIN:VEVENT
DTSTART;TZID=America/New_York:20250213T090000
DTEND;TZID=America/New_York:20250213T100000
DTSTAMP:20260421T201842
CREATED:20240926T164404Z
LAST-MODIFIED:20240926T165140Z
UID:10008548-1739437200-1739440800@waverlychurch.org
SUMMARY:Five Elements Qigong Class - Winter Session
DESCRIPTION:Qigong is a practice that encourages the circulation of “qi” or life energy. In this class we will utilize gentle movements and stretching\, acupressure\, breath awareness and visualization to encourage the flow of qi. \nBased in Taoist Five Element Theory\, this style of qigong highlights the dynamic relationship between yin (organizing\, receptive\, cooling) and yang (animating\, expressive\, warming). \nThrough persistent effort we can strengthen our connection to the rhythms of nature and optimize our functionality. \n$40 for a six-week session. This practice requires no props and can be enjoyed standing or seated in a chair. Contact laurakbudde@gmail.com to register.
URL:https://waverlychurch.org/event/five-elements-qigong-class/2025-02-13/
END:VEVENT
BEGIN:VEVENT
DTSTART;TZID=America/New_York:20250213T103000
DTEND;TZID=America/New_York:20250213T113000
DTSTAMP:20260421T201842
CREATED:20240926T164736Z
LAST-MODIFIED:20240926T164736Z
UID:10008554-1739442600-1739446200@waverlychurch.org
SUMMARY:Yoga - Winter Session
DESCRIPTION:Nurture a meaningful yoga practice that promotes a balanced body and mind. \nClasses incorporate gentle and hatha yoga with strengthening and restorative postures. Sequencing and anatomical awareness is structured to increase enjoyment and accessibility. \nWhether you have an established yoga practice or are interested in trying it out for the first time you will be encouraged to listen to your body\, and make adjustments that speak to your experience. \nThis class requires a yoga mat and a towel or blanket\, with yoga blocks and a strap highly suggested. \n$40 for a six-week session. Contact laurakbudde@gmail.com to register.
URL:https://waverlychurch.org/event/yoga-winter-session/2025-02-13/
END:VEVENT
END:VCALENDAR