BEGIN:VCALENDAR
VERSION:2.0
PRODID:-//Waverly Presbyterian Church - ECPv6.15.20//NONSGML v1.0//EN
CALSCALE:GREGORIAN
METHOD:PUBLISH
X-ORIGINAL-URL:https://waverlychurch.org
X-WR-CALDESC:Events for Waverly Presbyterian Church
REFRESH-INTERVAL;VALUE=DURATION:PT1H
X-Robots-Tag:noindex
X-PUBLISHED-TTL:PT1H
BEGIN:VTIMEZONE
TZID:America/New_York
BEGIN:DAYLIGHT
TZOFFSETFROM:-0500
TZOFFSETTO:-0400
TZNAME:EDT
DTSTART:20240310T070000
END:DAYLIGHT
BEGIN:STANDARD
TZOFFSETFROM:-0400
TZOFFSETTO:-0500
TZNAME:EST
DTSTART:20241103T060000
END:STANDARD
BEGIN:DAYLIGHT
TZOFFSETFROM:-0500
TZOFFSETTO:-0400
TZNAME:EDT
DTSTART:20250309T070000
END:DAYLIGHT
BEGIN:STANDARD
TZOFFSETFROM:-0400
TZOFFSETTO:-0500
TZNAME:EST
DTSTART:20251102T060000
END:STANDARD
BEGIN:DAYLIGHT
TZOFFSETFROM:-0500
TZOFFSETTO:-0400
TZNAME:EDT
DTSTART:20260308T070000
END:DAYLIGHT
BEGIN:STANDARD
TZOFFSETFROM:-0400
TZOFFSETTO:-0500
TZNAME:EST
DTSTART:20261101T060000
END:STANDARD
END:VTIMEZONE
BEGIN:VEVENT
DTSTART;TZID=America/New_York:20251004T100000
DTEND;TZID=America/New_York:20251004T120000
DTSTAMP:20260422T005337
CREATED:20250925T144508Z
LAST-MODIFIED:20250925T144508Z
UID:10129224-1759572000-1759579200@waverlychurch.org
SUMMARY:Blessing of the Animals
DESCRIPTION:Join us for a heartwarming celebration of all God’s creatures-great and small. \nBring your beloved pets (leashed or in carriers\, please!) for a special outdoor blessing and a joyful time of fellowship. \nWhether they bark\, meow\, chirp\, or hop\, we can’t wait to meet your furry (or feathered or scaly!) family members. All are welcome.
URL:https://waverlychurch.org/event/blessing-of-the-animals-5/
LOCATION:Front Lawn
END:VEVENT
END:VCALENDAR