BEGIN:VCALENDAR
VERSION:2.0
PRODID:-//Waverly Presbyterian Church - ECPv6.15.20//NONSGML v1.0//EN
CALSCALE:GREGORIAN
METHOD:PUBLISH
X-ORIGINAL-URL:https://waverlychurch.org
X-WR-CALDESC:Events for Waverly Presbyterian Church
REFRESH-INTERVAL;VALUE=DURATION:PT1H
X-Robots-Tag:noindex
X-PUBLISHED-TTL:PT1H
BEGIN:VTIMEZONE
TZID:America/New_York
BEGIN:DAYLIGHT
TZOFFSETFROM:-0500
TZOFFSETTO:-0400
TZNAME:EDT
DTSTART:20240310T070000
END:DAYLIGHT
BEGIN:STANDARD
TZOFFSETFROM:-0400
TZOFFSETTO:-0500
TZNAME:EST
DTSTART:20241103T060000
END:STANDARD
BEGIN:DAYLIGHT
TZOFFSETFROM:-0500
TZOFFSETTO:-0400
TZNAME:EDT
DTSTART:20250309T070000
END:DAYLIGHT
BEGIN:STANDARD
TZOFFSETFROM:-0400
TZOFFSETTO:-0500
TZNAME:EST
DTSTART:20251102T060000
END:STANDARD
BEGIN:DAYLIGHT
TZOFFSETFROM:-0500
TZOFFSETTO:-0400
TZNAME:EDT
DTSTART:20260308T070000
END:DAYLIGHT
BEGIN:STANDARD
TZOFFSETFROM:-0400
TZOFFSETTO:-0500
TZNAME:EST
DTSTART:20261101T060000
END:STANDARD
END:VTIMEZONE
BEGIN:VEVENT
DTSTART;TZID=America/New_York:20251114T100000
DTEND;TZID=America/New_York:20251114T104500
DTSTAMP:20260421T192935
CREATED:20250529T155446Z
LAST-MODIFIED:20250529T155446Z
UID:10126567-1763114400-1763117100@waverlychurch.org
SUMMARY:Five Elements Qigong Fall Session 2 (Drop-ins Welcome)
DESCRIPTION:Contact Laura at laurakbudde@gmail.com or 618-210-3672.
URL:https://waverlychurch.org/event/five-elements-qigong-fall-session-2-drop-ins-welcome/2025-11-14/
LOCATION:Social Hall
END:VEVENT
BEGIN:VEVENT
DTSTART;TZID=America/New_York:20251114T110000
DTEND;TZID=America/New_York:20251114T120000
DTSTAMP:20260421T192935
CREATED:20250529T155620Z
LAST-MODIFIED:20250529T160727Z
UID:10126579-1763118000-1763121600@waverlychurch.org
SUMMARY:Tai Chi for Health Part 2 Fall Session 2 (Continuation of Part 1)
DESCRIPTION:Contact Laura at laurakbudde@gmail.com or 618-210-3672. \nRegular attendance is necessary to learn and benefit from a complete tai chi form.
URL:https://waverlychurch.org/event/tai-chi-for-health-part-2-fall-session-2-a-continuation-of-part-1/2025-11-14/
LOCATION:Social Hall
END:VEVENT
END:VCALENDAR