BEGIN:VCALENDAR
VERSION:2.0
PRODID:-//Waverly Presbyterian Church - ECPv6.15.20//NONSGML v1.0//EN
CALSCALE:GREGORIAN
METHOD:PUBLISH
X-WR-CALNAME:Waverly Presbyterian Church
X-ORIGINAL-URL:https://waverlychurch.org
X-WR-CALDESC:Events for Waverly Presbyterian Church
REFRESH-INTERVAL;VALUE=DURATION:PT1H
X-Robots-Tag:noindex
X-PUBLISHED-TTL:PT1H
BEGIN:VTIMEZONE
TZID:UTC
BEGIN:STANDARD
TZOFFSETFROM:+0000
TZOFFSETTO:+0000
TZNAME:UTC
DTSTART:20240101T000000
END:STANDARD
END:VTIMEZONE
BEGIN:VTIMEZONE
TZID:America/New_York
BEGIN:DAYLIGHT
TZOFFSETFROM:-0500
TZOFFSETTO:-0400
TZNAME:EDT
DTSTART:20240310T070000
END:DAYLIGHT
BEGIN:STANDARD
TZOFFSETFROM:-0400
TZOFFSETTO:-0500
TZNAME:EST
DTSTART:20241103T060000
END:STANDARD
BEGIN:DAYLIGHT
TZOFFSETFROM:-0500
TZOFFSETTO:-0400
TZNAME:EDT
DTSTART:20250309T070000
END:DAYLIGHT
BEGIN:STANDARD
TZOFFSETFROM:-0400
TZOFFSETTO:-0500
TZNAME:EST
DTSTART:20251102T060000
END:STANDARD
BEGIN:DAYLIGHT
TZOFFSETFROM:-0500
TZOFFSETTO:-0400
TZNAME:EDT
DTSTART:20260308T070000
END:DAYLIGHT
BEGIN:STANDARD
TZOFFSETFROM:-0400
TZOFFSETTO:-0500
TZNAME:EST
DTSTART:20261101T060000
END:STANDARD
BEGIN:DAYLIGHT
TZOFFSETFROM:-0500
TZOFFSETTO:-0400
TZNAME:EDT
DTSTART:20270314T070000
END:DAYLIGHT
BEGIN:STANDARD
TZOFFSETFROM:-0400
TZOFFSETTO:-0500
TZNAME:EST
DTSTART:20271107T060000
END:STANDARD
END:VTIMEZONE
BEGIN:VEVENT
DTSTART;TZID=UTC:20260113T193000
DTEND;TZID=UTC:20260113T203000
DTSTAMP:20260421T212549
CREATED:20190310T185001Z
LAST-MODIFIED:20220331T225559Z
UID:10002547-1768332600-1768336200@waverlychurch.org
SUMMARY:Al-Anon
DESCRIPTION:The Frick Park Al-Anon is holding in-person meetings in the Social Hall. \nContact frickparkafg85[at]gmail.com with any questions.
URL:https://waverlychurch.org/event/al-anon-2020-03-24-2021-07-06-2021-07-13/2026-01-13/
END:VEVENT
BEGIN:VEVENT
DTSTART;TZID=America/New_York:20260113T190000
DTEND;TZID=America/New_York:20260113T193000
DTSTAMP:20260421T212549
CREATED:20210711T201005Z
LAST-MODIFIED:20220704T150145Z
UID:10000318-1768330800-1768332600@waverlychurch.org
SUMMARY:Al-Anon [Beginners' Meeting]
DESCRIPTION:The Frick Park Al-Anon group may still be virtual. \nContact frickparkafg85[at]gmail.com with any questions.
URL:https://waverlychurch.org/event/al-anon-beginners-meeting-2022-01-04-2022-04-05/2026-01-13/
LOCATION:Social Hall
END:VEVENT
BEGIN:VEVENT
DTSTART;TZID=America/New_York:20260112T190000
DTEND;TZID=America/New_York:20260112T203000
DTSTAMP:20260421T212549
CREATED:20251125T185647Z
LAST-MODIFIED:20251125T185647Z
UID:10132916-1768244400-1768249800@waverlychurch.org
SUMMARY:Amnesty Meeting-Social Hall
DESCRIPTION:
URL:https://waverlychurch.org/event/amnesty-meeting-social-hall/2026-01-12/
END:VEVENT
BEGIN:VEVENT
DTSTART;TZID=America/New_York:20260112T170000
DTEND;TZID=America/New_York:20260112T180000
DTSTAMP:20260421T212549
CREATED:20240827T181303Z
LAST-MODIFIED:20260309T184828Z
UID:10008296-1768237200-1768240800@waverlychurch.org
SUMMARY:Drawing Closer - Meeting on Zoom
DESCRIPTION:This time of contemplative prayer and exploration of poetry is different every week and open to all\, no matter your beliefs. \nClick here for the Zoom link or call by phone:\n929-436-2866\nMeeting ID: 829 0407 0235\nPasscode: 056654
URL:https://waverlychurch.org/event/drawing-closer/2026-01-12/
LOCATION:https://waverlychurch.org/event/drawing-closer/2026-01-12/
END:VEVENT
BEGIN:VEVENT
DTSTART;TZID=America/New_York:20260112T090000
DTEND;TZID=America/New_York:20260112T200000
DTSTAMP:20260421T212549
CREATED:20251030T152456Z
LAST-MODIFIED:20251030T152456Z
UID:10131744-1768208400-1768248000@waverlychurch.org
SUMMARY:Guitar Lessons
DESCRIPTION:ian@cainsmusiclessons.com
URL:https://waverlychurch.org/event/guitar-lessons/2026-01-12/
LOCATION:Frog Room
END:VEVENT
BEGIN:VEVENT
DTSTART;TZID=America/New_York:20260111T193000
DTEND;TZID=America/New_York:20260111T210000
DTSTAMP:20260421T212549
CREATED:20190310T184702Z
LAST-MODIFIED:20220704T145322Z
UID:10000669-1768159800-1768165200@waverlychurch.org
SUMMARY:Alcoholics Anonymous
DESCRIPTION:The Frick Park Group of Alcoholics Anonymous is holding in-person meetings in the Social Hall. \nAdditional links for AA groups are posted online at the AA Central Office.\nhttps://www.pghaa.org/
URL:https://waverlychurch.org/event/aa-2020-03-22-2021-07-04/2026-01-11/
LOCATION:Social Hall
END:VEVENT
BEGIN:VEVENT
DTSTART;TZID=America/New_York:20260111T121500
DTEND;TZID=America/New_York:20260111T133000
DTSTAMP:20260421T212549
CREATED:20250923T170705Z
LAST-MODIFIED:20250923T170706Z
UID:10006647-1768133700-1768138200@waverlychurch.org
SUMMARY:Coffee Hour
DESCRIPTION:Join us after service weekly for a chance to share fellowship over coffee and snacks
URL:https://waverlychurch.org/event/coffee-hour-3-2-2-2-2/2026-01-11/
LOCATION:Lounge
END:VEVENT
BEGIN:VEVENT
DTSTART;TZID=America/New_York:20260111T120000
DTEND;TZID=America/New_York:20260111T140000
DTSTAMP:20260421T212549
CREATED:20251230T173735Z
LAST-MODIFIED:20251230T173735Z
UID:10132978-1768132800-1768140000@waverlychurch.org
SUMMARY:Young Adult Gathering and Fellowship
DESCRIPTION:Young Adult Gathering\nIf you consider yourself a young(er) adult (pre-Middle-age) and are looking for others to connect with\, please join our young adult gathering after service on Sunday\, January 11th. \nFolks will meet in the Narthex (back of the Sanctuary near the big main doors) following service and head together to a local coffee shop.
URL:https://waverlychurch.org/event/young-adult-gathering-and-fellowship/
END:VEVENT
BEGIN:VEVENT
DTSTART;TZID=America/New_York:20260111T110000
DTEND;TZID=America/New_York:20260111T121500
DTSTAMP:20260421T212549
CREATED:20250923T171614Z
LAST-MODIFIED:20250923T171615Z
UID:10007731-1768129200-1768133700@waverlychurch.org
SUMMARY:Worship Service
DESCRIPTION:We meet on Sundays in our Sanctuary at 11am during the school year and stream services online. \nSunday’s worship service will be live-streamed over our Facebook page on Sunday mornings. \n \nhttps://www.facebook.com/pg/WaverlyChurch/videos/
URL:https://waverlychurch.org/event/worship-service-5-2-2/2026-01-11/
END:VEVENT
BEGIN:VEVENT
DTSTART;TZID=America/New_York:20260111T100000
DTEND;TZID=America/New_York:20260111T105500
DTSTAMP:20260421T212549
CREATED:20250923T174238Z
LAST-MODIFIED:20250923T174239Z
UID:10007163-1768125600-1768128900@waverlychurch.org
SUMMARY:Sunday School
DESCRIPTION:All ages are welcome to join us each week for Sunday School in the following locations: \nChildren up through 1st grade: nursery (downstairs\, right side of front entrance – ring bell to enter) \nChildren and Youth 2nd grade through 12th grade in the “Wonka Room” – room off of our lower floor Social Hall. \nAdults: lounge (upstairs in back of church)
URL:https://waverlychurch.org/event/sunday-school-3-2-2-2-2-2-2/2026-01-11/
END:VEVENT
BEGIN:VEVENT
DTSTART;TZID=America/New_York:20260111T093000
DTEND;TZID=America/New_York:20260111T100000
DTSTAMP:20260421T212549
CREATED:20251125T184126Z
LAST-MODIFIED:20251125T184126Z
UID:10132600-1768123800-1768125600@waverlychurch.org
SUMMARY:Choir Rehearsal in Sanctuary
DESCRIPTION:
URL:https://waverlychurch.org/event/choir-rehearsal-in-sanctuary/2026-01-11/
END:VEVENT
BEGIN:VEVENT
DTSTART;TZID=America/New_York:20260108T190000
DTEND;TZID=America/New_York:20260108T203000
DTSTAMP:20260421T212549
CREATED:20251125T183555Z
LAST-MODIFIED:20251125T183747Z
UID:10132339-1767898800-1767904200@waverlychurch.org
SUMMARY:Choir Rehearsal in Lounge
DESCRIPTION:
URL:https://waverlychurch.org/event/choir-rehearsal-in-lounge/2026-01-08/
LOCATION:Lounge
END:VEVENT
BEGIN:VEVENT
DTSTART;TZID=America/New_York:20260107T090000
DTEND;TZID=America/New_York:20260107T200000
DTSTAMP:20260421T212549
CREATED:20251030T152456Z
LAST-MODIFIED:20251030T152456Z
UID:10131743-1767776400-1767816000@waverlychurch.org
SUMMARY:Guitar Lessons
DESCRIPTION:ian@cainsmusiclessons.com
URL:https://waverlychurch.org/event/guitar-lessons/2026-01-07/
LOCATION:Frog Room
END:VEVENT
BEGIN:VEVENT
DTSTART;TZID=UTC:20260106T193000
DTEND;TZID=UTC:20260106T203000
DTSTAMP:20260421T212549
CREATED:20190310T185001Z
LAST-MODIFIED:20220331T225559Z
UID:10002546-1767727800-1767731400@waverlychurch.org
SUMMARY:Al-Anon
DESCRIPTION:The Frick Park Al-Anon is holding in-person meetings in the Social Hall. \nContact frickparkafg85[at]gmail.com with any questions.
URL:https://waverlychurch.org/event/al-anon-2020-03-24-2021-07-06-2021-07-13/2026-01-06/
END:VEVENT
BEGIN:VEVENT
DTSTART;TZID=America/New_York:20260106T190000
DTEND;TZID=America/New_York:20260106T193000
DTSTAMP:20260421T212549
CREATED:20210711T201005Z
LAST-MODIFIED:20220704T150145Z
UID:10000317-1767726000-1767727800@waverlychurch.org
SUMMARY:Al-Anon [Beginners' Meeting]
DESCRIPTION:The Frick Park Al-Anon group may still be virtual. \nContact frickparkafg85[at]gmail.com with any questions.
URL:https://waverlychurch.org/event/al-anon-beginners-meeting-2022-01-04-2022-04-05/2026-01-06/
LOCATION:Social Hall
END:VEVENT
BEGIN:VEVENT
DTSTART;TZID=America/New_York:20260105T170000
DTEND;TZID=America/New_York:20260105T180000
DTSTAMP:20260421T212549
CREATED:20240827T181303Z
LAST-MODIFIED:20260309T184828Z
UID:10008295-1767632400-1767636000@waverlychurch.org
SUMMARY:Drawing Closer - Meeting on Zoom
DESCRIPTION:This time of contemplative prayer and exploration of poetry is different every week and open to all\, no matter your beliefs. \nClick here for the Zoom link or call by phone:\n929-436-2866\nMeeting ID: 829 0407 0235\nPasscode: 056654
URL:https://waverlychurch.org/event/drawing-closer/2026-01-05/
LOCATION:https://waverlychurch.org/event/drawing-closer/2026-01-05/
END:VEVENT
BEGIN:VEVENT
DTSTART;TZID=America/New_York:20260105T090000
DTEND;TZID=America/New_York:20260105T200000
DTSTAMP:20260421T212549
CREATED:20251030T152456Z
LAST-MODIFIED:20251030T152456Z
UID:10131742-1767603600-1767643200@waverlychurch.org
SUMMARY:Guitar Lessons
DESCRIPTION:ian@cainsmusiclessons.com
URL:https://waverlychurch.org/event/guitar-lessons/2026-01-05/
LOCATION:Frog Room
END:VEVENT
BEGIN:VEVENT
DTSTART;TZID=America/New_York:20260104T193000
DTEND;TZID=America/New_York:20260104T210000
DTSTAMP:20260421T212549
CREATED:20190310T184702Z
LAST-MODIFIED:20220704T145322Z
UID:10000668-1767555000-1767560400@waverlychurch.org
SUMMARY:Alcoholics Anonymous
DESCRIPTION:The Frick Park Group of Alcoholics Anonymous is holding in-person meetings in the Social Hall. \nAdditional links for AA groups are posted online at the AA Central Office.\nhttps://www.pghaa.org/
URL:https://waverlychurch.org/event/aa-2020-03-22-2021-07-04/2026-01-04/
LOCATION:Social Hall
END:VEVENT
BEGIN:VEVENT
DTSTART;TZID=America/New_York:20260104T121500
DTEND;TZID=America/New_York:20260104T133000
DTSTAMP:20260421T212549
CREATED:20250923T170705Z
LAST-MODIFIED:20250923T170706Z
UID:10006646-1767528900-1767533400@waverlychurch.org
SUMMARY:Coffee Hour
DESCRIPTION:Join us after service weekly for a chance to share fellowship over coffee and snacks
URL:https://waverlychurch.org/event/coffee-hour-3-2-2-2-2/2026-01-04/
LOCATION:Lounge
END:VEVENT
BEGIN:VEVENT
DTSTART;TZID=America/New_York:20260104T110000
DTEND;TZID=America/New_York:20260104T121500
DTSTAMP:20260421T212549
CREATED:20250923T171614Z
LAST-MODIFIED:20250923T171615Z
UID:10007730-1767524400-1767528900@waverlychurch.org
SUMMARY:Worship Service
DESCRIPTION:We meet on Sundays in our Sanctuary at 11am during the school year and stream services online. \nSunday’s worship service will be live-streamed over our Facebook page on Sunday mornings. \n \nhttps://www.facebook.com/pg/WaverlyChurch/videos/
URL:https://waverlychurch.org/event/worship-service-5-2-2/2026-01-04/
END:VEVENT
BEGIN:VEVENT
DTSTART;TZID=America/New_York:20260104T100000
DTEND;TZID=America/New_York:20260104T105500
DTSTAMP:20260421T212550
CREATED:20250923T174238Z
LAST-MODIFIED:20250923T174239Z
UID:10007162-1767520800-1767524100@waverlychurch.org
SUMMARY:Sunday School
DESCRIPTION:All ages are welcome to join us each week for Sunday School in the following locations: \nChildren up through 1st grade: nursery (downstairs\, right side of front entrance – ring bell to enter) \nChildren and Youth 2nd grade through 12th grade in the “Wonka Room” – room off of our lower floor Social Hall. \nAdults: lounge (upstairs in back of church)
URL:https://waverlychurch.org/event/sunday-school-3-2-2-2-2-2-2/2026-01-04/
END:VEVENT
BEGIN:VEVENT
DTSTART;TZID=America/New_York:20260104T093000
DTEND;TZID=America/New_York:20260104T100000
DTSTAMP:20260421T212550
CREATED:20251125T184126Z
LAST-MODIFIED:20251125T184126Z
UID:10132599-1767519000-1767520800@waverlychurch.org
SUMMARY:Choir Rehearsal in Sanctuary
DESCRIPTION:
URL:https://waverlychurch.org/event/choir-rehearsal-in-sanctuary/2026-01-04/
END:VEVENT
BEGIN:VEVENT
DTSTART;TZID=America/New_York:20260103T110000
DTEND;TZID=America/New_York:20260103T143000
DTSTAMP:20260421T212550
CREATED:20251125T184526Z
LAST-MODIFIED:20251125T184526Z
UID:10132856-1767438000-1767450600@waverlychurch.org
SUMMARY:East End N.A. Business Meeting/Social Hall
DESCRIPTION:
URL:https://waverlychurch.org/event/east-end-n-a-business-meeting-social-hall/2026-01-03/
END:VEVENT
BEGIN:VEVENT
DTSTART;TZID=America/New_York:20251231T090000
DTEND;TZID=America/New_York:20251231T200000
DTSTAMP:20260421T212550
CREATED:20251030T152456Z
LAST-MODIFIED:20251030T152456Z
UID:10131741-1767171600-1767211200@waverlychurch.org
SUMMARY:Guitar Lessons
DESCRIPTION:ian@cainsmusiclessons.com
URL:https://waverlychurch.org/event/guitar-lessons/2025-12-31/
LOCATION:Frog Room
END:VEVENT
BEGIN:VEVENT
DTSTART;TZID=UTC:20251230T193000
DTEND;TZID=UTC:20251230T203000
DTSTAMP:20260421T212550
CREATED:20190310T185001Z
LAST-MODIFIED:20220331T225559Z
UID:10002545-1767123000-1767126600@waverlychurch.org
SUMMARY:Al-Anon
DESCRIPTION:The Frick Park Al-Anon is holding in-person meetings in the Social Hall. \nContact frickparkafg85[at]gmail.com with any questions.
URL:https://waverlychurch.org/event/al-anon-2020-03-24-2021-07-06-2021-07-13/2025-12-30/
END:VEVENT
BEGIN:VEVENT
DTSTART;TZID=America/New_York:20251230T190000
DTEND;TZID=America/New_York:20251230T193000
DTSTAMP:20260421T212550
CREATED:20210711T201005Z
LAST-MODIFIED:20220704T150145Z
UID:10000316-1767121200-1767123000@waverlychurch.org
SUMMARY:Al-Anon [Beginners' Meeting]
DESCRIPTION:The Frick Park Al-Anon group may still be virtual. \nContact frickparkafg85[at]gmail.com with any questions.
URL:https://waverlychurch.org/event/al-anon-beginners-meeting-2022-01-04-2022-04-05/2025-12-30/
LOCATION:Social Hall
END:VEVENT
BEGIN:VEVENT
DTSTART;TZID=America/New_York:20251229T170000
DTEND;TZID=America/New_York:20251229T180000
DTSTAMP:20260421T212550
CREATED:20240827T181303Z
LAST-MODIFIED:20260309T184828Z
UID:10008294-1767027600-1767031200@waverlychurch.org
SUMMARY:Drawing Closer - Meeting on Zoom
DESCRIPTION:This time of contemplative prayer and exploration of poetry is different every week and open to all\, no matter your beliefs. \nClick here for the Zoom link or call by phone:\n929-436-2866\nMeeting ID: 829 0407 0235\nPasscode: 056654
URL:https://waverlychurch.org/event/drawing-closer/2025-12-29/
LOCATION:https://waverlychurch.org/event/drawing-closer/2025-12-29/
END:VEVENT
BEGIN:VEVENT
DTSTART;TZID=America/New_York:20251229T090000
DTEND;TZID=America/New_York:20251229T200000
DTSTAMP:20260421T212550
CREATED:20251030T152456Z
LAST-MODIFIED:20251030T152456Z
UID:10131740-1766998800-1767038400@waverlychurch.org
SUMMARY:Guitar Lessons
DESCRIPTION:ian@cainsmusiclessons.com
URL:https://waverlychurch.org/event/guitar-lessons/2025-12-29/
LOCATION:Frog Room
END:VEVENT
BEGIN:VEVENT
DTSTART;TZID=America/New_York:20251228T193000
DTEND;TZID=America/New_York:20251228T210000
DTSTAMP:20260421T212550
CREATED:20190310T184702Z
LAST-MODIFIED:20220704T145322Z
UID:10000667-1766950200-1766955600@waverlychurch.org
SUMMARY:Alcoholics Anonymous
DESCRIPTION:The Frick Park Group of Alcoholics Anonymous is holding in-person meetings in the Social Hall. \nAdditional links for AA groups are posted online at the AA Central Office.\nhttps://www.pghaa.org/
URL:https://waverlychurch.org/event/aa-2020-03-22-2021-07-04/2025-12-28/
LOCATION:Social Hall
END:VEVENT
BEGIN:VEVENT
DTSTART;TZID=America/New_York:20251228T121500
DTEND;TZID=America/New_York:20251228T133000
DTSTAMP:20260421T212550
CREATED:20250923T170705Z
LAST-MODIFIED:20250923T170706Z
UID:10006645-1766924100-1766928600@waverlychurch.org
SUMMARY:Coffee Hour
DESCRIPTION:Join us after service weekly for a chance to share fellowship over coffee and snacks
URL:https://waverlychurch.org/event/coffee-hour-3-2-2-2-2/2025-12-28/
LOCATION:Lounge
END:VEVENT
END:VCALENDAR