BEGIN:VCALENDAR
VERSION:2.0
PRODID:-//Waverly Presbyterian Church - ECPv6.15.20//NONSGML v1.0//EN
CALSCALE:GREGORIAN
METHOD:PUBLISH
X-WR-CALNAME:Waverly Presbyterian Church
X-ORIGINAL-URL:https://waverlychurch.org
X-WR-CALDESC:Events for Waverly Presbyterian Church
REFRESH-INTERVAL;VALUE=DURATION:PT1H
X-Robots-Tag:noindex
X-PUBLISHED-TTL:PT1H
BEGIN:VTIMEZONE
TZID:UTC
BEGIN:STANDARD
TZOFFSETFROM:+0000
TZOFFSETTO:+0000
TZNAME:UTC
DTSTART:20210101T000000
END:STANDARD
END:VTIMEZONE
BEGIN:VTIMEZONE
TZID:America/New_York
BEGIN:DAYLIGHT
TZOFFSETFROM:-0500
TZOFFSETTO:-0400
TZNAME:EDT
DTSTART:20210314T070000
END:DAYLIGHT
BEGIN:STANDARD
TZOFFSETFROM:-0400
TZOFFSETTO:-0500
TZNAME:EST
DTSTART:20211107T060000
END:STANDARD
BEGIN:DAYLIGHT
TZOFFSETFROM:-0500
TZOFFSETTO:-0400
TZNAME:EDT
DTSTART:20220313T070000
END:DAYLIGHT
BEGIN:STANDARD
TZOFFSETFROM:-0400
TZOFFSETTO:-0500
TZNAME:EST
DTSTART:20221106T060000
END:STANDARD
BEGIN:DAYLIGHT
TZOFFSETFROM:-0500
TZOFFSETTO:-0400
TZNAME:EDT
DTSTART:20230312T070000
END:DAYLIGHT
BEGIN:STANDARD
TZOFFSETFROM:-0400
TZOFFSETTO:-0500
TZNAME:EST
DTSTART:20231105T060000
END:STANDARD
END:VTIMEZONE
BEGIN:VEVENT
DTSTART;TZID=UTC:20221105T090000
DTEND;TZID=UTC:20221105T102000
DTSTAMP:20260424T042226
CREATED:20190310T191142Z
LAST-MODIFIED:20230830T175415Z
UID:10001273-1667638800-1667643600@waverlychurch.org
SUMMARY:Narcotics Anonymous
DESCRIPTION:Narcotics Anonymous is holding in-person meetings in the Social Hall.
URL:https://waverlychurch.org/event/na-2020-03-21-2021-07-10/2022-11-05/
END:VEVENT
BEGIN:VEVENT
DTSTART;TZID=America/New_York:20221106T110000
DTEND;TZID=America/New_York:20221106T120000
DTSTAMP:20260424T042226
CREATED:20210715T194724Z
LAST-MODIFIED:20230529T213105Z
UID:10000848-1667732400-1667736000@waverlychurch.org
SUMMARY:Worship Service
DESCRIPTION:We meet on Sundays in our Sanctuary at 11am and stream services online. \nSunday’s worship service will be live-streamed over our Facebook page on Sunday morning and the scripture and sermon will be on SoundCloud. \nhttps://waverlychurch.org/worship/guidelines-for-in-person-worship/ \nhttps://www.facebook.com/pg/WaverlyChurch/videos/ \n  \n 
URL:https://waverlychurch.org/event/worship-service-3-2022-06-05-2022-08-07-2022-09-11/2022-11-06/
LOCATION:Sanctuary
END:VEVENT
BEGIN:VEVENT
DTSTART;TZID=America/New_York:20221106T120000
DTEND;TZID=America/New_York:20221106T123000
DTSTAMP:20260424T042226
CREATED:20220623T210815Z
LAST-MODIFIED:20220623T210831Z
UID:10005054-1667736000-1667737800@waverlychurch.org
SUMMARY:Coffee Hour
DESCRIPTION:Immediately following the service\, we hope you can stay to enjoy fellowship with the Waverly community.
URL:https://waverlychurch.org/event/coffee-hour-2/2022-11-06/
LOCATION:Social Hall
END:VEVENT
BEGIN:VEVENT
DTSTART;TZID=America/New_York:20221106T193000
DTEND;TZID=America/New_York:20221106T210000
DTSTAMP:20260424T042226
CREATED:20190310T184702Z
LAST-MODIFIED:20220704T145322Z
UID:10000503-1667763000-1667768400@waverlychurch.org
SUMMARY:Alcoholics Anonymous
DESCRIPTION:The Frick Park Group of Alcoholics Anonymous is holding in-person meetings in the Social Hall. \nAdditional links for AA groups are posted online at the AA Central Office.\nhttps://www.pghaa.org/
URL:https://waverlychurch.org/event/aa-2020-03-22-2021-07-04/2022-11-06/
LOCATION:Social Hall
END:VEVENT
BEGIN:VEVENT
DTSTART;TZID=America/New_York:20221108T090000
DTEND;TZID=America/New_York:20221108T140000
DTSTAMP:20260424T042226
CREATED:20220512T233522Z
LAST-MODIFIED:20220704T145940Z
UID:10003563-1667898000-1667916000@waverlychurch.org
SUMMARY:Foundation of HOPE Aftercare Program
DESCRIPTION:Aftercare support for anyone who was previously incarcerated by appointment only – Tuesdays from 9am – 2pm and Thursdays from 12pm – 5pm – call 412-321-3343 to schedule; www.foundationofhope.org for more information.
URL:https://waverlychurch.org/event/foundation-of-hope-aftercare-program/2022-11-08/
LOCATION:Social Hall
END:VEVENT
BEGIN:VEVENT
DTSTART;TZID=America/New_York:20221108T190000
DTEND;TZID=America/New_York:20221108T193000
DTSTAMP:20260424T042226
CREATED:20210711T201005Z
LAST-MODIFIED:20220704T150145Z
UID:10000152-1667934000-1667935800@waverlychurch.org
SUMMARY:Al-Anon [Beginners' Meeting]
DESCRIPTION:The Frick Park Al-Anon group may still be virtual. \nContact frickparkafg85[at]gmail.com with any questions.
URL:https://waverlychurch.org/event/al-anon-beginners-meeting-2022-01-04-2022-04-05/2022-11-08/
LOCATION:Social Hall
END:VEVENT
BEGIN:VEVENT
DTSTART;TZID=UTC:20221108T193000
DTEND;TZID=UTC:20221108T203000
DTSTAMP:20260424T042227
CREATED:20190310T185001Z
LAST-MODIFIED:20220331T225559Z
UID:10002381-1667935800-1667939400@waverlychurch.org
SUMMARY:Al-Anon
DESCRIPTION:The Frick Park Al-Anon is holding in-person meetings in the Social Hall. \nContact frickparkafg85[at]gmail.com with any questions.
URL:https://waverlychurch.org/event/al-anon-2020-03-24-2021-07-06-2021-07-13/2022-11-08/
END:VEVENT
BEGIN:VEVENT
DTSTART;TZID=America/New_York:20221108T193000
DTEND;TZID=America/New_York:20221108T203000
DTSTAMP:20260424T042227
CREATED:20190310T185001Z
LAST-MODIFIED:20220704T150031Z
UID:10004141-1667935800-1667939400@waverlychurch.org
SUMMARY:Al-Anon
DESCRIPTION:The Frick Park Al-Anon group may still be virtual. \nContact frickparkafg85[at]gmail.com with any questions.
URL:https://waverlychurch.org/event/al-anon-2020-03-24-2021-07-06-2021-07-20-2022-01-04-2022-04-05/2022-11-08/
END:VEVENT
BEGIN:VEVENT
DTSTART;TZID=UTC:20221108T193000
DTEND;TZID=UTC:20221108T210000
DTSTAMP:20260424T042227
CREATED:20190310T185001Z
LAST-MODIFIED:20201211T021356Z
UID:10001688-1667935800-1667941200@waverlychurch.org
SUMMARY:Al-Anon [Virtual Meeting]
DESCRIPTION:Due to COVID-19 precautions\, the Frick Park Al-Anon is meeting virtually. \nContact frickparkafg85[at]gmail.com for the link. \nIn-person meetings will resume when it is safe to do so.
URL:https://waverlychurch.org/event/al-anon-2020-03-24/2022-11-08/
END:VEVENT
BEGIN:VEVENT
DTSTART;TZID=America/New_York:20221110T120000
DTEND;TZID=America/New_York:20221110T170000
DTSTAMP:20260424T042227
CREATED:20220512T233651Z
LAST-MODIFIED:20220623T205155Z
UID:10003228-1668081600-1668099600@waverlychurch.org
SUMMARY:Foundation of HOPE Aftercare Program
DESCRIPTION:Aftercare support for anyone who was previously incarcerated by appointment only – Tuesdays from 9am – 2pm and Thursdays from 12pm – 5pm – call 412-321-3343 to schedule; www.foundationofhope.org for more information.
URL:https://waverlychurch.org/event/foundation-of-hope-aftercare-program-2/2022-11-10/
LOCATION:Social Hall
END:VEVENT
BEGIN:VEVENT
DTSTART;TZID=UTC:20221112T090000
DTEND;TZID=UTC:20221112T102000
DTSTAMP:20260424T042227
CREATED:20190310T191142Z
LAST-MODIFIED:20230830T175415Z
UID:10001274-1668243600-1668248400@waverlychurch.org
SUMMARY:Narcotics Anonymous
DESCRIPTION:Narcotics Anonymous is holding in-person meetings in the Social Hall.
URL:https://waverlychurch.org/event/na-2020-03-21-2021-07-10/2022-11-12/
END:VEVENT
BEGIN:VEVENT
DTSTART;TZID=America/New_York:20221113T110000
DTEND;TZID=America/New_York:20221113T120000
DTSTAMP:20260424T042227
CREATED:20210715T194724Z
LAST-MODIFIED:20230529T213105Z
UID:10000849-1668337200-1668340800@waverlychurch.org
SUMMARY:Worship Service
DESCRIPTION:We meet on Sundays in our Sanctuary at 11am and stream services online. \nSunday’s worship service will be live-streamed over our Facebook page on Sunday morning and the scripture and sermon will be on SoundCloud. \nhttps://waverlychurch.org/worship/guidelines-for-in-person-worship/ \nhttps://www.facebook.com/pg/WaverlyChurch/videos/ \n  \n 
URL:https://waverlychurch.org/event/worship-service-3-2022-06-05-2022-08-07-2022-09-11/2022-11-13/
LOCATION:Sanctuary
END:VEVENT
BEGIN:VEVENT
DTSTART;TZID=America/New_York:20221113T120000
DTEND;TZID=America/New_York:20221113T123000
DTSTAMP:20260424T042227
CREATED:20220623T210815Z
LAST-MODIFIED:20220623T210831Z
UID:10005055-1668340800-1668342600@waverlychurch.org
SUMMARY:Coffee Hour
DESCRIPTION:Immediately following the service\, we hope you can stay to enjoy fellowship with the Waverly community.
URL:https://waverlychurch.org/event/coffee-hour-2/2022-11-13/
LOCATION:Social Hall
END:VEVENT
BEGIN:VEVENT
DTSTART;TZID=America/New_York:20221113T193000
DTEND;TZID=America/New_York:20221113T210000
DTSTAMP:20260424T042227
CREATED:20190310T184702Z
LAST-MODIFIED:20220704T145322Z
UID:10000504-1668367800-1668373200@waverlychurch.org
SUMMARY:Alcoholics Anonymous
DESCRIPTION:The Frick Park Group of Alcoholics Anonymous is holding in-person meetings in the Social Hall. \nAdditional links for AA groups are posted online at the AA Central Office.\nhttps://www.pghaa.org/
URL:https://waverlychurch.org/event/aa-2020-03-22-2021-07-04/2022-11-13/
LOCATION:Social Hall
END:VEVENT
BEGIN:VEVENT
DTSTART;TZID=America/New_York:20221115T090000
DTEND;TZID=America/New_York:20221115T140000
DTSTAMP:20260424T042227
CREATED:20220512T233522Z
LAST-MODIFIED:20220704T145940Z
UID:10003564-1668502800-1668520800@waverlychurch.org
SUMMARY:Foundation of HOPE Aftercare Program
DESCRIPTION:Aftercare support for anyone who was previously incarcerated by appointment only – Tuesdays from 9am – 2pm and Thursdays from 12pm – 5pm – call 412-321-3343 to schedule; www.foundationofhope.org for more information.
URL:https://waverlychurch.org/event/foundation-of-hope-aftercare-program/2022-11-15/
LOCATION:Social Hall
END:VEVENT
BEGIN:VEVENT
DTSTART;TZID=America/New_York:20221115T190000
DTEND;TZID=America/New_York:20221115T193000
DTSTAMP:20260424T042227
CREATED:20210711T201005Z
LAST-MODIFIED:20220704T150145Z
UID:10000153-1668538800-1668540600@waverlychurch.org
SUMMARY:Al-Anon [Beginners' Meeting]
DESCRIPTION:The Frick Park Al-Anon group may still be virtual. \nContact frickparkafg85[at]gmail.com with any questions.
URL:https://waverlychurch.org/event/al-anon-beginners-meeting-2022-01-04-2022-04-05/2022-11-15/
LOCATION:Social Hall
END:VEVENT
BEGIN:VEVENT
DTSTART;TZID=UTC:20221115T193000
DTEND;TZID=UTC:20221115T203000
DTSTAMP:20260424T042227
CREATED:20190310T185001Z
LAST-MODIFIED:20220331T225559Z
UID:10002382-1668540600-1668544200@waverlychurch.org
SUMMARY:Al-Anon
DESCRIPTION:The Frick Park Al-Anon is holding in-person meetings in the Social Hall. \nContact frickparkafg85[at]gmail.com with any questions.
URL:https://waverlychurch.org/event/al-anon-2020-03-24-2021-07-06-2021-07-13/2022-11-15/
END:VEVENT
BEGIN:VEVENT
DTSTART;TZID=America/New_York:20221115T193000
DTEND;TZID=America/New_York:20221115T203000
DTSTAMP:20260424T042227
CREATED:20190310T185001Z
LAST-MODIFIED:20220704T150031Z
UID:10004142-1668540600-1668544200@waverlychurch.org
SUMMARY:Al-Anon
DESCRIPTION:The Frick Park Al-Anon group may still be virtual. \nContact frickparkafg85[at]gmail.com with any questions.
URL:https://waverlychurch.org/event/al-anon-2020-03-24-2021-07-06-2021-07-20-2022-01-04-2022-04-05/2022-11-15/
END:VEVENT
BEGIN:VEVENT
DTSTART;TZID=UTC:20221115T193000
DTEND;TZID=UTC:20221115T210000
DTSTAMP:20260424T042227
CREATED:20190310T185001Z
LAST-MODIFIED:20201211T021356Z
UID:10001689-1668540600-1668546000@waverlychurch.org
SUMMARY:Al-Anon [Virtual Meeting]
DESCRIPTION:Due to COVID-19 precautions\, the Frick Park Al-Anon is meeting virtually. \nContact frickparkafg85[at]gmail.com for the link. \nIn-person meetings will resume when it is safe to do so.
URL:https://waverlychurch.org/event/al-anon-2020-03-24/2022-11-15/
END:VEVENT
BEGIN:VEVENT
DTSTART;TZID=America/New_York:20221117T120000
DTEND;TZID=America/New_York:20221117T170000
DTSTAMP:20260424T042227
CREATED:20220512T233651Z
LAST-MODIFIED:20220623T205155Z
UID:10003229-1668686400-1668704400@waverlychurch.org
SUMMARY:Foundation of HOPE Aftercare Program
DESCRIPTION:Aftercare support for anyone who was previously incarcerated by appointment only – Tuesdays from 9am – 2pm and Thursdays from 12pm – 5pm – call 412-321-3343 to schedule; www.foundationofhope.org for more information.
URL:https://waverlychurch.org/event/foundation-of-hope-aftercare-program-2/2022-11-17/
LOCATION:Social Hall
END:VEVENT
BEGIN:VEVENT
DTSTART;TZID=UTC:20221119T090000
DTEND;TZID=UTC:20221119T102000
DTSTAMP:20260424T042227
CREATED:20190310T191142Z
LAST-MODIFIED:20230830T175415Z
UID:10001275-1668848400-1668853200@waverlychurch.org
SUMMARY:Narcotics Anonymous
DESCRIPTION:Narcotics Anonymous is holding in-person meetings in the Social Hall.
URL:https://waverlychurch.org/event/na-2020-03-21-2021-07-10/2022-11-19/
END:VEVENT
BEGIN:VEVENT
DTSTART;TZID=America/New_York:20221120T110000
DTEND;TZID=America/New_York:20221120T120000
DTSTAMP:20260424T042227
CREATED:20210715T194724Z
LAST-MODIFIED:20230529T213105Z
UID:10000850-1668942000-1668945600@waverlychurch.org
SUMMARY:Worship Service
DESCRIPTION:We meet on Sundays in our Sanctuary at 11am and stream services online. \nSunday’s worship service will be live-streamed over our Facebook page on Sunday morning and the scripture and sermon will be on SoundCloud. \nhttps://waverlychurch.org/worship/guidelines-for-in-person-worship/ \nhttps://www.facebook.com/pg/WaverlyChurch/videos/ \n  \n 
URL:https://waverlychurch.org/event/worship-service-3-2022-06-05-2022-08-07-2022-09-11/2022-11-20/
LOCATION:Sanctuary
END:VEVENT
BEGIN:VEVENT
DTSTART;TZID=America/New_York:20221120T120000
DTEND;TZID=America/New_York:20221120T123000
DTSTAMP:20260424T042227
CREATED:20220623T210815Z
LAST-MODIFIED:20220623T210831Z
UID:10005056-1668945600-1668947400@waverlychurch.org
SUMMARY:Coffee Hour
DESCRIPTION:Immediately following the service\, we hope you can stay to enjoy fellowship with the Waverly community.
URL:https://waverlychurch.org/event/coffee-hour-2/2022-11-20/
LOCATION:Social Hall
END:VEVENT
BEGIN:VEVENT
DTSTART;TZID=America/New_York:20221120T193000
DTEND;TZID=America/New_York:20221120T210000
DTSTAMP:20260424T042227
CREATED:20190310T184702Z
LAST-MODIFIED:20220704T145322Z
UID:10000505-1668972600-1668978000@waverlychurch.org
SUMMARY:Alcoholics Anonymous
DESCRIPTION:The Frick Park Group of Alcoholics Anonymous is holding in-person meetings in the Social Hall. \nAdditional links for AA groups are posted online at the AA Central Office.\nhttps://www.pghaa.org/
URL:https://waverlychurch.org/event/aa-2020-03-22-2021-07-04/2022-11-20/
LOCATION:Social Hall
END:VEVENT
BEGIN:VEVENT
DTSTART;TZID=America/New_York:20221122T090000
DTEND;TZID=America/New_York:20221122T140000
DTSTAMP:20260424T042227
CREATED:20220512T233522Z
LAST-MODIFIED:20220704T145940Z
UID:10003565-1669107600-1669125600@waverlychurch.org
SUMMARY:Foundation of HOPE Aftercare Program
DESCRIPTION:Aftercare support for anyone who was previously incarcerated by appointment only – Tuesdays from 9am – 2pm and Thursdays from 12pm – 5pm – call 412-321-3343 to schedule; www.foundationofhope.org for more information.
URL:https://waverlychurch.org/event/foundation-of-hope-aftercare-program/2022-11-22/
LOCATION:Social Hall
END:VEVENT
BEGIN:VEVENT
DTSTART;TZID=America/New_York:20221122T190000
DTEND;TZID=America/New_York:20221122T193000
DTSTAMP:20260424T042227
CREATED:20210711T201005Z
LAST-MODIFIED:20220704T150145Z
UID:10000154-1669143600-1669145400@waverlychurch.org
SUMMARY:Al-Anon [Beginners' Meeting]
DESCRIPTION:The Frick Park Al-Anon group may still be virtual. \nContact frickparkafg85[at]gmail.com with any questions.
URL:https://waverlychurch.org/event/al-anon-beginners-meeting-2022-01-04-2022-04-05/2022-11-22/
LOCATION:Social Hall
END:VEVENT
BEGIN:VEVENT
DTSTART;TZID=UTC:20221122T193000
DTEND;TZID=UTC:20221122T203000
DTSTAMP:20260424T042227
CREATED:20190310T185001Z
LAST-MODIFIED:20220331T225559Z
UID:10002383-1669145400-1669149000@waverlychurch.org
SUMMARY:Al-Anon
DESCRIPTION:The Frick Park Al-Anon is holding in-person meetings in the Social Hall. \nContact frickparkafg85[at]gmail.com with any questions.
URL:https://waverlychurch.org/event/al-anon-2020-03-24-2021-07-06-2021-07-13/2022-11-22/
END:VEVENT
BEGIN:VEVENT
DTSTART;TZID=America/New_York:20221122T193000
DTEND;TZID=America/New_York:20221122T203000
DTSTAMP:20260424T042227
CREATED:20190310T185001Z
LAST-MODIFIED:20220704T150031Z
UID:10004143-1669145400-1669149000@waverlychurch.org
SUMMARY:Al-Anon
DESCRIPTION:The Frick Park Al-Anon group may still be virtual. \nContact frickparkafg85[at]gmail.com with any questions.
URL:https://waverlychurch.org/event/al-anon-2020-03-24-2021-07-06-2021-07-20-2022-01-04-2022-04-05/2022-11-22/
END:VEVENT
BEGIN:VEVENT
DTSTART;TZID=UTC:20221122T193000
DTEND;TZID=UTC:20221122T210000
DTSTAMP:20260424T042227
CREATED:20190310T185001Z
LAST-MODIFIED:20201211T021356Z
UID:10001690-1669145400-1669150800@waverlychurch.org
SUMMARY:Al-Anon [Virtual Meeting]
DESCRIPTION:Due to COVID-19 precautions\, the Frick Park Al-Anon is meeting virtually. \nContact frickparkafg85[at]gmail.com for the link. \nIn-person meetings will resume when it is safe to do so.
URL:https://waverlychurch.org/event/al-anon-2020-03-24/2022-11-22/
END:VEVENT
BEGIN:VEVENT
DTSTART;TZID=America/New_York:20221124T120000
DTEND;TZID=America/New_York:20221124T170000
DTSTAMP:20260424T042227
CREATED:20220512T233651Z
LAST-MODIFIED:20220623T205155Z
UID:10003230-1669291200-1669309200@waverlychurch.org
SUMMARY:Foundation of HOPE Aftercare Program
DESCRIPTION:Aftercare support for anyone who was previously incarcerated by appointment only – Tuesdays from 9am – 2pm and Thursdays from 12pm – 5pm – call 412-321-3343 to schedule; www.foundationofhope.org for more information.
URL:https://waverlychurch.org/event/foundation-of-hope-aftercare-program-2/2022-11-24/
LOCATION:Social Hall
END:VEVENT
END:VCALENDAR