BEGIN:VCALENDAR
VERSION:2.0
PRODID:-//Waverly Presbyterian Church - ECPv6.15.20//NONSGML v1.0//EN
CALSCALE:GREGORIAN
METHOD:PUBLISH
X-WR-CALNAME:Waverly Presbyterian Church
X-ORIGINAL-URL:https://waverlychurch.org
X-WR-CALDESC:Events for Waverly Presbyterian Church
REFRESH-INTERVAL;VALUE=DURATION:PT1H
X-Robots-Tag:noindex
X-PUBLISHED-TTL:PT1H
BEGIN:VTIMEZONE
TZID:America/New_York
BEGIN:DAYLIGHT
TZOFFSETFROM:-0500
TZOFFSETTO:-0400
TZNAME:EDT
DTSTART:20220313T070000
END:DAYLIGHT
BEGIN:STANDARD
TZOFFSETFROM:-0400
TZOFFSETTO:-0500
TZNAME:EST
DTSTART:20221106T060000
END:STANDARD
BEGIN:DAYLIGHT
TZOFFSETFROM:-0500
TZOFFSETTO:-0400
TZNAME:EDT
DTSTART:20230312T070000
END:DAYLIGHT
BEGIN:STANDARD
TZOFFSETFROM:-0400
TZOFFSETTO:-0500
TZNAME:EST
DTSTART:20231105T060000
END:STANDARD
BEGIN:DAYLIGHT
TZOFFSETFROM:-0500
TZOFFSETTO:-0400
TZNAME:EDT
DTSTART:20240310T070000
END:DAYLIGHT
BEGIN:STANDARD
TZOFFSETFROM:-0400
TZOFFSETTO:-0500
TZNAME:EST
DTSTART:20241103T060000
END:STANDARD
END:VTIMEZONE
BEGIN:VTIMEZONE
TZID:UTC
BEGIN:STANDARD
TZOFFSETFROM:+0000
TZOFFSETTO:+0000
TZNAME:UTC
DTSTART:20220101T000000
END:STANDARD
END:VTIMEZONE
BEGIN:VEVENT
DTSTART;TZID=America/New_York:20231028T090000
DTEND;TZID=America/New_York:20231028T130000
DTSTAMP:20260422T184022
CREATED:20231003T205540Z
LAST-MODIFIED:20231003T205540Z
UID:10006878-1698483600-1698498000@waverlychurch.org
SUMMARY:Work Day
DESCRIPTION:All welcome to help us spruce up the space for the season!
URL:https://waverlychurch.org/event/work-day-2/
END:VEVENT
BEGIN:VEVENT
DTSTART;TZID=America/New_York:20231028T190000
DTEND;TZID=America/New_York:20231028T203000
DTSTAMP:20260422T184022
CREATED:20231003T205714Z
LAST-MODIFIED:20231003T205806Z
UID:10006879-1698519600-1698525000@waverlychurch.org
SUMMARY:Fundraising Concert
DESCRIPTION:In This Heart concert with performances by the East Shore Chorale and snacks from Waverly Presbyterian Church. Donations will be split between the two organizations.
URL:https://waverlychurch.org/event/fundraising-concert/
LOCATION:Sanctuary
END:VEVENT
BEGIN:VEVENT
DTSTART;TZID=America/New_York:20231029T100000
DTEND;TZID=America/New_York:20231029T105500
DTSTAMP:20260422T184022
CREATED:20230830T170506Z
LAST-MODIFIED:20231113T180304Z
UID:10005988-1698573600-1698576900@waverlychurch.org
SUMMARY:Sunday School
DESCRIPTION:All ages are welcome to join us each week for Sunday School in the following locations: \nChildren up through 1st grade: nursery (downstairs\, right side of front entrance – ring bell to enter) \nChildren in 2nd-5th grade: the “Frog Pond” – room off of our lower floor social hall \nYouth in 6th-12th grade” the “Wonka Room” – room off of our lower floor social hall \nAdults: lounge (upstairs in back of church)
URL:https://waverlychurch.org/event/sunday-school-3/2023-10-29/
END:VEVENT
BEGIN:VEVENT
DTSTART;TZID=America/New_York:20231029T110000
DTEND;TZID=America/New_York:20231029T121500
DTSTAMP:20260422T184022
CREATED:20230830T170132Z
LAST-MODIFIED:20230830T170527Z
UID:10006247-1698577200-1698581700@waverlychurch.org
SUMMARY:Worship Service
DESCRIPTION:We meet on Sundays in our Sanctuary at 11am during the school year and stream services online. \nSunday’s worship service will be live-streamed over our Facebook page on Sunday mornings. \n \nhttps://www.facebook.com/pg/WaverlyChurch/videos/
URL:https://waverlychurch.org/event/worship-2/2023-10-29/
LOCATION:Sanctuary
END:VEVENT
BEGIN:VEVENT
DTSTART;TZID=America/New_York:20231029T121500
DTEND;TZID=America/New_York:20231029T133000
DTSTAMP:20260422T184022
CREATED:20230903T190321Z
LAST-MODIFIED:20231113T180559Z
UID:10006532-1698581700-1698586200@waverlychurch.org
SUMMARY:Coffee Hour
DESCRIPTION:Join us after service weekly for a chance to share fellowship over coffee and snacks
URL:https://waverlychurch.org/event/coffee-hour-3/2023-10-29/
LOCATION:Lounge
END:VEVENT
BEGIN:VEVENT
DTSTART;TZID=America/New_York:20231029T193000
DTEND;TZID=America/New_York:20231029T210000
DTSTAMP:20260422T184022
CREATED:20190310T184702Z
LAST-MODIFIED:20220704T145322Z
UID:10000554-1698607800-1698613200@waverlychurch.org
SUMMARY:Alcoholics Anonymous
DESCRIPTION:The Frick Park Group of Alcoholics Anonymous is holding in-person meetings in the Social Hall. \nAdditional links for AA groups are posted online at the AA Central Office.\nhttps://www.pghaa.org/
URL:https://waverlychurch.org/event/aa-2020-03-22-2021-07-04/2023-10-29/
LOCATION:Social Hall
END:VEVENT
BEGIN:VEVENT
DTSTART;TZID=America/New_York:20231031T190000
DTEND;TZID=America/New_York:20231031T193000
DTSTAMP:20260422T184022
CREATED:20210711T201005Z
LAST-MODIFIED:20220704T150145Z
UID:10000203-1698778800-1698780600@waverlychurch.org
SUMMARY:Al-Anon [Beginners' Meeting]
DESCRIPTION:The Frick Park Al-Anon group may still be virtual. \nContact frickparkafg85[at]gmail.com with any questions.
URL:https://waverlychurch.org/event/al-anon-beginners-meeting-2022-01-04-2022-04-05/2023-10-31/
LOCATION:Social Hall
END:VEVENT
BEGIN:VEVENT
DTSTART;TZID=UTC:20231031T193000
DTEND;TZID=UTC:20231031T203000
DTSTAMP:20260422T184022
CREATED:20190310T185001Z
LAST-MODIFIED:20220331T225559Z
UID:10002432-1698780600-1698784200@waverlychurch.org
SUMMARY:Al-Anon
DESCRIPTION:The Frick Park Al-Anon is holding in-person meetings in the Social Hall. \nContact frickparkafg85[at]gmail.com with any questions.
URL:https://waverlychurch.org/event/al-anon-2020-03-24-2021-07-06-2021-07-13/2023-10-31/
END:VEVENT
BEGIN:VEVENT
DTSTART;TZID=America/New_York:20231102T090000
DTEND;TZID=America/New_York:20231102T100000
DTSTAMP:20260422T184022
CREATED:20230821T174336Z
LAST-MODIFIED:20230821T174336Z
UID:10005925-1698915600-1698919200@waverlychurch.org
SUMMARY:Five Element Qigong Class
DESCRIPTION:Qigong is a practice that encourages the circulation of “qi” or life energy. In this class we will utilize gentle movements and stretching\, acupressure\, breath awareness and visualization to encourage the flow of qi. \nBased in Taoist Five Element Theory\, this style of qigong highlights the dynamic relationship between yin (organizing\, receptive\, cooling) and yang (animating\, expressive\, warming). \nThrough persistent effort we can strengthen our connection to the rhythms of nature and optimize our functionality. \n$40 for a six-week session. This practice requires no props and can be enjoyed standing or seated in a chair. Contact laurakbudde@gmail.com to register.
URL:https://waverlychurch.org/event/five-element-qigong-class/2023-11-02/
LOCATION:Social Hall
END:VEVENT
BEGIN:VEVENT
DTSTART;TZID=America/New_York:20231102T103000
DTEND;TZID=America/New_York:20231102T113000
DTSTAMP:20260422T184022
CREATED:20230821T174744Z
LAST-MODIFIED:20230821T174744Z
UID:10005947-1698921000-1698924600@waverlychurch.org
SUMMARY:Yoga
DESCRIPTION:Nurture a meaningful yoga practice that promotes a balanced body and mind. \nClasses incorporate gentle and hatha yoga with strengthening and restorative postures. Sequencing and anatomical awareness is structured to increase enjoyment and accessibility. \nWhether you have an established yoga practice or are interested in trying it out for the first time you will be encouraged to listen to your body\, and make adjustments that speak to your experience. \nThis class requires a yoga mat and a towel or blanket\, with yoga blocks and a strap highly suggested. \n$40 for a six-week session. Contact laurakbudde@gmail.com to register.
URL:https://waverlychurch.org/event/yoga/2023-11-02/
END:VEVENT
BEGIN:VEVENT
DTSTART;TZID=America/New_York:20231103T103000
DTEND;TZID=America/New_York:20231103T113000
DTSTAMP:20260422T184022
CREATED:20230821T174554Z
LAST-MODIFIED:20230821T175211Z
UID:10005936-1699007400-1699011000@waverlychurch.org
SUMMARY:Tai Chi for Health Part I
DESCRIPTION:Learn or return to Tai Chi for Health Part 1! This tai chi form focuses on posture and stability while enhancing the connection between the brain and the body. \nNew movements will be added each class as we explore concepts of tai chi practice and enjoy performing this moving meditation. \nThis class requires no props but does require standing.  \nThe full form will be taught over the course of two six-week sessions. Regular attendance and practice at home is necessary to learn and benefit from tai chi. \n$40 for a six-week session. Contact laurakbudde@gmail.com to register.
URL:https://waverlychurch.org/event/tai-chi-for-health-part-i/2023-11-03/
END:VEVENT
BEGIN:VEVENT
DTSTART;TZID=UTC:20231104T090000
DTEND;TZID=UTC:20231104T102000
DTSTAMP:20260422T184022
CREATED:20190310T191142Z
LAST-MODIFIED:20230830T175415Z
UID:10001325-1699088400-1699093200@waverlychurch.org
SUMMARY:Narcotics Anonymous
DESCRIPTION:Narcotics Anonymous is holding in-person meetings in the Social Hall.
URL:https://waverlychurch.org/event/na-2020-03-21-2021-07-10/2023-11-04/
END:VEVENT
BEGIN:VEVENT
DTSTART;TZID=America/New_York:20231104T180000
DTEND;TZID=America/New_York:20231104T200000
DTSTAMP:20260422T184022
CREATED:20231003T205921Z
LAST-MODIFIED:20231003T205921Z
UID:10006880-1699120800-1699128000@waverlychurch.org
SUMMARY:Opera House Movie Night
DESCRIPTION:Join us for pizza\, popcorn\, and a showing of an Opera House from years past
URL:https://waverlychurch.org/event/opera-house-movie-night/
LOCATION:Social Hall
END:VEVENT
BEGIN:VEVENT
DTSTART;TZID=America/New_York:20231105T100000
DTEND;TZID=America/New_York:20231105T105500
DTSTAMP:20260422T184022
CREATED:20230830T170506Z
LAST-MODIFIED:20231113T180304Z
UID:10005989-1699178400-1699181700@waverlychurch.org
SUMMARY:Sunday School
DESCRIPTION:All ages are welcome to join us each week for Sunday School in the following locations: \nChildren up through 1st grade: nursery (downstairs\, right side of front entrance – ring bell to enter) \nChildren in 2nd-5th grade: the “Frog Pond” – room off of our lower floor social hall \nYouth in 6th-12th grade” the “Wonka Room” – room off of our lower floor social hall \nAdults: lounge (upstairs in back of church)
URL:https://waverlychurch.org/event/sunday-school-3/2023-11-05/
END:VEVENT
BEGIN:VEVENT
DTSTART;TZID=America/New_York:20231105T110000
DTEND;TZID=America/New_York:20231105T121500
DTSTAMP:20260422T184022
CREATED:20230830T170132Z
LAST-MODIFIED:20230830T170527Z
UID:10006248-1699182000-1699186500@waverlychurch.org
SUMMARY:Worship Service
DESCRIPTION:We meet on Sundays in our Sanctuary at 11am during the school year and stream services online. \nSunday’s worship service will be live-streamed over our Facebook page on Sunday mornings. \n \nhttps://www.facebook.com/pg/WaverlyChurch/videos/
URL:https://waverlychurch.org/event/worship-2/2023-11-05/
LOCATION:Sanctuary
END:VEVENT
BEGIN:VEVENT
DTSTART;TZID=America/New_York:20231105T121500
DTEND;TZID=America/New_York:20231105T133000
DTSTAMP:20260422T184022
CREATED:20230903T190321Z
LAST-MODIFIED:20231113T180559Z
UID:10006533-1699186500-1699191000@waverlychurch.org
SUMMARY:Coffee Hour
DESCRIPTION:Join us after service weekly for a chance to share fellowship over coffee and snacks
URL:https://waverlychurch.org/event/coffee-hour-3/2023-11-05/
LOCATION:Lounge
END:VEVENT
BEGIN:VEVENT
DTSTART;TZID=America/New_York:20231105T193000
DTEND;TZID=America/New_York:20231105T210000
DTSTAMP:20260422T184022
CREATED:20190310T184702Z
LAST-MODIFIED:20220704T145322Z
UID:10000555-1699212600-1699218000@waverlychurch.org
SUMMARY:Alcoholics Anonymous
DESCRIPTION:The Frick Park Group of Alcoholics Anonymous is holding in-person meetings in the Social Hall. \nAdditional links for AA groups are posted online at the AA Central Office.\nhttps://www.pghaa.org/
URL:https://waverlychurch.org/event/aa-2020-03-22-2021-07-04/2023-11-05/
LOCATION:Social Hall
END:VEVENT
BEGIN:VEVENT
DTSTART;TZID=America/New_York:20231107T190000
DTEND;TZID=America/New_York:20231107T193000
DTSTAMP:20260422T184022
CREATED:20210711T201005Z
LAST-MODIFIED:20220704T150145Z
UID:10000204-1699383600-1699385400@waverlychurch.org
SUMMARY:Al-Anon [Beginners' Meeting]
DESCRIPTION:The Frick Park Al-Anon group may still be virtual. \nContact frickparkafg85[at]gmail.com with any questions.
URL:https://waverlychurch.org/event/al-anon-beginners-meeting-2022-01-04-2022-04-05/2023-11-07/
LOCATION:Social Hall
END:VEVENT
BEGIN:VEVENT
DTSTART;TZID=UTC:20231107T193000
DTEND;TZID=UTC:20231107T203000
DTSTAMP:20260422T184022
CREATED:20190310T185001Z
LAST-MODIFIED:20220331T225559Z
UID:10002433-1699385400-1699389000@waverlychurch.org
SUMMARY:Al-Anon
DESCRIPTION:The Frick Park Al-Anon is holding in-person meetings in the Social Hall. \nContact frickparkafg85[at]gmail.com with any questions.
URL:https://waverlychurch.org/event/al-anon-2020-03-24-2021-07-06-2021-07-13/2023-11-07/
END:VEVENT
BEGIN:VEVENT
DTSTART;TZID=America/New_York:20231109T090000
DTEND;TZID=America/New_York:20231109T100000
DTSTAMP:20260422T184022
CREATED:20230821T174336Z
LAST-MODIFIED:20230821T174336Z
UID:10005926-1699520400-1699524000@waverlychurch.org
SUMMARY:Five Element Qigong Class
DESCRIPTION:Qigong is a practice that encourages the circulation of “qi” or life energy. In this class we will utilize gentle movements and stretching\, acupressure\, breath awareness and visualization to encourage the flow of qi. \nBased in Taoist Five Element Theory\, this style of qigong highlights the dynamic relationship between yin (organizing\, receptive\, cooling) and yang (animating\, expressive\, warming). \nThrough persistent effort we can strengthen our connection to the rhythms of nature and optimize our functionality. \n$40 for a six-week session. This practice requires no props and can be enjoyed standing or seated in a chair. Contact laurakbudde@gmail.com to register.
URL:https://waverlychurch.org/event/five-element-qigong-class/2023-11-09/
LOCATION:Social Hall
END:VEVENT
BEGIN:VEVENT
DTSTART;TZID=America/New_York:20231109T103000
DTEND;TZID=America/New_York:20231109T113000
DTSTAMP:20260422T184022
CREATED:20230821T174744Z
LAST-MODIFIED:20230821T174744Z
UID:10005948-1699525800-1699529400@waverlychurch.org
SUMMARY:Yoga
DESCRIPTION:Nurture a meaningful yoga practice that promotes a balanced body and mind. \nClasses incorporate gentle and hatha yoga with strengthening and restorative postures. Sequencing and anatomical awareness is structured to increase enjoyment and accessibility. \nWhether you have an established yoga practice or are interested in trying it out for the first time you will be encouraged to listen to your body\, and make adjustments that speak to your experience. \nThis class requires a yoga mat and a towel or blanket\, with yoga blocks and a strap highly suggested. \n$40 for a six-week session. Contact laurakbudde@gmail.com to register.
URL:https://waverlychurch.org/event/yoga/2023-11-09/
END:VEVENT
BEGIN:VEVENT
DTSTART;TZID=America/New_York:20231110T103000
DTEND;TZID=America/New_York:20231110T113000
DTSTAMP:20260422T184022
CREATED:20230821T174554Z
LAST-MODIFIED:20230821T175211Z
UID:10005937-1699612200-1699615800@waverlychurch.org
SUMMARY:Tai Chi for Health Part I
DESCRIPTION:Learn or return to Tai Chi for Health Part 1! This tai chi form focuses on posture and stability while enhancing the connection between the brain and the body. \nNew movements will be added each class as we explore concepts of tai chi practice and enjoy performing this moving meditation. \nThis class requires no props but does require standing.  \nThe full form will be taught over the course of two six-week sessions. Regular attendance and practice at home is necessary to learn and benefit from tai chi. \n$40 for a six-week session. Contact laurakbudde@gmail.com to register.
URL:https://waverlychurch.org/event/tai-chi-for-health-part-i/2023-11-10/
END:VEVENT
BEGIN:VEVENT
DTSTART;TZID=UTC:20231111T090000
DTEND;TZID=UTC:20231111T102000
DTSTAMP:20260422T184022
CREATED:20190310T191142Z
LAST-MODIFIED:20230830T175415Z
UID:10001326-1699693200-1699698000@waverlychurch.org
SUMMARY:Narcotics Anonymous
DESCRIPTION:Narcotics Anonymous is holding in-person meetings in the Social Hall.
URL:https://waverlychurch.org/event/na-2020-03-21-2021-07-10/2023-11-11/
END:VEVENT
BEGIN:VEVENT
DTSTART;TZID=America/New_York:20231112T100000
DTEND;TZID=America/New_York:20231112T105500
DTSTAMP:20260422T184022
CREATED:20230830T170506Z
LAST-MODIFIED:20231113T180304Z
UID:10005990-1699783200-1699786500@waverlychurch.org
SUMMARY:Sunday School
DESCRIPTION:All ages are welcome to join us each week for Sunday School in the following locations: \nChildren up through 1st grade: nursery (downstairs\, right side of front entrance – ring bell to enter) \nChildren in 2nd-5th grade: the “Frog Pond” – room off of our lower floor social hall \nYouth in 6th-12th grade” the “Wonka Room” – room off of our lower floor social hall \nAdults: lounge (upstairs in back of church)
URL:https://waverlychurch.org/event/sunday-school-3/2023-11-12/
END:VEVENT
BEGIN:VEVENT
DTSTART;TZID=America/New_York:20231112T110000
DTEND;TZID=America/New_York:20231112T121500
DTSTAMP:20260422T184022
CREATED:20230830T170132Z
LAST-MODIFIED:20230830T170527Z
UID:10006249-1699786800-1699791300@waverlychurch.org
SUMMARY:Worship Service
DESCRIPTION:We meet on Sundays in our Sanctuary at 11am during the school year and stream services online. \nSunday’s worship service will be live-streamed over our Facebook page on Sunday mornings. \n \nhttps://www.facebook.com/pg/WaverlyChurch/videos/
URL:https://waverlychurch.org/event/worship-2/2023-11-12/
LOCATION:Sanctuary
END:VEVENT
BEGIN:VEVENT
DTSTART;TZID=America/New_York:20231112T121500
DTEND;TZID=America/New_York:20231112T133000
DTSTAMP:20260422T184022
CREATED:20230903T190321Z
LAST-MODIFIED:20231113T180559Z
UID:10006534-1699791300-1699795800@waverlychurch.org
SUMMARY:Coffee Hour
DESCRIPTION:Join us after service weekly for a chance to share fellowship over coffee and snacks
URL:https://waverlychurch.org/event/coffee-hour-3/2023-11-12/
LOCATION:Lounge
END:VEVENT
BEGIN:VEVENT
DTSTART;TZID=America/New_York:20231112T193000
DTEND;TZID=America/New_York:20231112T210000
DTSTAMP:20260422T184022
CREATED:20190310T184702Z
LAST-MODIFIED:20220704T145322Z
UID:10000556-1699817400-1699822800@waverlychurch.org
SUMMARY:Alcoholics Anonymous
DESCRIPTION:The Frick Park Group of Alcoholics Anonymous is holding in-person meetings in the Social Hall. \nAdditional links for AA groups are posted online at the AA Central Office.\nhttps://www.pghaa.org/
URL:https://waverlychurch.org/event/aa-2020-03-22-2021-07-04/2023-11-12/
LOCATION:Social Hall
END:VEVENT
BEGIN:VEVENT
DTSTART;TZID=America/New_York:20231114T190000
DTEND;TZID=America/New_York:20231114T193000
DTSTAMP:20260422T184022
CREATED:20210711T201005Z
LAST-MODIFIED:20220704T150145Z
UID:10000205-1699988400-1699990200@waverlychurch.org
SUMMARY:Al-Anon [Beginners' Meeting]
DESCRIPTION:The Frick Park Al-Anon group may still be virtual. \nContact frickparkafg85[at]gmail.com with any questions.
URL:https://waverlychurch.org/event/al-anon-beginners-meeting-2022-01-04-2022-04-05/2023-11-14/
LOCATION:Social Hall
END:VEVENT
BEGIN:VEVENT
DTSTART;TZID=UTC:20231114T193000
DTEND;TZID=UTC:20231114T203000
DTSTAMP:20260422T184022
CREATED:20190310T185001Z
LAST-MODIFIED:20220331T225559Z
UID:10002434-1699990200-1699993800@waverlychurch.org
SUMMARY:Al-Anon
DESCRIPTION:The Frick Park Al-Anon is holding in-person meetings in the Social Hall. \nContact frickparkafg85[at]gmail.com with any questions.
URL:https://waverlychurch.org/event/al-anon-2020-03-24-2021-07-06-2021-07-13/2023-11-14/
END:VEVENT
BEGIN:VEVENT
DTSTART;TZID=America/New_York:20231116T090000
DTEND;TZID=America/New_York:20231116T100000
DTSTAMP:20260422T184022
CREATED:20230821T174336Z
LAST-MODIFIED:20230821T174336Z
UID:10005927-1700125200-1700128800@waverlychurch.org
SUMMARY:Five Element Qigong Class
DESCRIPTION:Qigong is a practice that encourages the circulation of “qi” or life energy. In this class we will utilize gentle movements and stretching\, acupressure\, breath awareness and visualization to encourage the flow of qi. \nBased in Taoist Five Element Theory\, this style of qigong highlights the dynamic relationship between yin (organizing\, receptive\, cooling) and yang (animating\, expressive\, warming). \nThrough persistent effort we can strengthen our connection to the rhythms of nature and optimize our functionality. \n$40 for a six-week session. This practice requires no props and can be enjoyed standing or seated in a chair. Contact laurakbudde@gmail.com to register.
URL:https://waverlychurch.org/event/five-element-qigong-class/2023-11-16/
LOCATION:Social Hall
END:VEVENT
END:VCALENDAR