BEGIN:VCALENDAR
VERSION:2.0
PRODID:-//Waverly Presbyterian Church - ECPv6.15.20//NONSGML v1.0//EN
CALSCALE:GREGORIAN
METHOD:PUBLISH
X-WR-CALNAME:Waverly Presbyterian Church
X-ORIGINAL-URL:https://waverlychurch.org
X-WR-CALDESC:Events for Waverly Presbyterian Church
REFRESH-INTERVAL;VALUE=DURATION:PT1H
X-Robots-Tag:noindex
X-PUBLISHED-TTL:PT1H
BEGIN:VTIMEZONE
TZID:UTC
BEGIN:STANDARD
TZOFFSETFROM:+0000
TZOFFSETTO:+0000
TZNAME:UTC
DTSTART:20230101T000000
END:STANDARD
END:VTIMEZONE
BEGIN:VTIMEZONE
TZID:America/New_York
BEGIN:DAYLIGHT
TZOFFSETFROM:-0500
TZOFFSETTO:-0400
TZNAME:EDT
DTSTART:20230312T070000
END:DAYLIGHT
BEGIN:STANDARD
TZOFFSETFROM:-0400
TZOFFSETTO:-0500
TZNAME:EST
DTSTART:20231105T060000
END:STANDARD
BEGIN:DAYLIGHT
TZOFFSETFROM:-0500
TZOFFSETTO:-0400
TZNAME:EDT
DTSTART:20240310T070000
END:DAYLIGHT
BEGIN:STANDARD
TZOFFSETFROM:-0400
TZOFFSETTO:-0500
TZNAME:EST
DTSTART:20241103T060000
END:STANDARD
BEGIN:DAYLIGHT
TZOFFSETFROM:-0500
TZOFFSETTO:-0400
TZNAME:EDT
DTSTART:20250309T070000
END:DAYLIGHT
BEGIN:STANDARD
TZOFFSETFROM:-0400
TZOFFSETTO:-0500
TZNAME:EST
DTSTART:20251102T060000
END:STANDARD
END:VTIMEZONE
BEGIN:VEVENT
DTSTART;TZID=UTC:20240622T090000
DTEND;TZID=UTC:20240622T102000
DTSTAMP:20260421T184605
CREATED:20190310T191142Z
LAST-MODIFIED:20230830T175415Z
UID:10001358-1719046800-1719051600@waverlychurch.org
SUMMARY:Narcotics Anonymous
DESCRIPTION:Narcotics Anonymous is holding in-person meetings in the Social Hall.
URL:https://waverlychurch.org/event/na-2020-03-21-2021-07-10/2024-06-22/
END:VEVENT
BEGIN:VEVENT
DTSTART;TZID=America/New_York:20240623T100000
DTEND;TZID=America/New_York:20240623T100000
DTSTAMP:20260421T184605
CREATED:20240507T174300Z
LAST-MODIFIED:20240507T183343Z
UID:10007947-1719136800-1719136800@waverlychurch.org
SUMMARY:Sunday School on Summer Break Until Sept. 8th
DESCRIPTION:
URL:https://waverlychurch.org/event/sunday-school-on-summer-break-until-sept-8th/2024-06-23/
END:VEVENT
BEGIN:VEVENT
DTSTART;TZID=America/New_York:20240623T100000
DTEND;TZID=America/New_York:20240623T111500
DTSTAMP:20260421T184605
CREATED:20240507T180000Z
LAST-MODIFIED:20240507T181448Z
UID:10007613-1719136800-1719141300@waverlychurch.org
SUMMARY:Worship Service - Summer Hours
DESCRIPTION:We meet on Sundays in our Sanctuary. Our Summer Hours are 10am.  From June 2nd-September 1st. Services are streamed online. \nSunday’s worship service will be live-streamed over our Facebook page on Sunday mornings. \n \nhttps://www.facebook.com/pg/WaverlyChurch/videos/ \nWe will resume meeting at 11am on September 8\, 2o24
URL:https://waverlychurch.org/event/worship-service-summer-hours-10am/2024-06-23/
END:VEVENT
BEGIN:VEVENT
DTSTART;TZID=America/New_York:20240623T193000
DTEND;TZID=America/New_York:20240623T210000
DTSTAMP:20260421T184605
CREATED:20190310T184702Z
LAST-MODIFIED:20220704T145322Z
UID:10000588-1719171000-1719176400@waverlychurch.org
SUMMARY:Alcoholics Anonymous
DESCRIPTION:The Frick Park Group of Alcoholics Anonymous is holding in-person meetings in the Social Hall. \nAdditional links for AA groups are posted online at the AA Central Office.\nhttps://www.pghaa.org/
URL:https://waverlychurch.org/event/aa-2020-03-22-2021-07-04/2024-06-23/
LOCATION:Social Hall
END:VEVENT
BEGIN:VEVENT
DTSTART;TZID=America/New_York:20240625T190000
DTEND;TZID=America/New_York:20240625T193000
DTSTAMP:20260421T184605
CREATED:20210711T201005Z
LAST-MODIFIED:20220704T150145Z
UID:10000237-1719342000-1719343800@waverlychurch.org
SUMMARY:Al-Anon [Beginners' Meeting]
DESCRIPTION:The Frick Park Al-Anon group may still be virtual. \nContact frickparkafg85[at]gmail.com with any questions.
URL:https://waverlychurch.org/event/al-anon-beginners-meeting-2022-01-04-2022-04-05/2024-06-25/
LOCATION:Social Hall
END:VEVENT
BEGIN:VEVENT
DTSTART;TZID=UTC:20240625T193000
DTEND;TZID=UTC:20240625T203000
DTSTAMP:20260421T184605
CREATED:20190310T185001Z
LAST-MODIFIED:20220331T225559Z
UID:10002466-1719343800-1719347400@waverlychurch.org
SUMMARY:Al-Anon
DESCRIPTION:The Frick Park Al-Anon is holding in-person meetings in the Social Hall. \nContact frickparkafg85[at]gmail.com with any questions.
URL:https://waverlychurch.org/event/al-anon-2020-03-24-2021-07-06-2021-07-13/2024-06-25/
END:VEVENT
BEGIN:VEVENT
DTSTART;TZID=America/New_York:20240627T090000
DTEND;TZID=America/New_York:20240627T100000
DTSTAMP:20260421T184605
CREATED:20240208T175904Z
LAST-MODIFIED:20240208T180649Z
UID:10006963-1719478800-1719482400@waverlychurch.org
SUMMARY:Five Element Qigong Class-Summer Mini Session#1
DESCRIPTION:Qigong is a practice that encourages the circulation of “qi” or life energy. In this class we will utilize gentle movements and stretching\, acupressure\, breath awareness and visualization to encourage the flow of qi. \nBased in Taoist Five Element Theory\, this style of qigong highlights the dynamic relationship between yin (organizing\, receptive\, cooling) and yang (animating\, expressive\, warming). \nThrough persistent effort we can strengthen our connection to the rhythms of nature and optimize our functionality. \n$40 for a six-week session. This practice requires no props and can be enjoyed standing or seated in a chair. Contact laurakbudde@gmail.com to register.
URL:https://waverlychurch.org/event/five-element-qigong-class-summer-mini-session1/2024-06-27/
LOCATION:Social Hall
END:VEVENT
BEGIN:VEVENT
DTSTART;TZID=America/New_York:20240627T103000
DTEND;TZID=America/New_York:20240627T113000
DTSTAMP:20260421T184605
CREATED:20240208T180217Z
LAST-MODIFIED:20240208T180604Z
UID:10006966-1719484200-1719487800@waverlychurch.org
SUMMARY:Yoga Mini Session #1
DESCRIPTION:Nurture a meaningful yoga practice that promotes a balanced body and mind. \nClasses incorporate gentle and hatha yoga with strengthening and restorative postures. Sequencing and anatomical awareness is structured to increase enjoyment and accessibility. \nWhether you have an established yoga practice or are interested in trying it out for the first time you will be encouraged to listen to your body\, and make adjustments that speak to your experience. \nThis class requires a yoga mat and a towel or blanket\, with yoga blocks and a strap highly suggested. \n$40 for a six-week session. Contact laurakbudde@gmail.com to register.
URL:https://waverlychurch.org/event/yoga-mini-session-1/2024-06-27/
LOCATION:Social Hall
END:VEVENT
BEGIN:VEVENT
DTSTART;TZID=America/New_York:20240627T180000
DTEND;TZID=America/New_York:20240627T190000
DTSTAMP:20260421T184605
CREATED:20240423T185922Z
LAST-MODIFIED:20240425T142110Z
UID:10006998-1719511200-1719514800@waverlychurch.org
SUMMARY:Yoga/Evening Class
DESCRIPTION:Nurture a meaningful yoga practice that promotes a balanced body and mind. \nClasses incorporate gentle and hatha yoga with strengthening and restorative postures. Sequencing and anatomical awareness is structured to increase enjoyment and accessibility. \nWhether you have an established yoga practice or are interested in trying it out for the first time you will be encouraged to listen to your body\, and make adjustments that speak to your experience. \nThis class requires a yoga mat and a towel or blanket\, with yoga blocks and a strap highly suggested. \n$40 for a six-week session. Contact laurakbudde@gmail.com to register.
URL:https://waverlychurch.org/event/yoga-social-hall/2024-06-27/
END:VEVENT
BEGIN:VEVENT
DTSTART;TZID=America/New_York:20240628T100000
DTEND;TZID=America/New_York:20240628T105500
DTSTAMP:20260421T184605
CREATED:20240507T172037Z
LAST-MODIFIED:20240507T173855Z
UID:10007342-1719568800-1719572100@waverlychurch.org
SUMMARY:Sunday School
DESCRIPTION:All ages are welcome to join us each week for Sunday School in the following locations: \nChildren up through 1st grade: nursery (downstairs\, right side of front entrance – ring bell to enter) \nChildren in 2nd-5th grade: the “Frog Pond” – room off of our lower floor social hall \nYouth in 6th-12th grade” the “Wonka Room” – room off of our lower floor social hall \nAdults: lounge (upstairs in back of church)
URL:https://waverlychurch.org/event/sunday-school-3-2/2024-06-28/
END:VEVENT
BEGIN:VEVENT
DTSTART;TZID=America/New_York:20240628T110000
DTEND;TZID=America/New_York:20240628T120000
DTSTAMP:20260421T184605
CREATED:20240208T180525Z
LAST-MODIFIED:20240208T180525Z
UID:10006969-1719572400-1719576000@waverlychurch.org
SUMMARY:Tai Chi Parts 1&2 Summer Mini Session#1
DESCRIPTION:Learn or return to Tai Chi for Health! This tai chi form focuses on posture and stability while enhancing the connection between the brain and the body. \nNew movements will be added each class as we explore concepts of tai chi practice and enjoy performing this moving meditation. \nThis class requires no props but does require standing.  \nThe full form will be taught over the course of two six-week sessions. Regular attendance and practice at home is necessary to learn and benefit from tai chi. \n$40 for a six-week session. Contact laurakbudde@gmail.com to register.
URL:https://waverlychurch.org/event/tai-chi-parts-12-summer-mini-session1/2024-06-28/
LOCATION:Social Hall
END:VEVENT
BEGIN:VEVENT
DTSTART;TZID=UTC:20240629T090000
DTEND;TZID=UTC:20240629T102000
DTSTAMP:20260421T184605
CREATED:20190310T191142Z
LAST-MODIFIED:20230830T175415Z
UID:10001359-1719651600-1719656400@waverlychurch.org
SUMMARY:Narcotics Anonymous
DESCRIPTION:Narcotics Anonymous is holding in-person meetings in the Social Hall.
URL:https://waverlychurch.org/event/na-2020-03-21-2021-07-10/2024-06-29/
END:VEVENT
BEGIN:VEVENT
DTSTART;TZID=America/New_York:20240630T100000
DTEND;TZID=America/New_York:20240630T100000
DTSTAMP:20260421T184605
CREATED:20240507T174300Z
LAST-MODIFIED:20240507T183343Z
UID:10007948-1719741600-1719741600@waverlychurch.org
SUMMARY:Sunday School on Summer Break Until Sept. 8th
DESCRIPTION:
URL:https://waverlychurch.org/event/sunday-school-on-summer-break-until-sept-8th/2024-06-30/
END:VEVENT
BEGIN:VEVENT
DTSTART;TZID=America/New_York:20240630T100000
DTEND;TZID=America/New_York:20240630T111500
DTSTAMP:20260421T184605
CREATED:20240507T180000Z
LAST-MODIFIED:20240507T181448Z
UID:10007614-1719741600-1719746100@waverlychurch.org
SUMMARY:Worship Service - Summer Hours
DESCRIPTION:We meet on Sundays in our Sanctuary. Our Summer Hours are 10am.  From June 2nd-September 1st. Services are streamed online. \nSunday’s worship service will be live-streamed over our Facebook page on Sunday mornings. \n \nhttps://www.facebook.com/pg/WaverlyChurch/videos/ \nWe will resume meeting at 11am on September 8\, 2o24
URL:https://waverlychurch.org/event/worship-service-summer-hours-10am/2024-06-30/
END:VEVENT
BEGIN:VEVENT
DTSTART;TZID=America/New_York:20240630T193000
DTEND;TZID=America/New_York:20240630T210000
DTSTAMP:20260421T184605
CREATED:20190310T184702Z
LAST-MODIFIED:20220704T145322Z
UID:10000589-1719775800-1719781200@waverlychurch.org
SUMMARY:Alcoholics Anonymous
DESCRIPTION:The Frick Park Group of Alcoholics Anonymous is holding in-person meetings in the Social Hall. \nAdditional links for AA groups are posted online at the AA Central Office.\nhttps://www.pghaa.org/
URL:https://waverlychurch.org/event/aa-2020-03-22-2021-07-04/2024-06-30/
LOCATION:Social Hall
END:VEVENT
BEGIN:VEVENT
DTSTART;TZID=America/New_York:20240702T190000
DTEND;TZID=America/New_York:20240702T193000
DTSTAMP:20260421T184605
CREATED:20210711T201005Z
LAST-MODIFIED:20220704T150145Z
UID:10000238-1719946800-1719948600@waverlychurch.org
SUMMARY:Al-Anon [Beginners' Meeting]
DESCRIPTION:The Frick Park Al-Anon group may still be virtual. \nContact frickparkafg85[at]gmail.com with any questions.
URL:https://waverlychurch.org/event/al-anon-beginners-meeting-2022-01-04-2022-04-05/2024-07-02/
LOCATION:Social Hall
END:VEVENT
BEGIN:VEVENT
DTSTART;TZID=UTC:20240702T193000
DTEND;TZID=UTC:20240702T203000
DTSTAMP:20260421T184605
CREATED:20190310T185001Z
LAST-MODIFIED:20220331T225559Z
UID:10002467-1719948600-1719952200@waverlychurch.org
SUMMARY:Al-Anon
DESCRIPTION:The Frick Park Al-Anon is holding in-person meetings in the Social Hall. \nContact frickparkafg85[at]gmail.com with any questions.
URL:https://waverlychurch.org/event/al-anon-2020-03-24-2021-07-06-2021-07-13/2024-07-02/
END:VEVENT
BEGIN:VEVENT
DTSTART;TZID=America/New_York:20240705T100000
DTEND;TZID=America/New_York:20240705T105500
DTSTAMP:20260421T184605
CREATED:20240507T172037Z
LAST-MODIFIED:20240507T173855Z
UID:10007343-1720173600-1720176900@waverlychurch.org
SUMMARY:Sunday School
DESCRIPTION:All ages are welcome to join us each week for Sunday School in the following locations: \nChildren up through 1st grade: nursery (downstairs\, right side of front entrance – ring bell to enter) \nChildren in 2nd-5th grade: the “Frog Pond” – room off of our lower floor social hall \nYouth in 6th-12th grade” the “Wonka Room” – room off of our lower floor social hall \nAdults: lounge (upstairs in back of church)
URL:https://waverlychurch.org/event/sunday-school-3-2/2024-07-05/
END:VEVENT
BEGIN:VEVENT
DTSTART;TZID=UTC:20240706T090000
DTEND;TZID=UTC:20240706T102000
DTSTAMP:20260421T184605
CREATED:20190310T191142Z
LAST-MODIFIED:20230830T175415Z
UID:10001360-1720256400-1720261200@waverlychurch.org
SUMMARY:Narcotics Anonymous
DESCRIPTION:Narcotics Anonymous is holding in-person meetings in the Social Hall.
URL:https://waverlychurch.org/event/na-2020-03-21-2021-07-10/2024-07-06/
END:VEVENT
BEGIN:VEVENT
DTSTART;TZID=America/New_York:20240707T100000
DTEND;TZID=America/New_York:20240707T100000
DTSTAMP:20260421T184605
CREATED:20240507T174300Z
LAST-MODIFIED:20240507T183343Z
UID:10007949-1720346400-1720346400@waverlychurch.org
SUMMARY:Sunday School on Summer Break Until Sept. 8th
DESCRIPTION:
URL:https://waverlychurch.org/event/sunday-school-on-summer-break-until-sept-8th/2024-07-07/
END:VEVENT
BEGIN:VEVENT
DTSTART;TZID=America/New_York:20240707T100000
DTEND;TZID=America/New_York:20240707T111500
DTSTAMP:20260421T184605
CREATED:20240507T180000Z
LAST-MODIFIED:20240507T181448Z
UID:10007615-1720346400-1720350900@waverlychurch.org
SUMMARY:Worship Service - Summer Hours
DESCRIPTION:We meet on Sundays in our Sanctuary. Our Summer Hours are 10am.  From June 2nd-September 1st. Services are streamed online. \nSunday’s worship service will be live-streamed over our Facebook page on Sunday mornings. \n \nhttps://www.facebook.com/pg/WaverlyChurch/videos/ \nWe will resume meeting at 11am on September 8\, 2o24
URL:https://waverlychurch.org/event/worship-service-summer-hours-10am/2024-07-07/
END:VEVENT
BEGIN:VEVENT
DTSTART;TZID=America/New_York:20240707T193000
DTEND;TZID=America/New_York:20240707T210000
DTSTAMP:20260421T184605
CREATED:20190310T184702Z
LAST-MODIFIED:20220704T145322Z
UID:10000590-1720380600-1720386000@waverlychurch.org
SUMMARY:Alcoholics Anonymous
DESCRIPTION:The Frick Park Group of Alcoholics Anonymous is holding in-person meetings in the Social Hall. \nAdditional links for AA groups are posted online at the AA Central Office.\nhttps://www.pghaa.org/
URL:https://waverlychurch.org/event/aa-2020-03-22-2021-07-04/2024-07-07/
LOCATION:Social Hall
END:VEVENT
BEGIN:VEVENT
DTSTART;TZID=America/New_York:20240709T190000
DTEND;TZID=America/New_York:20240709T193000
DTSTAMP:20260421T184605
CREATED:20210711T201005Z
LAST-MODIFIED:20220704T150145Z
UID:10000239-1720551600-1720553400@waverlychurch.org
SUMMARY:Al-Anon [Beginners' Meeting]
DESCRIPTION:The Frick Park Al-Anon group may still be virtual. \nContact frickparkafg85[at]gmail.com with any questions.
URL:https://waverlychurch.org/event/al-anon-beginners-meeting-2022-01-04-2022-04-05/2024-07-09/
LOCATION:Social Hall
END:VEVENT
BEGIN:VEVENT
DTSTART;TZID=UTC:20240709T193000
DTEND;TZID=UTC:20240709T203000
DTSTAMP:20260421T184605
CREATED:20190310T185001Z
LAST-MODIFIED:20220331T225559Z
UID:10002468-1720553400-1720557000@waverlychurch.org
SUMMARY:Al-Anon
DESCRIPTION:The Frick Park Al-Anon is holding in-person meetings in the Social Hall. \nContact frickparkafg85[at]gmail.com with any questions.
URL:https://waverlychurch.org/event/al-anon-2020-03-24-2021-07-06-2021-07-13/2024-07-09/
END:VEVENT
BEGIN:VEVENT
DTSTART;TZID=America/New_York:20240711T090000
DTEND;TZID=America/New_York:20240711T090000
DTSTAMP:20260421T184605
CREATED:20240208T181056Z
LAST-MODIFIED:20240208T181056Z
UID:10006970-1720688400-1720688400@waverlychurch.org
SUMMARY:Five Element Qigong Class Summer Mini Session #2
DESCRIPTION:Qigong is a practice that encourages the circulation of “qi” or life energy. In this class we will utilize gentle movements and stretching\, acupressure\, breath awareness and visualization to encourage the flow of qi. \nBased in Taoist Five Element Theory\, this style of qigong highlights the dynamic relationship between yin (organizing\, receptive\, cooling) and yang (animating\, expressive\, warming). \nThrough persistent effort we can strengthen our connection to the rhythms of nature and optimize our functionality. \n$40 for a six-week session. This practice requires no props and can be enjoyed standing or seated in a chair. Contact laurakbudde@gmail.com to register.
URL:https://waverlychurch.org/event/five-element-qigong-class-summer-mini-session-2/2024-07-11/
LOCATION:Social Hall
END:VEVENT
BEGIN:VEVENT
DTSTART;TZID=America/New_York:20240711T103000
DTEND;TZID=America/New_York:20240711T113000
DTSTAMP:20260421T184605
CREATED:20240208T181308Z
LAST-MODIFIED:20240208T181308Z
UID:10006973-1720693800-1720697400@waverlychurch.org
SUMMARY:Yoga Summer Mini Session #2
DESCRIPTION:Nurture a meaningful yoga practice that promotes a balanced body and mind. \nClasses incorporate gentle and hatha yoga with strengthening and restorative postures. Sequencing and anatomical awareness is structured to increase enjoyment and accessibility. \nWhether you have an established yoga practice or are interested in trying it out for the first time you will be encouraged to listen to your body\, and make adjustments that speak to your experience. \nThis class requires a yoga mat and a towel or blanket\, with yoga blocks and a strap highly suggested. \n$40 for a six-week session. Contact laurakbudde@gmail.com to register.
URL:https://waverlychurch.org/event/yoga-summer-mini-session-2/2024-07-11/
LOCATION:Social Hall
END:VEVENT
BEGIN:VEVENT
DTSTART;TZID=America/New_York:20240711T180000
DTEND;TZID=America/New_York:20240711T190000
DTSTAMP:20260421T184605
CREATED:20240423T185922Z
LAST-MODIFIED:20240425T142110Z
UID:10007000-1720720800-1720724400@waverlychurch.org
SUMMARY:Yoga/Evening Class
DESCRIPTION:Nurture a meaningful yoga practice that promotes a balanced body and mind. \nClasses incorporate gentle and hatha yoga with strengthening and restorative postures. Sequencing and anatomical awareness is structured to increase enjoyment and accessibility. \nWhether you have an established yoga practice or are interested in trying it out for the first time you will be encouraged to listen to your body\, and make adjustments that speak to your experience. \nThis class requires a yoga mat and a towel or blanket\, with yoga blocks and a strap highly suggested. \n$40 for a six-week session. Contact laurakbudde@gmail.com to register.
URL:https://waverlychurch.org/event/yoga-social-hall/2024-07-11/
END:VEVENT
BEGIN:VEVENT
DTSTART;TZID=America/New_York:20240712T100000
DTEND;TZID=America/New_York:20240712T105500
DTSTAMP:20260421T184605
CREATED:20240507T172037Z
LAST-MODIFIED:20240507T173855Z
UID:10007344-1720778400-1720781700@waverlychurch.org
SUMMARY:Sunday School
DESCRIPTION:All ages are welcome to join us each week for Sunday School in the following locations: \nChildren up through 1st grade: nursery (downstairs\, right side of front entrance – ring bell to enter) \nChildren in 2nd-5th grade: the “Frog Pond” – room off of our lower floor social hall \nYouth in 6th-12th grade” the “Wonka Room” – room off of our lower floor social hall \nAdults: lounge (upstairs in back of church)
URL:https://waverlychurch.org/event/sunday-school-3-2/2024-07-12/
END:VEVENT
BEGIN:VEVENT
DTSTART;TZID=America/New_York:20240712T110000
DTEND;TZID=America/New_York:20240712T120000
DTSTAMP:20260421T184605
CREATED:20240208T181649Z
LAST-MODIFIED:20240208T181649Z
UID:10006979-1720782000-1720785600@waverlychurch.org
SUMMARY:Tai Chi Parts 1&2 Summer Mini Session #2
DESCRIPTION:Learn or return to Tai Chi for Health! This tai chi form focuses on posture and stability while enhancing the connection between the brain and the body. \nNew movements will be added each class as we explore concepts of tai chi practice and enjoy performing this moving meditation. \nThis class requires no props but does require standing.  \nThe full form will be taught over the course of two six-week sessions. Regular attendance and practice at home is necessary to learn and benefit from tai chi. \n$40 for a six-week session. Contact laurakbudde@gmail.com to register.
URL:https://waverlychurch.org/event/tai-chi-parts-12-summer-mini-session-2/2024-07-12/
LOCATION:Social Hall
END:VEVENT
BEGIN:VEVENT
DTSTART;TZID=UTC:20240713T090000
DTEND;TZID=UTC:20240713T102000
DTSTAMP:20260421T184605
CREATED:20190310T191142Z
LAST-MODIFIED:20230830T175415Z
UID:10001361-1720861200-1720866000@waverlychurch.org
SUMMARY:Narcotics Anonymous
DESCRIPTION:Narcotics Anonymous is holding in-person meetings in the Social Hall.
URL:https://waverlychurch.org/event/na-2020-03-21-2021-07-10/2024-07-13/
END:VEVENT
END:VCALENDAR