BEGIN:VCALENDAR
VERSION:2.0
PRODID:-//Waverly Presbyterian Church - ECPv6.15.20//NONSGML v1.0//EN
CALSCALE:GREGORIAN
METHOD:PUBLISH
X-ORIGINAL-URL:https://waverlychurch.org
X-WR-CALDESC:Events for Waverly Presbyterian Church
REFRESH-INTERVAL;VALUE=DURATION:PT1H
X-Robots-Tag:noindex
X-PUBLISHED-TTL:PT1H
BEGIN:VTIMEZONE
TZID:America/New_York
BEGIN:DAYLIGHT
TZOFFSETFROM:-0500
TZOFFSETTO:-0400
TZNAME:EDT
DTSTART:20220313T070000
END:DAYLIGHT
BEGIN:STANDARD
TZOFFSETFROM:-0400
TZOFFSETTO:-0500
TZNAME:EST
DTSTART:20221106T060000
END:STANDARD
BEGIN:DAYLIGHT
TZOFFSETFROM:-0500
TZOFFSETTO:-0400
TZNAME:EDT
DTSTART:20230312T070000
END:DAYLIGHT
BEGIN:STANDARD
TZOFFSETFROM:-0400
TZOFFSETTO:-0500
TZNAME:EST
DTSTART:20231105T060000
END:STANDARD
BEGIN:DAYLIGHT
TZOFFSETFROM:-0500
TZOFFSETTO:-0400
TZNAME:EDT
DTSTART:20240310T070000
END:DAYLIGHT
BEGIN:STANDARD
TZOFFSETFROM:-0400
TZOFFSETTO:-0500
TZNAME:EST
DTSTART:20241103T060000
END:STANDARD
END:VTIMEZONE
BEGIN:VTIMEZONE
TZID:UTC
BEGIN:STANDARD
TZOFFSETFROM:+0000
TZOFFSETTO:+0000
TZNAME:UTC
DTSTART:20220101T000000
END:STANDARD
END:VTIMEZONE
BEGIN:VEVENT
DTSTART;TZID=America/New_York:20230101T110000
DTEND;TZID=America/New_York:20230101T120000
DTSTAMP:20260423T190842
CREATED:20210715T194724Z
LAST-MODIFIED:20230529T213105Z
UID:10000856-1672570800-1672574400@waverlychurch.org
SUMMARY:Worship Service
DESCRIPTION:We meet on Sundays in our Sanctuary at 11am and stream services online. \nSunday’s worship service will be live-streamed over our Facebook page on Sunday morning and the scripture and sermon will be on SoundCloud. \nhttps://waverlychurch.org/worship/guidelines-for-in-person-worship/ \nhttps://www.facebook.com/pg/WaverlyChurch/videos/ \n  \n 
URL:https://waverlychurch.org/event/worship-service-3-2022-06-05-2022-08-07-2022-09-11/2023-01-01/
LOCATION:Sanctuary
END:VEVENT
BEGIN:VEVENT
DTSTART;TZID=America/New_York:20230101T120000
DTEND;TZID=America/New_York:20230101T123000
DTSTAMP:20260423T190842
CREATED:20220623T210815Z
LAST-MODIFIED:20220623T210831Z
UID:10005062-1672574400-1672576200@waverlychurch.org
SUMMARY:Coffee Hour
DESCRIPTION:Immediately following the service\, we hope you can stay to enjoy fellowship with the Waverly community.
URL:https://waverlychurch.org/event/coffee-hour-2/2023-01-01/
LOCATION:Social Hall
END:VEVENT
BEGIN:VEVENT
DTSTART;TZID=America/New_York:20230101T193000
DTEND;TZID=America/New_York:20230101T210000
DTSTAMP:20260423T190842
CREATED:20190310T184702Z
LAST-MODIFIED:20220704T145322Z
UID:10000511-1672601400-1672606800@waverlychurch.org
SUMMARY:Alcoholics Anonymous
DESCRIPTION:The Frick Park Group of Alcoholics Anonymous is holding in-person meetings in the Social Hall. \nAdditional links for AA groups are posted online at the AA Central Office.\nhttps://www.pghaa.org/
URL:https://waverlychurch.org/event/aa-2020-03-22-2021-07-04/2023-01-01/
LOCATION:Social Hall
END:VEVENT
BEGIN:VEVENT
DTSTART;TZID=America/New_York:20230103T090000
DTEND;TZID=America/New_York:20230103T140000
DTSTAMP:20260423T190842
CREATED:20220512T233522Z
LAST-MODIFIED:20220704T145940Z
UID:10003571-1672736400-1672754400@waverlychurch.org
SUMMARY:Foundation of HOPE Aftercare Program
DESCRIPTION:Aftercare support for anyone who was previously incarcerated by appointment only – Tuesdays from 9am – 2pm and Thursdays from 12pm – 5pm – call 412-321-3343 to schedule; www.foundationofhope.org for more information.
URL:https://waverlychurch.org/event/foundation-of-hope-aftercare-program/2023-01-03/
LOCATION:Social Hall
END:VEVENT
BEGIN:VEVENT
DTSTART;TZID=America/New_York:20230103T190000
DTEND;TZID=America/New_York:20230103T193000
DTSTAMP:20260423T190842
CREATED:20210711T201005Z
LAST-MODIFIED:20220704T150145Z
UID:10000160-1672772400-1672774200@waverlychurch.org
SUMMARY:Al-Anon [Beginners' Meeting]
DESCRIPTION:The Frick Park Al-Anon group may still be virtual. \nContact frickparkafg85[at]gmail.com with any questions.
URL:https://waverlychurch.org/event/al-anon-beginners-meeting-2022-01-04-2022-04-05/2023-01-03/
LOCATION:Social Hall
END:VEVENT
BEGIN:VEVENT
DTSTART;TZID=UTC:20230103T190000
DTEND;TZID=UTC:20230103T200000
DTSTAMP:20260423T190842
CREATED:20210722T164636Z
LAST-MODIFIED:20210722T164638Z
UID:10003523-1672772400-1672776000@waverlychurch.org
SUMMARY:Creative Arts Ministry
DESCRIPTION:Join us the first Tuesday of the month at 7pm in the lounge to study scripture and plan for its creative expression in worship.
URL:https://waverlychurch.org/event/creative-arts-ministry/2023-01-03/
LOCATION:Lounge
END:VEVENT
BEGIN:VEVENT
DTSTART;TZID=UTC:20230103T193000
DTEND;TZID=UTC:20230103T203000
DTSTAMP:20260423T190842
CREATED:20190310T185001Z
LAST-MODIFIED:20220331T225559Z
UID:10002389-1672774200-1672777800@waverlychurch.org
SUMMARY:Al-Anon
DESCRIPTION:The Frick Park Al-Anon is holding in-person meetings in the Social Hall. \nContact frickparkafg85[at]gmail.com with any questions.
URL:https://waverlychurch.org/event/al-anon-2020-03-24-2021-07-06-2021-07-13/2023-01-03/
END:VEVENT
BEGIN:VEVENT
DTSTART;TZID=America/New_York:20230103T193000
DTEND;TZID=America/New_York:20230103T203000
DTSTAMP:20260423T190842
CREATED:20190310T185001Z
LAST-MODIFIED:20220704T150031Z
UID:10004149-1672774200-1672777800@waverlychurch.org
SUMMARY:Al-Anon
DESCRIPTION:The Frick Park Al-Anon group may still be virtual. \nContact frickparkafg85[at]gmail.com with any questions.
URL:https://waverlychurch.org/event/al-anon-2020-03-24-2021-07-06-2021-07-20-2022-01-04-2022-04-05/2023-01-03/
END:VEVENT
BEGIN:VEVENT
DTSTART;TZID=UTC:20230103T193000
DTEND;TZID=UTC:20230103T210000
DTSTAMP:20260423T190842
CREATED:20190310T185001Z
LAST-MODIFIED:20201211T021356Z
UID:10001696-1672774200-1672779600@waverlychurch.org
SUMMARY:Al-Anon [Virtual Meeting]
DESCRIPTION:Due to COVID-19 precautions\, the Frick Park Al-Anon is meeting virtually. \nContact frickparkafg85[at]gmail.com for the link. \nIn-person meetings will resume when it is safe to do so.
URL:https://waverlychurch.org/event/al-anon-2020-03-24/2023-01-03/
END:VEVENT
BEGIN:VEVENT
DTSTART;TZID=America/New_York:20230105T120000
DTEND;TZID=America/New_York:20230105T170000
DTSTAMP:20260423T190842
CREATED:20220512T233651Z
LAST-MODIFIED:20220623T205155Z
UID:10003236-1672920000-1672938000@waverlychurch.org
SUMMARY:Foundation of HOPE Aftercare Program
DESCRIPTION:Aftercare support for anyone who was previously incarcerated by appointment only – Tuesdays from 9am – 2pm and Thursdays from 12pm – 5pm – call 412-321-3343 to schedule; www.foundationofhope.org for more information.
URL:https://waverlychurch.org/event/foundation-of-hope-aftercare-program-2/2023-01-05/
LOCATION:Social Hall
END:VEVENT
BEGIN:VEVENT
DTSTART;TZID=UTC:20230107T090000
DTEND;TZID=UTC:20230107T102000
DTSTAMP:20260423T190842
CREATED:20190310T191142Z
LAST-MODIFIED:20230830T175415Z
UID:10001282-1673082000-1673086800@waverlychurch.org
SUMMARY:Narcotics Anonymous
DESCRIPTION:Narcotics Anonymous is holding in-person meetings in the Social Hall.
URL:https://waverlychurch.org/event/na-2020-03-21-2021-07-10/2023-01-07/
END:VEVENT
BEGIN:VEVENT
DTSTART;TZID=America/New_York:20230108T110000
DTEND;TZID=America/New_York:20230108T120000
DTSTAMP:20260423T190842
CREATED:20210715T194724Z
LAST-MODIFIED:20230529T213105Z
UID:10000857-1673175600-1673179200@waverlychurch.org
SUMMARY:Worship Service
DESCRIPTION:We meet on Sundays in our Sanctuary at 11am and stream services online. \nSunday’s worship service will be live-streamed over our Facebook page on Sunday morning and the scripture and sermon will be on SoundCloud. \nhttps://waverlychurch.org/worship/guidelines-for-in-person-worship/ \nhttps://www.facebook.com/pg/WaverlyChurch/videos/ \n  \n 
URL:https://waverlychurch.org/event/worship-service-3-2022-06-05-2022-08-07-2022-09-11/2023-01-08/
LOCATION:Sanctuary
END:VEVENT
BEGIN:VEVENT
DTSTART;TZID=America/New_York:20230108T120000
DTEND;TZID=America/New_York:20230108T123000
DTSTAMP:20260423T190842
CREATED:20220623T210815Z
LAST-MODIFIED:20220623T210831Z
UID:10005063-1673179200-1673181000@waverlychurch.org
SUMMARY:Coffee Hour
DESCRIPTION:Immediately following the service\, we hope you can stay to enjoy fellowship with the Waverly community.
URL:https://waverlychurch.org/event/coffee-hour-2/2023-01-08/
LOCATION:Social Hall
END:VEVENT
BEGIN:VEVENT
DTSTART;TZID=America/New_York:20230108T193000
DTEND;TZID=America/New_York:20230108T210000
DTSTAMP:20260423T190842
CREATED:20190310T184702Z
LAST-MODIFIED:20220704T145322Z
UID:10000512-1673206200-1673211600@waverlychurch.org
SUMMARY:Alcoholics Anonymous
DESCRIPTION:The Frick Park Group of Alcoholics Anonymous is holding in-person meetings in the Social Hall. \nAdditional links for AA groups are posted online at the AA Central Office.\nhttps://www.pghaa.org/
URL:https://waverlychurch.org/event/aa-2020-03-22-2021-07-04/2023-01-08/
LOCATION:Social Hall
END:VEVENT
BEGIN:VEVENT
DTSTART;TZID=America/New_York:20230110T090000
DTEND;TZID=America/New_York:20230110T140000
DTSTAMP:20260423T190842
CREATED:20220512T233522Z
LAST-MODIFIED:20220704T145940Z
UID:10003572-1673341200-1673359200@waverlychurch.org
SUMMARY:Foundation of HOPE Aftercare Program
DESCRIPTION:Aftercare support for anyone who was previously incarcerated by appointment only – Tuesdays from 9am – 2pm and Thursdays from 12pm – 5pm – call 412-321-3343 to schedule; www.foundationofhope.org for more information.
URL:https://waverlychurch.org/event/foundation-of-hope-aftercare-program/2023-01-10/
LOCATION:Social Hall
END:VEVENT
BEGIN:VEVENT
DTSTART;TZID=America/New_York:20230110T190000
DTEND;TZID=America/New_York:20230110T193000
DTSTAMP:20260423T190842
CREATED:20210711T201005Z
LAST-MODIFIED:20220704T150145Z
UID:10000161-1673377200-1673379000@waverlychurch.org
SUMMARY:Al-Anon [Beginners' Meeting]
DESCRIPTION:The Frick Park Al-Anon group may still be virtual. \nContact frickparkafg85[at]gmail.com with any questions.
URL:https://waverlychurch.org/event/al-anon-beginners-meeting-2022-01-04-2022-04-05/2023-01-10/
LOCATION:Social Hall
END:VEVENT
BEGIN:VEVENT
DTSTART;TZID=UTC:20230110T193000
DTEND;TZID=UTC:20230110T203000
DTSTAMP:20260423T190842
CREATED:20190310T185001Z
LAST-MODIFIED:20220331T225559Z
UID:10002390-1673379000-1673382600@waverlychurch.org
SUMMARY:Al-Anon
DESCRIPTION:The Frick Park Al-Anon is holding in-person meetings in the Social Hall. \nContact frickparkafg85[at]gmail.com with any questions.
URL:https://waverlychurch.org/event/al-anon-2020-03-24-2021-07-06-2021-07-13/2023-01-10/
END:VEVENT
BEGIN:VEVENT
DTSTART;TZID=America/New_York:20230110T193000
DTEND;TZID=America/New_York:20230110T203000
DTSTAMP:20260423T190842
CREATED:20190310T185001Z
LAST-MODIFIED:20220704T150031Z
UID:10004150-1673379000-1673382600@waverlychurch.org
SUMMARY:Al-Anon
DESCRIPTION:The Frick Park Al-Anon group may still be virtual. \nContact frickparkafg85[at]gmail.com with any questions.
URL:https://waverlychurch.org/event/al-anon-2020-03-24-2021-07-06-2021-07-20-2022-01-04-2022-04-05/2023-01-10/
END:VEVENT
BEGIN:VEVENT
DTSTART;TZID=UTC:20230110T193000
DTEND;TZID=UTC:20230110T210000
DTSTAMP:20260423T190842
CREATED:20190310T185001Z
LAST-MODIFIED:20201211T021356Z
UID:10001697-1673379000-1673384400@waverlychurch.org
SUMMARY:Al-Anon [Virtual Meeting]
DESCRIPTION:Due to COVID-19 precautions\, the Frick Park Al-Anon is meeting virtually. \nContact frickparkafg85[at]gmail.com for the link. \nIn-person meetings will resume when it is safe to do so.
URL:https://waverlychurch.org/event/al-anon-2020-03-24/2023-01-10/
END:VEVENT
BEGIN:VEVENT
DTSTART;TZID=America/New_York:20230112T120000
DTEND;TZID=America/New_York:20230112T170000
DTSTAMP:20260423T190842
CREATED:20220512T233651Z
LAST-MODIFIED:20220623T205155Z
UID:10003237-1673524800-1673542800@waverlychurch.org
SUMMARY:Foundation of HOPE Aftercare Program
DESCRIPTION:Aftercare support for anyone who was previously incarcerated by appointment only – Tuesdays from 9am – 2pm and Thursdays from 12pm – 5pm – call 412-321-3343 to schedule; www.foundationofhope.org for more information.
URL:https://waverlychurch.org/event/foundation-of-hope-aftercare-program-2/2023-01-12/
LOCATION:Social Hall
END:VEVENT
BEGIN:VEVENT
DTSTART;TZID=UTC:20230114T090000
DTEND;TZID=UTC:20230114T102000
DTSTAMP:20260423T190842
CREATED:20190310T191142Z
LAST-MODIFIED:20230830T175415Z
UID:10001283-1673686800-1673691600@waverlychurch.org
SUMMARY:Narcotics Anonymous
DESCRIPTION:Narcotics Anonymous is holding in-person meetings in the Social Hall.
URL:https://waverlychurch.org/event/na-2020-03-21-2021-07-10/2023-01-14/
END:VEVENT
BEGIN:VEVENT
DTSTART;TZID=America/New_York:20230114T130000
DTEND;TZID=America/New_York:20230114T160000
DTSTAMP:20260423T190842
CREATED:20230109T224130Z
LAST-MODIFIED:20230109T224130Z
UID:10005352-1673701200-1673712000@waverlychurch.org
SUMMARY:Roller Skating at Neville Roller Drome
DESCRIPTION:Join us for Roller Skating at Neville Roller Drome\, Sat\, Jan 14 1-4pm!
URL:https://waverlychurch.org/event/roller-skating-at-neville-roller-drome/
END:VEVENT
BEGIN:VEVENT
DTSTART;TZID=America/New_York:20230115T110000
DTEND;TZID=America/New_York:20230115T120000
DTSTAMP:20260423T190842
CREATED:20210715T194724Z
LAST-MODIFIED:20230529T213105Z
UID:10000858-1673780400-1673784000@waverlychurch.org
SUMMARY:Worship Service
DESCRIPTION:We meet on Sundays in our Sanctuary at 11am and stream services online. \nSunday’s worship service will be live-streamed over our Facebook page on Sunday morning and the scripture and sermon will be on SoundCloud. \nhttps://waverlychurch.org/worship/guidelines-for-in-person-worship/ \nhttps://www.facebook.com/pg/WaverlyChurch/videos/ \n  \n 
URL:https://waverlychurch.org/event/worship-service-3-2022-06-05-2022-08-07-2022-09-11/2023-01-15/
LOCATION:Sanctuary
END:VEVENT
BEGIN:VEVENT
DTSTART;TZID=America/New_York:20230115T120000
DTEND;TZID=America/New_York:20230115T123000
DTSTAMP:20260423T190842
CREATED:20220623T210815Z
LAST-MODIFIED:20220623T210831Z
UID:10005064-1673784000-1673785800@waverlychurch.org
SUMMARY:Coffee Hour
DESCRIPTION:Immediately following the service\, we hope you can stay to enjoy fellowship with the Waverly community.
URL:https://waverlychurch.org/event/coffee-hour-2/2023-01-15/
LOCATION:Social Hall
END:VEVENT
BEGIN:VEVENT
DTSTART;TZID=America/New_York:20230115T193000
DTEND;TZID=America/New_York:20230115T210000
DTSTAMP:20260423T190842
CREATED:20190310T184702Z
LAST-MODIFIED:20220704T145322Z
UID:10000513-1673811000-1673816400@waverlychurch.org
SUMMARY:Alcoholics Anonymous
DESCRIPTION:The Frick Park Group of Alcoholics Anonymous is holding in-person meetings in the Social Hall. \nAdditional links for AA groups are posted online at the AA Central Office.\nhttps://www.pghaa.org/
URL:https://waverlychurch.org/event/aa-2020-03-22-2021-07-04/2023-01-15/
LOCATION:Social Hall
END:VEVENT
BEGIN:VEVENT
DTSTART;TZID=America/New_York:20230117T090000
DTEND;TZID=America/New_York:20230117T140000
DTSTAMP:20260423T190842
CREATED:20220512T233522Z
LAST-MODIFIED:20220704T145940Z
UID:10003573-1673946000-1673964000@waverlychurch.org
SUMMARY:Foundation of HOPE Aftercare Program
DESCRIPTION:Aftercare support for anyone who was previously incarcerated by appointment only – Tuesdays from 9am – 2pm and Thursdays from 12pm – 5pm – call 412-321-3343 to schedule; www.foundationofhope.org for more information.
URL:https://waverlychurch.org/event/foundation-of-hope-aftercare-program/2023-01-17/
LOCATION:Social Hall
END:VEVENT
BEGIN:VEVENT
DTSTART;TZID=America/New_York:20230117T190000
DTEND;TZID=America/New_York:20230117T193000
DTSTAMP:20260423T190842
CREATED:20210711T201005Z
LAST-MODIFIED:20220704T150145Z
UID:10000162-1673982000-1673983800@waverlychurch.org
SUMMARY:Al-Anon [Beginners' Meeting]
DESCRIPTION:The Frick Park Al-Anon group may still be virtual. \nContact frickparkafg85[at]gmail.com with any questions.
URL:https://waverlychurch.org/event/al-anon-beginners-meeting-2022-01-04-2022-04-05/2023-01-17/
LOCATION:Social Hall
END:VEVENT
BEGIN:VEVENT
DTSTART;TZID=UTC:20230117T193000
DTEND;TZID=UTC:20230117T203000
DTSTAMP:20260423T190842
CREATED:20190310T185001Z
LAST-MODIFIED:20220331T225559Z
UID:10002391-1673983800-1673987400@waverlychurch.org
SUMMARY:Al-Anon
DESCRIPTION:The Frick Park Al-Anon is holding in-person meetings in the Social Hall. \nContact frickparkafg85[at]gmail.com with any questions.
URL:https://waverlychurch.org/event/al-anon-2020-03-24-2021-07-06-2021-07-13/2023-01-17/
END:VEVENT
BEGIN:VEVENT
DTSTART;TZID=America/New_York:20230117T193000
DTEND;TZID=America/New_York:20230117T203000
DTSTAMP:20260423T190842
CREATED:20190310T185001Z
LAST-MODIFIED:20220704T150031Z
UID:10004151-1673983800-1673987400@waverlychurch.org
SUMMARY:Al-Anon
DESCRIPTION:The Frick Park Al-Anon group may still be virtual. \nContact frickparkafg85[at]gmail.com with any questions.
URL:https://waverlychurch.org/event/al-anon-2020-03-24-2021-07-06-2021-07-20-2022-01-04-2022-04-05/2023-01-17/
END:VEVENT
BEGIN:VEVENT
DTSTART;TZID=UTC:20230117T193000
DTEND;TZID=UTC:20230117T210000
DTSTAMP:20260423T190842
CREATED:20190310T185001Z
LAST-MODIFIED:20201211T021356Z
UID:10001698-1673983800-1673989200@waverlychurch.org
SUMMARY:Al-Anon [Virtual Meeting]
DESCRIPTION:Due to COVID-19 precautions\, the Frick Park Al-Anon is meeting virtually. \nContact frickparkafg85[at]gmail.com for the link. \nIn-person meetings will resume when it is safe to do so.
URL:https://waverlychurch.org/event/al-anon-2020-03-24/2023-01-17/
END:VEVENT
END:VCALENDAR