BEGIN:VCALENDAR
VERSION:2.0
PRODID:-//Waverly Presbyterian Church - ECPv6.15.20//NONSGML v1.0//EN
CALSCALE:GREGORIAN
METHOD:PUBLISH
X-ORIGINAL-URL:https://waverlychurch.org
X-WR-CALDESC:Events for Waverly Presbyterian Church
REFRESH-INTERVAL;VALUE=DURATION:PT1H
X-Robots-Tag:noindex
X-PUBLISHED-TTL:PT1H
BEGIN:VTIMEZONE
TZID:America/New_York
BEGIN:DAYLIGHT
TZOFFSETFROM:-0500
TZOFFSETTO:-0400
TZNAME:EDT
DTSTART:20230312T070000
END:DAYLIGHT
BEGIN:STANDARD
TZOFFSETFROM:-0400
TZOFFSETTO:-0500
TZNAME:EST
DTSTART:20231105T060000
END:STANDARD
BEGIN:DAYLIGHT
TZOFFSETFROM:-0500
TZOFFSETTO:-0400
TZNAME:EDT
DTSTART:20240310T070000
END:DAYLIGHT
BEGIN:STANDARD
TZOFFSETFROM:-0400
TZOFFSETTO:-0500
TZNAME:EST
DTSTART:20241103T060000
END:STANDARD
BEGIN:DAYLIGHT
TZOFFSETFROM:-0500
TZOFFSETTO:-0400
TZNAME:EDT
DTSTART:20250309T070000
END:DAYLIGHT
BEGIN:STANDARD
TZOFFSETFROM:-0400
TZOFFSETTO:-0500
TZNAME:EST
DTSTART:20251102T060000
END:STANDARD
END:VTIMEZONE
BEGIN:VTIMEZONE
TZID:UTC
BEGIN:STANDARD
TZOFFSETFROM:+0000
TZOFFSETTO:+0000
TZNAME:UTC
DTSTART:20230101T000000
END:STANDARD
END:VTIMEZONE
BEGIN:VEVENT
DTSTART;TZID=America/New_York:20240809T100000
DTEND;TZID=America/New_York:20240809T105500
DTSTAMP:20260421T131942
CREATED:20240507T172037Z
LAST-MODIFIED:20240507T173855Z
UID:10007348-1723197600-1723200900@waverlychurch.org
SUMMARY:Sunday School
DESCRIPTION:All ages are welcome to join us each week for Sunday School in the following locations: \nChildren up through 1st grade: nursery (downstairs\, right side of front entrance – ring bell to enter) \nChildren in 2nd-5th grade: the “Frog Pond” – room off of our lower floor social hall \nYouth in 6th-12th grade” the “Wonka Room” – room off of our lower floor social hall \nAdults: lounge (upstairs in back of church)
URL:https://waverlychurch.org/event/sunday-school-3-2/2024-08-09/
END:VEVENT
BEGIN:VEVENT
DTSTART;TZID=UTC:20240810T090000
DTEND;TZID=UTC:20240810T102000
DTSTAMP:20260421T131942
CREATED:20190310T191142Z
LAST-MODIFIED:20230830T175415Z
UID:10001365-1723280400-1723285200@waverlychurch.org
SUMMARY:Narcotics Anonymous
DESCRIPTION:Narcotics Anonymous is holding in-person meetings in the Social Hall.
URL:https://waverlychurch.org/event/na-2020-03-21-2021-07-10/2024-08-10/
END:VEVENT
BEGIN:VEVENT
DTSTART;TZID=America/New_York:20240811T100000
DTEND;TZID=America/New_York:20240811T100000
DTSTAMP:20260421T131942
CREATED:20240507T174300Z
LAST-MODIFIED:20240507T183343Z
UID:10007954-1723370400-1723370400@waverlychurch.org
SUMMARY:Sunday School on Summer Break Until Sept. 8th
DESCRIPTION:
URL:https://waverlychurch.org/event/sunday-school-on-summer-break-until-sept-8th/2024-08-11/
END:VEVENT
BEGIN:VEVENT
DTSTART;TZID=America/New_York:20240811T100000
DTEND;TZID=America/New_York:20240811T111500
DTSTAMP:20260421T131942
CREATED:20240507T180000Z
LAST-MODIFIED:20240507T181448Z
UID:10007620-1723370400-1723374900@waverlychurch.org
SUMMARY:Worship Service - Summer Hours
DESCRIPTION:We meet on Sundays in our Sanctuary. Our Summer Hours are 10am.  From June 2nd-September 1st. Services are streamed online. \nSunday’s worship service will be live-streamed over our Facebook page on Sunday mornings. \n \nhttps://www.facebook.com/pg/WaverlyChurch/videos/ \nWe will resume meeting at 11am on September 8\, 2o24
URL:https://waverlychurch.org/event/worship-service-summer-hours-10am/2024-08-11/
END:VEVENT
BEGIN:VEVENT
DTSTART;TZID=America/New_York:20240811T193000
DTEND;TZID=America/New_York:20240811T210000
DTSTAMP:20260421T131942
CREATED:20190310T184702Z
LAST-MODIFIED:20220704T145322Z
UID:10000595-1723404600-1723410000@waverlychurch.org
SUMMARY:Alcoholics Anonymous
DESCRIPTION:The Frick Park Group of Alcoholics Anonymous is holding in-person meetings in the Social Hall. \nAdditional links for AA groups are posted online at the AA Central Office.\nhttps://www.pghaa.org/
URL:https://waverlychurch.org/event/aa-2020-03-22-2021-07-04/2024-08-11/
LOCATION:Social Hall
END:VEVENT
BEGIN:VEVENT
DTSTART;TZID=America/New_York:20240813T190000
DTEND;TZID=America/New_York:20240813T193000
DTSTAMP:20260421T131942
CREATED:20210711T201005Z
LAST-MODIFIED:20220704T150145Z
UID:10000244-1723575600-1723577400@waverlychurch.org
SUMMARY:Al-Anon [Beginners' Meeting]
DESCRIPTION:The Frick Park Al-Anon group may still be virtual. \nContact frickparkafg85[at]gmail.com with any questions.
URL:https://waverlychurch.org/event/al-anon-beginners-meeting-2022-01-04-2022-04-05/2024-08-13/
LOCATION:Social Hall
END:VEVENT
BEGIN:VEVENT
DTSTART;TZID=UTC:20240813T193000
DTEND;TZID=UTC:20240813T203000
DTSTAMP:20260421T131942
CREATED:20190310T185001Z
LAST-MODIFIED:20220331T225559Z
UID:10002473-1723577400-1723581000@waverlychurch.org
SUMMARY:Al-Anon
DESCRIPTION:The Frick Park Al-Anon is holding in-person meetings in the Social Hall. \nContact frickparkafg85[at]gmail.com with any questions.
URL:https://waverlychurch.org/event/al-anon-2020-03-24-2021-07-06-2021-07-13/2024-08-13/
END:VEVENT
BEGIN:VEVENT
DTSTART;TZID=America/New_York:20240815T103000
DTEND;TZID=America/New_York:20240815T140000
DTSTAMP:20260421T131942
CREATED:20240718T171913Z
LAST-MODIFIED:20240718T181505Z
UID:10008164-1723717800-1723730400@waverlychurch.org
SUMMARY:Reiki
DESCRIPTION:
URL:https://waverlychurch.org/event/reiki/2024-08-15/
LOCATION:Social Hall
END:VEVENT
BEGIN:VEVENT
DTSTART;TZID=America/New_York:20240816T100000
DTEND;TZID=America/New_York:20240816T105500
DTSTAMP:20260421T131942
CREATED:20240507T172037Z
LAST-MODIFIED:20240507T173855Z
UID:10007349-1723802400-1723805700@waverlychurch.org
SUMMARY:Sunday School
DESCRIPTION:All ages are welcome to join us each week for Sunday School in the following locations: \nChildren up through 1st grade: nursery (downstairs\, right side of front entrance – ring bell to enter) \nChildren in 2nd-5th grade: the “Frog Pond” – room off of our lower floor social hall \nYouth in 6th-12th grade” the “Wonka Room” – room off of our lower floor social hall \nAdults: lounge (upstairs in back of church)
URL:https://waverlychurch.org/event/sunday-school-3-2/2024-08-16/
END:VEVENT
BEGIN:VEVENT
DTSTART;TZID=UTC:20240817T090000
DTEND;TZID=UTC:20240817T102000
DTSTAMP:20260421T131942
CREATED:20190310T191142Z
LAST-MODIFIED:20230830T175415Z
UID:10001366-1723885200-1723890000@waverlychurch.org
SUMMARY:Narcotics Anonymous
DESCRIPTION:Narcotics Anonymous is holding in-person meetings in the Social Hall.
URL:https://waverlychurch.org/event/na-2020-03-21-2021-07-10/2024-08-17/
END:VEVENT
BEGIN:VEVENT
DTSTART;TZID=America/New_York:20240818T100000
DTEND;TZID=America/New_York:20240818T100000
DTSTAMP:20260421T131942
CREATED:20240507T174300Z
LAST-MODIFIED:20240507T183343Z
UID:10007955-1723975200-1723975200@waverlychurch.org
SUMMARY:Sunday School on Summer Break Until Sept. 8th
DESCRIPTION:
URL:https://waverlychurch.org/event/sunday-school-on-summer-break-until-sept-8th/2024-08-18/
END:VEVENT
BEGIN:VEVENT
DTSTART;TZID=America/New_York:20240818T100000
DTEND;TZID=America/New_York:20240818T111500
DTSTAMP:20260421T131942
CREATED:20240507T180000Z
LAST-MODIFIED:20240507T181448Z
UID:10007621-1723975200-1723979700@waverlychurch.org
SUMMARY:Worship Service - Summer Hours
DESCRIPTION:We meet on Sundays in our Sanctuary. Our Summer Hours are 10am.  From June 2nd-September 1st. Services are streamed online. \nSunday’s worship service will be live-streamed over our Facebook page on Sunday mornings. \n \nhttps://www.facebook.com/pg/WaverlyChurch/videos/ \nWe will resume meeting at 11am on September 8\, 2o24
URL:https://waverlychurch.org/event/worship-service-summer-hours-10am/2024-08-18/
END:VEVENT
BEGIN:VEVENT
DTSTART;TZID=America/New_York:20240818T193000
DTEND;TZID=America/New_York:20240818T210000
DTSTAMP:20260421T131942
CREATED:20190310T184702Z
LAST-MODIFIED:20220704T145322Z
UID:10000596-1724009400-1724014800@waverlychurch.org
SUMMARY:Alcoholics Anonymous
DESCRIPTION:The Frick Park Group of Alcoholics Anonymous is holding in-person meetings in the Social Hall. \nAdditional links for AA groups are posted online at the AA Central Office.\nhttps://www.pghaa.org/
URL:https://waverlychurch.org/event/aa-2020-03-22-2021-07-04/2024-08-18/
LOCATION:Social Hall
END:VEVENT
BEGIN:VEVENT
DTSTART;TZID=America/New_York:20240820T190000
DTEND;TZID=America/New_York:20240820T193000
DTSTAMP:20260421T131942
CREATED:20210711T201005Z
LAST-MODIFIED:20220704T150145Z
UID:10000245-1724180400-1724182200@waverlychurch.org
SUMMARY:Al-Anon [Beginners' Meeting]
DESCRIPTION:The Frick Park Al-Anon group may still be virtual. \nContact frickparkafg85[at]gmail.com with any questions.
URL:https://waverlychurch.org/event/al-anon-beginners-meeting-2022-01-04-2022-04-05/2024-08-20/
LOCATION:Social Hall
END:VEVENT
BEGIN:VEVENT
DTSTART;TZID=UTC:20240820T193000
DTEND;TZID=UTC:20240820T203000
DTSTAMP:20260421T131942
CREATED:20190310T185001Z
LAST-MODIFIED:20220331T225559Z
UID:10002474-1724182200-1724185800@waverlychurch.org
SUMMARY:Al-Anon
DESCRIPTION:The Frick Park Al-Anon is holding in-person meetings in the Social Hall. \nContact frickparkafg85[at]gmail.com with any questions.
URL:https://waverlychurch.org/event/al-anon-2020-03-24-2021-07-06-2021-07-13/2024-08-20/
END:VEVENT
BEGIN:VEVENT
DTSTART;TZID=America/New_York:20240823T100000
DTEND;TZID=America/New_York:20240823T105500
DTSTAMP:20260421T131942
CREATED:20240507T172037Z
LAST-MODIFIED:20240507T173855Z
UID:10007350-1724407200-1724410500@waverlychurch.org
SUMMARY:Sunday School
DESCRIPTION:All ages are welcome to join us each week for Sunday School in the following locations: \nChildren up through 1st grade: nursery (downstairs\, right side of front entrance – ring bell to enter) \nChildren in 2nd-5th grade: the “Frog Pond” – room off of our lower floor social hall \nYouth in 6th-12th grade” the “Wonka Room” – room off of our lower floor social hall \nAdults: lounge (upstairs in back of church)
URL:https://waverlychurch.org/event/sunday-school-3-2/2024-08-23/
END:VEVENT
BEGIN:VEVENT
DTSTART;TZID=UTC:20240824T090000
DTEND;TZID=UTC:20240824T102000
DTSTAMP:20260421T131942
CREATED:20190310T191142Z
LAST-MODIFIED:20230830T175415Z
UID:10001367-1724490000-1724494800@waverlychurch.org
SUMMARY:Narcotics Anonymous
DESCRIPTION:Narcotics Anonymous is holding in-person meetings in the Social Hall.
URL:https://waverlychurch.org/event/na-2020-03-21-2021-07-10/2024-08-24/
END:VEVENT
BEGIN:VEVENT
DTSTART;TZID=America/New_York:20240825T100000
DTEND;TZID=America/New_York:20240825T100000
DTSTAMP:20260421T131942
CREATED:20240507T174300Z
LAST-MODIFIED:20240507T183343Z
UID:10007956-1724580000-1724580000@waverlychurch.org
SUMMARY:Sunday School on Summer Break Until Sept. 8th
DESCRIPTION:
URL:https://waverlychurch.org/event/sunday-school-on-summer-break-until-sept-8th/2024-08-25/
END:VEVENT
BEGIN:VEVENT
DTSTART;TZID=America/New_York:20240825T100000
DTEND;TZID=America/New_York:20240825T111500
DTSTAMP:20260421T131942
CREATED:20240507T180000Z
LAST-MODIFIED:20240507T181448Z
UID:10007622-1724580000-1724584500@waverlychurch.org
SUMMARY:Worship Service - Summer Hours
DESCRIPTION:We meet on Sundays in our Sanctuary. Our Summer Hours are 10am.  From June 2nd-September 1st. Services are streamed online. \nSunday’s worship service will be live-streamed over our Facebook page on Sunday mornings. \n \nhttps://www.facebook.com/pg/WaverlyChurch/videos/ \nWe will resume meeting at 11am on September 8\, 2o24
URL:https://waverlychurch.org/event/worship-service-summer-hours-10am/2024-08-25/
END:VEVENT
BEGIN:VEVENT
DTSTART;TZID=America/New_York:20240825T193000
DTEND;TZID=America/New_York:20240825T210000
DTSTAMP:20260421T131942
CREATED:20190310T184702Z
LAST-MODIFIED:20220704T145322Z
UID:10000597-1724614200-1724619600@waverlychurch.org
SUMMARY:Alcoholics Anonymous
DESCRIPTION:The Frick Park Group of Alcoholics Anonymous is holding in-person meetings in the Social Hall. \nAdditional links for AA groups are posted online at the AA Central Office.\nhttps://www.pghaa.org/
URL:https://waverlychurch.org/event/aa-2020-03-22-2021-07-04/2024-08-25/
LOCATION:Social Hall
END:VEVENT
BEGIN:VEVENT
DTSTART;TZID=America/New_York:20240827T190000
DTEND;TZID=America/New_York:20240827T193000
DTSTAMP:20260421T131942
CREATED:20210711T201005Z
LAST-MODIFIED:20220704T150145Z
UID:10000246-1724785200-1724787000@waverlychurch.org
SUMMARY:Al-Anon [Beginners' Meeting]
DESCRIPTION:The Frick Park Al-Anon group may still be virtual. \nContact frickparkafg85[at]gmail.com with any questions.
URL:https://waverlychurch.org/event/al-anon-beginners-meeting-2022-01-04-2022-04-05/2024-08-27/
LOCATION:Social Hall
END:VEVENT
BEGIN:VEVENT
DTSTART;TZID=UTC:20240827T193000
DTEND;TZID=UTC:20240827T203000
DTSTAMP:20260421T131942
CREATED:20190310T185001Z
LAST-MODIFIED:20220331T225559Z
UID:10002475-1724787000-1724790600@waverlychurch.org
SUMMARY:Al-Anon
DESCRIPTION:The Frick Park Al-Anon is holding in-person meetings in the Social Hall. \nContact frickparkafg85[at]gmail.com with any questions.
URL:https://waverlychurch.org/event/al-anon-2020-03-24-2021-07-06-2021-07-13/2024-08-27/
END:VEVENT
BEGIN:VEVENT
DTSTART;TZID=America/New_York:20240830T100000
DTEND;TZID=America/New_York:20240830T105500
DTSTAMP:20260421T131942
CREATED:20240507T172037Z
LAST-MODIFIED:20240507T173855Z
UID:10007351-1725012000-1725015300@waverlychurch.org
SUMMARY:Sunday School
DESCRIPTION:All ages are welcome to join us each week for Sunday School in the following locations: \nChildren up through 1st grade: nursery (downstairs\, right side of front entrance – ring bell to enter) \nChildren in 2nd-5th grade: the “Frog Pond” – room off of our lower floor social hall \nYouth in 6th-12th grade” the “Wonka Room” – room off of our lower floor social hall \nAdults: lounge (upstairs in back of church)
URL:https://waverlychurch.org/event/sunday-school-3-2/2024-08-30/
END:VEVENT
BEGIN:VEVENT
DTSTART;TZID=UTC:20240831T090000
DTEND;TZID=UTC:20240831T102000
DTSTAMP:20260421T131942
CREATED:20190310T191142Z
LAST-MODIFIED:20230830T175415Z
UID:10001368-1725094800-1725099600@waverlychurch.org
SUMMARY:Narcotics Anonymous
DESCRIPTION:Narcotics Anonymous is holding in-person meetings in the Social Hall.
URL:https://waverlychurch.org/event/na-2020-03-21-2021-07-10/2024-08-31/
END:VEVENT
BEGIN:VEVENT
DTSTART;TZID=America/New_York:20240901T100000
DTEND;TZID=America/New_York:20240901T100000
DTSTAMP:20260421T131942
CREATED:20240507T174300Z
LAST-MODIFIED:20240507T183343Z
UID:10007957-1725184800-1725184800@waverlychurch.org
SUMMARY:Sunday School on Summer Break Until Sept. 8th
DESCRIPTION:
URL:https://waverlychurch.org/event/sunday-school-on-summer-break-until-sept-8th/2024-09-01/
END:VEVENT
BEGIN:VEVENT
DTSTART;TZID=America/New_York:20240901T100000
DTEND;TZID=America/New_York:20240901T111500
DTSTAMP:20260421T131942
CREATED:20240507T180000Z
LAST-MODIFIED:20240507T181448Z
UID:10007623-1725184800-1725189300@waverlychurch.org
SUMMARY:Worship Service - Summer Hours
DESCRIPTION:We meet on Sundays in our Sanctuary. Our Summer Hours are 10am.  From June 2nd-September 1st. Services are streamed online. \nSunday’s worship service will be live-streamed over our Facebook page on Sunday mornings. \n \nhttps://www.facebook.com/pg/WaverlyChurch/videos/ \nWe will resume meeting at 11am on September 8\, 2o24
URL:https://waverlychurch.org/event/worship-service-summer-hours-10am/2024-09-01/
END:VEVENT
BEGIN:VEVENT
DTSTART;TZID=America/New_York:20240901T193000
DTEND;TZID=America/New_York:20240901T210000
DTSTAMP:20260421T131942
CREATED:20190310T184702Z
LAST-MODIFIED:20220704T145322Z
UID:10000598-1725219000-1725224400@waverlychurch.org
SUMMARY:Alcoholics Anonymous
DESCRIPTION:The Frick Park Group of Alcoholics Anonymous is holding in-person meetings in the Social Hall. \nAdditional links for AA groups are posted online at the AA Central Office.\nhttps://www.pghaa.org/
URL:https://waverlychurch.org/event/aa-2020-03-22-2021-07-04/2024-09-01/
LOCATION:Social Hall
END:VEVENT
BEGIN:VEVENT
DTSTART;TZID=America/New_York:20240903T190000
DTEND;TZID=America/New_York:20240903T193000
DTSTAMP:20260421T131942
CREATED:20210711T201005Z
LAST-MODIFIED:20220704T150145Z
UID:10000247-1725390000-1725391800@waverlychurch.org
SUMMARY:Al-Anon [Beginners' Meeting]
DESCRIPTION:The Frick Park Al-Anon group may still be virtual. \nContact frickparkafg85[at]gmail.com with any questions.
URL:https://waverlychurch.org/event/al-anon-beginners-meeting-2022-01-04-2022-04-05/2024-09-03/
LOCATION:Social Hall
END:VEVENT
BEGIN:VEVENT
DTSTART;TZID=UTC:20240903T193000
DTEND;TZID=UTC:20240903T203000
DTSTAMP:20260421T131942
CREATED:20190310T185001Z
LAST-MODIFIED:20220331T225559Z
UID:10002476-1725391800-1725395400@waverlychurch.org
SUMMARY:Al-Anon
DESCRIPTION:The Frick Park Al-Anon is holding in-person meetings in the Social Hall. \nContact frickparkafg85[at]gmail.com with any questions.
URL:https://waverlychurch.org/event/al-anon-2020-03-24-2021-07-06-2021-07-13/2024-09-03/
END:VEVENT
BEGIN:VEVENT
DTSTART;TZID=America/New_York:20240906T180000
DTEND;TZID=America/New_York:20240906T210000
DTSTAMP:20260421T131942
CREATED:20240827T173047Z
LAST-MODIFIED:20240827T173047Z
UID:10008224-1725645600-1725656400@waverlychurch.org
SUMMARY:Movie Night
DESCRIPTION:Join us in the Social Hall for a welcome back movie night. \nThe movie is family-friendly and sure to encourage a lot of singing along! \nPopcorn will be provided but feel free to bring your own snacks or ones to share. \nA goodwill offering will be taken (though not required) to help defray licensing costs.
URL:https://waverlychurch.org/event/movie-night/
LOCATION:Social Hall
END:VEVENT
END:VCALENDAR