BEGIN:VCALENDAR
VERSION:2.0
PRODID:-//Waverly Presbyterian Church - ECPv6.15.20//NONSGML v1.0//EN
CALSCALE:GREGORIAN
METHOD:PUBLISH
X-ORIGINAL-URL:https://waverlychurch.org
X-WR-CALDESC:Events for Waverly Presbyterian Church
REFRESH-INTERVAL;VALUE=DURATION:PT1H
X-Robots-Tag:noindex
X-PUBLISHED-TTL:PT1H
BEGIN:VTIMEZONE
TZID:UTC
BEGIN:STANDARD
TZOFFSETFROM:+0000
TZOFFSETTO:+0000
TZNAME:UTC
DTSTART:20230101T000000
END:STANDARD
END:VTIMEZONE
BEGIN:VTIMEZONE
TZID:America/New_York
BEGIN:DAYLIGHT
TZOFFSETFROM:-0500
TZOFFSETTO:-0400
TZNAME:EDT
DTSTART:20230312T070000
END:DAYLIGHT
BEGIN:STANDARD
TZOFFSETFROM:-0400
TZOFFSETTO:-0500
TZNAME:EST
DTSTART:20231105T060000
END:STANDARD
BEGIN:DAYLIGHT
TZOFFSETFROM:-0500
TZOFFSETTO:-0400
TZNAME:EDT
DTSTART:20240310T070000
END:DAYLIGHT
BEGIN:STANDARD
TZOFFSETFROM:-0400
TZOFFSETTO:-0500
TZNAME:EST
DTSTART:20241103T060000
END:STANDARD
BEGIN:DAYLIGHT
TZOFFSETFROM:-0500
TZOFFSETTO:-0400
TZNAME:EDT
DTSTART:20250309T070000
END:DAYLIGHT
BEGIN:STANDARD
TZOFFSETFROM:-0400
TZOFFSETTO:-0500
TZNAME:EST
DTSTART:20251102T060000
END:STANDARD
END:VTIMEZONE
BEGIN:VEVENT
DTSTART;TZID=UTC:20241005T090000
DTEND;TZID=UTC:20241005T102000
DTSTAMP:20260421T073956
CREATED:20190310T191142Z
LAST-MODIFIED:20230830T175415Z
UID:10001373-1728118800-1728123600@waverlychurch.org
SUMMARY:Narcotics Anonymous
DESCRIPTION:Narcotics Anonymous is holding in-person meetings in the Social Hall.
URL:https://waverlychurch.org/event/na-2020-03-21-2021-07-10/2024-10-05/
END:VEVENT
BEGIN:VEVENT
DTSTART;TZID=America/New_York:20241005T100000
DTEND;TZID=America/New_York:20241005T100000
DTSTAMP:20260421T073956
CREATED:20240827T172050Z
LAST-MODIFIED:20240827T172427Z
UID:10008222-1728122400-1728122400@waverlychurch.org
SUMMARY:Blessing of the Animals
DESCRIPTION:Join us anytime between 10am – 12pm for an individual blessing with your pet. All pets are welcome but must be on a leash or inside an enclosure. \nBlessings will be held on the front lawn.
URL:https://waverlychurch.org/event/blessing-of-the-animals-4/
LOCATION:Front Lawn
END:VEVENT
BEGIN:VEVENT
DTSTART;TZID=America/New_York:20241006T100000
DTEND;TZID=America/New_York:20241006T105500
DTSTAMP:20260421T073956
CREATED:20240507T172228Z
LAST-MODIFIED:20240507T173402Z
UID:10007097-1728208800-1728212100@waverlychurch.org
SUMMARY:Sunday School
DESCRIPTION:All ages are welcome to join us each week for Sunday School in the following locations: \nChildren up through 1st grade: nursery (downstairs\, right side of front entrance – ring bell to enter) \nChildren in 2nd-5th grade: the “Frog Pond” – room off of our lower floor social hall \nYouth in 6th-12th grade” the “Wonka Room” – room off of our lower floor social hall \nAdults: lounge (upstairs in back of church)
URL:https://waverlychurch.org/event/sunday-school-3-2-2/2024-10-06/
END:VEVENT
BEGIN:VEVENT
DTSTART;TZID=America/New_York:20241006T110000
DTEND;TZID=America/New_York:20241006T121500
DTSTAMP:20260421T073956
CREATED:20240507T182308Z
LAST-MODIFIED:20240507T182315Z
UID:10007665-1728212400-1728216900@waverlychurch.org
SUMMARY:Worship Service
DESCRIPTION:We meet on Sundays in our Sanctuary at 11am during the school year and stream services online. \nSunday’s worship service will be live-streamed over our Facebook page on Sunday mornings. \n \nhttps://www.facebook.com/pg/WaverlyChurch/videos/
URL:https://waverlychurch.org/event/worship-service-5/2024-10-06/
END:VEVENT
BEGIN:VEVENT
DTSTART;TZID=America/New_York:20241006T193000
DTEND;TZID=America/New_York:20241006T210000
DTSTAMP:20260421T073956
CREATED:20190310T184702Z
LAST-MODIFIED:20220704T145322Z
UID:10000603-1728243000-1728248400@waverlychurch.org
SUMMARY:Alcoholics Anonymous
DESCRIPTION:The Frick Park Group of Alcoholics Anonymous is holding in-person meetings in the Social Hall. \nAdditional links for AA groups are posted online at the AA Central Office.\nhttps://www.pghaa.org/
URL:https://waverlychurch.org/event/aa-2020-03-22-2021-07-04/2024-10-06/
LOCATION:Social Hall
END:VEVENT
BEGIN:VEVENT
DTSTART;TZID=America/New_York:20241007T170000
DTEND;TZID=America/New_York:20241007T180000
DTSTAMP:20260421T073956
CREATED:20240827T181303Z
LAST-MODIFIED:20260309T184828Z
UID:10008230-1728320400-1728324000@waverlychurch.org
SUMMARY:Drawing Closer - Meeting on Zoom
DESCRIPTION:This time of contemplative prayer and exploration of poetry is different every week and open to all\, no matter your beliefs. \nClick here for the Zoom link or call by phone:\n929-436-2866\nMeeting ID: 829 0407 0235\nPasscode: 056654
URL:https://waverlychurch.org/event/drawing-closer/2024-10-07/
LOCATION:https://waverlychurch.org/event/drawing-closer/2024-10-07/
END:VEVENT
BEGIN:VEVENT
DTSTART;TZID=America/New_York:20241008T190000
DTEND;TZID=America/New_York:20241008T193000
DTSTAMP:20260421T073956
CREATED:20210711T201005Z
LAST-MODIFIED:20220704T150145Z
UID:10000252-1728414000-1728415800@waverlychurch.org
SUMMARY:Al-Anon [Beginners' Meeting]
DESCRIPTION:The Frick Park Al-Anon group may still be virtual. \nContact frickparkafg85[at]gmail.com with any questions.
URL:https://waverlychurch.org/event/al-anon-beginners-meeting-2022-01-04-2022-04-05/2024-10-08/
LOCATION:Social Hall
END:VEVENT
BEGIN:VEVENT
DTSTART;TZID=UTC:20241008T193000
DTEND;TZID=UTC:20241008T203000
DTSTAMP:20260421T073956
CREATED:20190310T185001Z
LAST-MODIFIED:20220331T225559Z
UID:10002481-1728415800-1728419400@waverlychurch.org
SUMMARY:Al-Anon
DESCRIPTION:The Frick Park Al-Anon is holding in-person meetings in the Social Hall. \nContact frickparkafg85[at]gmail.com with any questions.
URL:https://waverlychurch.org/event/al-anon-2020-03-24-2021-07-06-2021-07-13/2024-10-08/
END:VEVENT
BEGIN:VEVENT
DTSTART;TZID=America/New_York:20241010T090000
DTEND;TZID=America/New_York:20241010T100000
DTSTAMP:20260421T073956
CREATED:20240627T161034Z
LAST-MODIFIED:20240627T164155Z
UID:10007966-1728550800-1728554400@waverlychurch.org
SUMMARY:Five Element Qigong Class - Fall Session One
DESCRIPTION:Qigong is a practice that encourages the circulation of “qi” or life energy. In this class we will utilize gentle movements and stretching\, acupressure\, breath awareness and visualization to encourage the flow of qi. \nBased in Taoist Five Element Theory\, this style of qigong highlights the dynamic relationship between yin (organizing\, receptive\, cooling) and yang (animating\, expressive\, warming). \nThrough persistent effort we can strengthen our connection to the rhythms of nature and optimize our functionality. \n$40 for a six-week session. This practice requires no props and can be enjoyed standing or seated in a chair. Contact laurakbudde@gmail.com to register.
URL:https://waverlychurch.org/event/five-element-qigong-class-fall-session-one/2024-10-10/
LOCATION:Social Hall
END:VEVENT
BEGIN:VEVENT
DTSTART;TZID=America/New_York:20241010T103000
DTEND;TZID=America/New_York:20241010T113000
DTSTAMP:20260421T073956
CREATED:20240627T162656Z
LAST-MODIFIED:20240627T164421Z
UID:10007983-1728556200-1728559800@waverlychurch.org
SUMMARY:Yoga Fall Session One
DESCRIPTION:Nurture a meaningful yoga practice that promotes a balanced body and mind. \nClasses incorporate gentle and hatha yoga with strengthening and restorative postures. Sequencing and anatomical awareness is structured to increase enjoyment and accessibility. \nWhether you have an established yoga practice or are interested in trying it out for the first time you will be encouraged to listen to your body\, and make adjustments that speak to your experience. \nThis class requires a yoga mat and a towel or blanket\, with yoga blocks and a strap highly suggested. \n$40 for a six-week session. Contact laurakbudde@gmail.com to register.
URL:https://waverlychurch.org/event/yoga-fall-session-one/2024-10-10/
LOCATION:Social Hall
END:VEVENT
BEGIN:VEVENT
DTSTART;TZID=UTC:20241012T090000
DTEND;TZID=UTC:20241012T102000
DTSTAMP:20260421T073956
CREATED:20190310T191142Z
LAST-MODIFIED:20230830T175415Z
UID:10001374-1728723600-1728728400@waverlychurch.org
SUMMARY:Narcotics Anonymous
DESCRIPTION:Narcotics Anonymous is holding in-person meetings in the Social Hall.
URL:https://waverlychurch.org/event/na-2020-03-21-2021-07-10/2024-10-12/
END:VEVENT
BEGIN:VEVENT
DTSTART;TZID=America/New_York:20241013T100000
DTEND;TZID=America/New_York:20241013T105500
DTSTAMP:20260421T073956
CREATED:20240507T172228Z
LAST-MODIFIED:20240507T173402Z
UID:10007098-1728813600-1728816900@waverlychurch.org
SUMMARY:Sunday School
DESCRIPTION:All ages are welcome to join us each week for Sunday School in the following locations: \nChildren up through 1st grade: nursery (downstairs\, right side of front entrance – ring bell to enter) \nChildren in 2nd-5th grade: the “Frog Pond” – room off of our lower floor social hall \nYouth in 6th-12th grade” the “Wonka Room” – room off of our lower floor social hall \nAdults: lounge (upstairs in back of church)
URL:https://waverlychurch.org/event/sunday-school-3-2-2/2024-10-13/
END:VEVENT
BEGIN:VEVENT
DTSTART;TZID=America/New_York:20241013T110000
DTEND;TZID=America/New_York:20241013T121500
DTSTAMP:20260421T073956
CREATED:20240507T182308Z
LAST-MODIFIED:20240507T182315Z
UID:10007666-1728817200-1728821700@waverlychurch.org
SUMMARY:Worship Service
DESCRIPTION:We meet on Sundays in our Sanctuary at 11am during the school year and stream services online. \nSunday’s worship service will be live-streamed over our Facebook page on Sunday mornings. \n \nhttps://www.facebook.com/pg/WaverlyChurch/videos/
URL:https://waverlychurch.org/event/worship-service-5/2024-10-13/
END:VEVENT
BEGIN:VEVENT
DTSTART;TZID=America/New_York:20241013T193000
DTEND;TZID=America/New_York:20241013T210000
DTSTAMP:20260421T073956
CREATED:20190310T184702Z
LAST-MODIFIED:20220704T145322Z
UID:10000604-1728847800-1728853200@waverlychurch.org
SUMMARY:Alcoholics Anonymous
DESCRIPTION:The Frick Park Group of Alcoholics Anonymous is holding in-person meetings in the Social Hall. \nAdditional links for AA groups are posted online at the AA Central Office.\nhttps://www.pghaa.org/
URL:https://waverlychurch.org/event/aa-2020-03-22-2021-07-04/2024-10-13/
LOCATION:Social Hall
END:VEVENT
BEGIN:VEVENT
DTSTART;TZID=America/New_York:20241014T170000
DTEND;TZID=America/New_York:20241014T180000
DTSTAMP:20260421T073956
CREATED:20240827T181303Z
LAST-MODIFIED:20260309T184828Z
UID:10008231-1728925200-1728928800@waverlychurch.org
SUMMARY:Drawing Closer - Meeting on Zoom
DESCRIPTION:This time of contemplative prayer and exploration of poetry is different every week and open to all\, no matter your beliefs. \nClick here for the Zoom link or call by phone:\n929-436-2866\nMeeting ID: 829 0407 0235\nPasscode: 056654
URL:https://waverlychurch.org/event/drawing-closer/2024-10-14/
LOCATION:https://waverlychurch.org/event/drawing-closer/2024-10-14/
END:VEVENT
BEGIN:VEVENT
DTSTART;TZID=America/New_York:20241015T190000
DTEND;TZID=America/New_York:20241015T193000
DTSTAMP:20260421T073956
CREATED:20210711T201005Z
LAST-MODIFIED:20220704T150145Z
UID:10000253-1729018800-1729020600@waverlychurch.org
SUMMARY:Al-Anon [Beginners' Meeting]
DESCRIPTION:The Frick Park Al-Anon group may still be virtual. \nContact frickparkafg85[at]gmail.com with any questions.
URL:https://waverlychurch.org/event/al-anon-beginners-meeting-2022-01-04-2022-04-05/2024-10-15/
LOCATION:Social Hall
END:VEVENT
BEGIN:VEVENT
DTSTART;TZID=America/New_York:20241015T190000
DTEND;TZID=America/New_York:20241015T210000
DTSTAMP:20260421T073956
CREATED:20240919T174437Z
LAST-MODIFIED:20240919T174437Z
UID:10008539-1729018800-1729026000@waverlychurch.org
SUMMARY:Third Tuesday Theology Talks - Faith and Politics
DESCRIPTION:RSVP requested
URL:https://waverlychurch.org/event/third-tuesday-theology-talks-faith-and-politics/
END:VEVENT
BEGIN:VEVENT
DTSTART;TZID=UTC:20241015T193000
DTEND;TZID=UTC:20241015T203000
DTSTAMP:20260421T073956
CREATED:20190310T185001Z
LAST-MODIFIED:20220331T225559Z
UID:10002482-1729020600-1729024200@waverlychurch.org
SUMMARY:Al-Anon
DESCRIPTION:The Frick Park Al-Anon is holding in-person meetings in the Social Hall. \nContact frickparkafg85[at]gmail.com with any questions.
URL:https://waverlychurch.org/event/al-anon-2020-03-24-2021-07-06-2021-07-13/2024-10-15/
END:VEVENT
BEGIN:VEVENT
DTSTART;TZID=America/New_York:20241017T090000
DTEND;TZID=America/New_York:20241017T100000
DTSTAMP:20260421T073956
CREATED:20240627T161034Z
LAST-MODIFIED:20240627T164155Z
UID:10007967-1729155600-1729159200@waverlychurch.org
SUMMARY:Five Element Qigong Class - Fall Session One
DESCRIPTION:Qigong is a practice that encourages the circulation of “qi” or life energy. In this class we will utilize gentle movements and stretching\, acupressure\, breath awareness and visualization to encourage the flow of qi. \nBased in Taoist Five Element Theory\, this style of qigong highlights the dynamic relationship between yin (organizing\, receptive\, cooling) and yang (animating\, expressive\, warming). \nThrough persistent effort we can strengthen our connection to the rhythms of nature and optimize our functionality. \n$40 for a six-week session. This practice requires no props and can be enjoyed standing or seated in a chair. Contact laurakbudde@gmail.com to register.
URL:https://waverlychurch.org/event/five-element-qigong-class-fall-session-one/2024-10-17/
LOCATION:Social Hall
END:VEVENT
BEGIN:VEVENT
DTSTART;TZID=America/New_York:20241017T103000
DTEND;TZID=America/New_York:20241017T113000
DTSTAMP:20260421T073956
CREATED:20240627T162656Z
LAST-MODIFIED:20240627T164421Z
UID:10007984-1729161000-1729164600@waverlychurch.org
SUMMARY:Yoga Fall Session One
DESCRIPTION:Nurture a meaningful yoga practice that promotes a balanced body and mind. \nClasses incorporate gentle and hatha yoga with strengthening and restorative postures. Sequencing and anatomical awareness is structured to increase enjoyment and accessibility. \nWhether you have an established yoga practice or are interested in trying it out for the first time you will be encouraged to listen to your body\, and make adjustments that speak to your experience. \nThis class requires a yoga mat and a towel or blanket\, with yoga blocks and a strap highly suggested. \n$40 for a six-week session. Contact laurakbudde@gmail.com to register.
URL:https://waverlychurch.org/event/yoga-fall-session-one/2024-10-17/
LOCATION:Social Hall
END:VEVENT
BEGIN:VEVENT
DTSTART;TZID=America/New_York:20241017T103000
DTEND;TZID=America/New_York:20241017T140000
DTSTAMP:20260421T073956
CREATED:20240718T171913Z
LAST-MODIFIED:20240718T181505Z
UID:10008166-1729161000-1729173600@waverlychurch.org
SUMMARY:Reiki
DESCRIPTION:
URL:https://waverlychurch.org/event/reiki/2024-10-17/
LOCATION:Social Hall
END:VEVENT
BEGIN:VEVENT
DTSTART;TZID=UTC:20241019T090000
DTEND;TZID=UTC:20241019T102000
DTSTAMP:20260421T073956
CREATED:20190310T191142Z
LAST-MODIFIED:20230830T175415Z
UID:10001375-1729328400-1729333200@waverlychurch.org
SUMMARY:Narcotics Anonymous
DESCRIPTION:Narcotics Anonymous is holding in-person meetings in the Social Hall.
URL:https://waverlychurch.org/event/na-2020-03-21-2021-07-10/2024-10-19/
END:VEVENT
BEGIN:VEVENT
DTSTART;TZID=America/New_York:20241020T100000
DTEND;TZID=America/New_York:20241020T105500
DTSTAMP:20260421T073956
CREATED:20240507T172228Z
LAST-MODIFIED:20240507T173402Z
UID:10007099-1729418400-1729421700@waverlychurch.org
SUMMARY:Sunday School
DESCRIPTION:All ages are welcome to join us each week for Sunday School in the following locations: \nChildren up through 1st grade: nursery (downstairs\, right side of front entrance – ring bell to enter) \nChildren in 2nd-5th grade: the “Frog Pond” – room off of our lower floor social hall \nYouth in 6th-12th grade” the “Wonka Room” – room off of our lower floor social hall \nAdults: lounge (upstairs in back of church)
URL:https://waverlychurch.org/event/sunday-school-3-2-2/2024-10-20/
END:VEVENT
BEGIN:VEVENT
DTSTART;TZID=America/New_York:20241020T110000
DTEND;TZID=America/New_York:20241020T121500
DTSTAMP:20260421T073956
CREATED:20240507T182308Z
LAST-MODIFIED:20240507T182315Z
UID:10007667-1729422000-1729426500@waverlychurch.org
SUMMARY:Worship Service
DESCRIPTION:We meet on Sundays in our Sanctuary at 11am during the school year and stream services online. \nSunday’s worship service will be live-streamed over our Facebook page on Sunday mornings. \n \nhttps://www.facebook.com/pg/WaverlyChurch/videos/
URL:https://waverlychurch.org/event/worship-service-5/2024-10-20/
END:VEVENT
BEGIN:VEVENT
DTSTART;TZID=America/New_York:20241020T193000
DTEND;TZID=America/New_York:20241020T210000
DTSTAMP:20260421T073956
CREATED:20190310T184702Z
LAST-MODIFIED:20220704T145322Z
UID:10000605-1729452600-1729458000@waverlychurch.org
SUMMARY:Alcoholics Anonymous
DESCRIPTION:The Frick Park Group of Alcoholics Anonymous is holding in-person meetings in the Social Hall. \nAdditional links for AA groups are posted online at the AA Central Office.\nhttps://www.pghaa.org/
URL:https://waverlychurch.org/event/aa-2020-03-22-2021-07-04/2024-10-20/
LOCATION:Social Hall
END:VEVENT
BEGIN:VEVENT
DTSTART;TZID=America/New_York:20241021T170000
DTEND;TZID=America/New_York:20241021T180000
DTSTAMP:20260421T073956
CREATED:20240827T181303Z
LAST-MODIFIED:20260309T184828Z
UID:10008232-1729530000-1729533600@waverlychurch.org
SUMMARY:Drawing Closer - Meeting on Zoom
DESCRIPTION:This time of contemplative prayer and exploration of poetry is different every week and open to all\, no matter your beliefs. \nClick here for the Zoom link or call by phone:\n929-436-2866\nMeeting ID: 829 0407 0235\nPasscode: 056654
URL:https://waverlychurch.org/event/drawing-closer/2024-10-21/
LOCATION:https://waverlychurch.org/event/drawing-closer/2024-10-21/
END:VEVENT
BEGIN:VEVENT
DTSTART;TZID=America/New_York:20241022T190000
DTEND;TZID=America/New_York:20241022T193000
DTSTAMP:20260421T073956
CREATED:20210711T201005Z
LAST-MODIFIED:20220704T150145Z
UID:10000254-1729623600-1729625400@waverlychurch.org
SUMMARY:Al-Anon [Beginners' Meeting]
DESCRIPTION:The Frick Park Al-Anon group may still be virtual. \nContact frickparkafg85[at]gmail.com with any questions.
URL:https://waverlychurch.org/event/al-anon-beginners-meeting-2022-01-04-2022-04-05/2024-10-22/
LOCATION:Social Hall
END:VEVENT
BEGIN:VEVENT
DTSTART;TZID=UTC:20241022T193000
DTEND;TZID=UTC:20241022T203000
DTSTAMP:20260421T073956
CREATED:20190310T185001Z
LAST-MODIFIED:20220331T225559Z
UID:10002483-1729625400-1729629000@waverlychurch.org
SUMMARY:Al-Anon
DESCRIPTION:The Frick Park Al-Anon is holding in-person meetings in the Social Hall. \nContact frickparkafg85[at]gmail.com with any questions.
URL:https://waverlychurch.org/event/al-anon-2020-03-24-2021-07-06-2021-07-13/2024-10-22/
END:VEVENT
BEGIN:VEVENT
DTSTART;TZID=America/New_York:20241025T110000
DTEND;TZID=America/New_York:20241025T120000
DTSTAMP:20260421T073956
CREATED:20240924T185319Z
LAST-MODIFIED:20240924T185320Z
UID:10007992-1729854000-1729857600@waverlychurch.org
SUMMARY:Tai Chi - Fall Session One
DESCRIPTION:Learn or return to Tai Chi for Health! This tai chi form focuses on posture and stability while enhancing the connection between the brain and the body. \nNew movements will be added each class as we explore concepts of tai chi practice and enjoy performing this moving meditation. \nThis class requires no props but does require standing.  \nThe full form will be taught over the course of two six-week sessions. Regular attendance and practice at home is necessary to learn and benefit from tai chi. \n$40 for a six-week session. Contact laurakbudde@gmail.com to register.
URL:https://waverlychurch.org/event/tai-chi-fall-session-one-2/2024-10-25/
LOCATION:Social Hall
END:VEVENT
BEGIN:VEVENT
DTSTART;TZID=UTC:20241026T090000
DTEND;TZID=UTC:20241026T102000
DTSTAMP:20260421T073956
CREATED:20190310T191142Z
LAST-MODIFIED:20230830T175415Z
UID:10001376-1729933200-1729938000@waverlychurch.org
SUMMARY:Narcotics Anonymous
DESCRIPTION:Narcotics Anonymous is holding in-person meetings in the Social Hall.
URL:https://waverlychurch.org/event/na-2020-03-21-2021-07-10/2024-10-26/
END:VEVENT
END:VCALENDAR