BEGIN:VCALENDAR
VERSION:2.0
PRODID:-//Waverly Presbyterian Church - ECPv6.15.20//NONSGML v1.0//EN
CALSCALE:GREGORIAN
METHOD:PUBLISH
X-ORIGINAL-URL:https://waverlychurch.org
X-WR-CALDESC:Events for Waverly Presbyterian Church
REFRESH-INTERVAL;VALUE=DURATION:PT1H
X-Robots-Tag:noindex
X-PUBLISHED-TTL:PT1H
BEGIN:VTIMEZONE
TZID:America/New_York
BEGIN:DAYLIGHT
TZOFFSETFROM:-0500
TZOFFSETTO:-0400
TZNAME:EDT
DTSTART:20240310T070000
END:DAYLIGHT
BEGIN:STANDARD
TZOFFSETFROM:-0400
TZOFFSETTO:-0500
TZNAME:EST
DTSTART:20241103T060000
END:STANDARD
BEGIN:DAYLIGHT
TZOFFSETFROM:-0500
TZOFFSETTO:-0400
TZNAME:EDT
DTSTART:20250309T070000
END:DAYLIGHT
BEGIN:STANDARD
TZOFFSETFROM:-0400
TZOFFSETTO:-0500
TZNAME:EST
DTSTART:20251102T060000
END:STANDARD
BEGIN:DAYLIGHT
TZOFFSETFROM:-0500
TZOFFSETTO:-0400
TZNAME:EDT
DTSTART:20260308T070000
END:DAYLIGHT
BEGIN:STANDARD
TZOFFSETFROM:-0400
TZOFFSETTO:-0500
TZNAME:EST
DTSTART:20261101T060000
END:STANDARD
END:VTIMEZONE
BEGIN:VTIMEZONE
TZID:UTC
BEGIN:STANDARD
TZOFFSETFROM:+0000
TZOFFSETTO:+0000
TZNAME:UTC
DTSTART:20240101T000000
END:STANDARD
END:VTIMEZONE
BEGIN:VEVENT
DTSTART;TZID=America/New_York:20250630T170000
DTEND;TZID=America/New_York:20250630T180000
DTSTAMP:20260422T184514
CREATED:20240827T181303Z
LAST-MODIFIED:20260309T184828Z
UID:10008268-1751302800-1751306400@waverlychurch.org
SUMMARY:Drawing Closer - Meeting on Zoom
DESCRIPTION:This time of contemplative prayer and exploration of poetry is different every week and open to all\, no matter your beliefs. \nClick here for the Zoom link or call by phone:\n929-436-2866\nMeeting ID: 829 0407 0235\nPasscode: 056654
URL:https://waverlychurch.org/event/drawing-closer/2025-06-30/
LOCATION:https://waverlychurch.org/event/drawing-closer/2025-06-30/
END:VEVENT
BEGIN:VEVENT
DTSTART;TZID=America/New_York:20250630T190000
DTEND;TZID=America/New_York:20250630T200000
DTSTAMP:20260422T184514
CREATED:20250304T173559Z
LAST-MODIFIED:20250304T173559Z
UID:10008986-1751310000-1751313600@waverlychurch.org
SUMMARY:Book Study via Zoom on "The Tears of Things" by Richard Rohr
DESCRIPTION:Contact Pastor Caitlin at pastor@waverlychurch.org to join.
URL:https://waverlychurch.org/event/book-study-via-zoom-on-the-tears-of-things-by-richard-rohr/2025-06-30/
END:VEVENT
BEGIN:VEVENT
DTSTART;TZID=America/New_York:20250701T190000
DTEND;TZID=America/New_York:20250701T193000
DTSTAMP:20260422T184514
CREATED:20210711T201005Z
LAST-MODIFIED:20220704T150145Z
UID:10000290-1751396400-1751398200@waverlychurch.org
SUMMARY:Al-Anon [Beginners' Meeting]
DESCRIPTION:The Frick Park Al-Anon group may still be virtual. \nContact frickparkafg85[at]gmail.com with any questions.
URL:https://waverlychurch.org/event/al-anon-beginners-meeting-2022-01-04-2022-04-05/2025-07-01/
LOCATION:Social Hall
END:VEVENT
BEGIN:VEVENT
DTSTART;TZID=UTC:20250701T193000
DTEND;TZID=UTC:20250701T203000
DTSTAMP:20260422T184514
CREATED:20190310T185001Z
LAST-MODIFIED:20220331T225559Z
UID:10002519-1751398200-1751401800@waverlychurch.org
SUMMARY:Al-Anon
DESCRIPTION:The Frick Park Al-Anon is holding in-person meetings in the Social Hall. \nContact frickparkafg85[at]gmail.com with any questions.
URL:https://waverlychurch.org/event/al-anon-2020-03-24-2021-07-06-2021-07-13/2025-07-01/
END:VEVENT
BEGIN:VEVENT
DTSTART;TZID=America/New_York:20250704T100000
DTEND;TZID=America/New_York:20250704T104500
DTSTAMP:20260422T184514
CREATED:20250401T150233Z
LAST-MODIFIED:20250529T160130Z
UID:10009043-1751623200-1751625900@waverlychurch.org
SUMMARY:Five Elements Qigong Summer Session 1 (Drop-ins Welcome)
DESCRIPTION:Contact Laura at laurakbudde@gmail.com or 618-210-3672.
URL:https://waverlychurch.org/event/five-elements-qigong-drop-ins-welcome/2025-07-04/
LOCATION:Social Hall
END:VEVENT
BEGIN:VEVENT
DTSTART;TZID=America/New_York:20250704T110000
DTEND;TZID=America/New_York:20250704T120000
DTSTAMP:20260422T184514
CREATED:20250401T150500Z
LAST-MODIFIED:20250529T160233Z
UID:10009049-1751626800-1751630400@waverlychurch.org
SUMMARY:Sun 73 Tai Chi (Advanced) Summer Session 1
DESCRIPTION:Contact Laura at laurakbudde@gmail.com or 618-210-3672. \nExperience necessary for this form.
URL:https://waverlychurch.org/event/sun-73-tai-chi-advanced/2025-07-04/
LOCATION:Social Hall
END:VEVENT
BEGIN:VEVENT
DTSTART;TZID=America/New_York:20250706T100000
DTEND;TZID=America/New_York:20250706T105500
DTSTAMP:20260422T184514
CREATED:20250313T172933Z
LAST-MODIFIED:20250313T172934Z
UID:10007136-1751796000-1751799300@waverlychurch.org
SUMMARY:Sunday School
DESCRIPTION:All ages are welcome to join us each week for Sunday School in the following locations: \nChildren up through 1st grade: nursery (downstairs\, right side of front entrance – ring bell to enter) \nChildren and Youth 2nd grade through 12th grade in the “Wonka Room” – room off of our lower floor Social Hall. \nAdults: lounge (upstairs in back of church)
URL:https://waverlychurch.org/event/sunday-school-3-2-2-2-2/2025-07-06/
END:VEVENT
BEGIN:VEVENT
DTSTART;TZID=America/New_York:20250706T110000
DTEND;TZID=America/New_York:20250706T121500
DTSTAMP:20260422T184514
CREATED:20240507T182308Z
LAST-MODIFIED:20240507T182315Z
UID:10007704-1751799600-1751804100@waverlychurch.org
SUMMARY:Worship Service
DESCRIPTION:We meet on Sundays in our Sanctuary at 11am during the school year and stream services online. \nSunday’s worship service will be live-streamed over our Facebook page on Sunday mornings. \n \nhttps://www.facebook.com/pg/WaverlyChurch/videos/
URL:https://waverlychurch.org/event/worship-service-5/2025-07-06/
END:VEVENT
BEGIN:VEVENT
DTSTART;TZID=America/New_York:20250706T121500
DTEND;TZID=America/New_York:20250706T133000
DTSTAMP:20260422T184514
CREATED:20250313T173302Z
LAST-MODIFIED:20250313T173951Z
UID:10006620-1751804100-1751808600@waverlychurch.org
SUMMARY:Coffee Hour
DESCRIPTION:Join us after service weekly for a chance to share fellowship over coffee and snacks
URL:https://waverlychurch.org/event/coffee-hour-3-2-2/2025-07-06/
LOCATION:Lounge
END:VEVENT
BEGIN:VEVENT
DTSTART;TZID=America/New_York:20250706T193000
DTEND;TZID=America/New_York:20250706T210000
DTSTAMP:20260422T184514
CREATED:20190310T184702Z
LAST-MODIFIED:20220704T145322Z
UID:10000642-1751830200-1751835600@waverlychurch.org
SUMMARY:Alcoholics Anonymous
DESCRIPTION:The Frick Park Group of Alcoholics Anonymous is holding in-person meetings in the Social Hall. \nAdditional links for AA groups are posted online at the AA Central Office.\nhttps://www.pghaa.org/
URL:https://waverlychurch.org/event/aa-2020-03-22-2021-07-04/2025-07-06/
LOCATION:Social Hall
END:VEVENT
BEGIN:VEVENT
DTSTART;TZID=America/New_York:20250707T170000
DTEND;TZID=America/New_York:20250707T180000
DTSTAMP:20260422T184514
CREATED:20240827T181303Z
LAST-MODIFIED:20260309T184828Z
UID:10008269-1751907600-1751911200@waverlychurch.org
SUMMARY:Drawing Closer - Meeting on Zoom
DESCRIPTION:This time of contemplative prayer and exploration of poetry is different every week and open to all\, no matter your beliefs. \nClick here for the Zoom link or call by phone:\n929-436-2866\nMeeting ID: 829 0407 0235\nPasscode: 056654
URL:https://waverlychurch.org/event/drawing-closer/2025-07-07/
LOCATION:https://waverlychurch.org/event/drawing-closer/2025-07-07/
END:VEVENT
BEGIN:VEVENT
DTSTART;TZID=America/New_York:20250707T190000
DTEND;TZID=America/New_York:20250707T200000
DTSTAMP:20260422T184514
CREATED:20250304T173559Z
LAST-MODIFIED:20250304T173559Z
UID:10008987-1751914800-1751918400@waverlychurch.org
SUMMARY:Book Study via Zoom on "The Tears of Things" by Richard Rohr
DESCRIPTION:Contact Pastor Caitlin at pastor@waverlychurch.org to join.
URL:https://waverlychurch.org/event/book-study-via-zoom-on-the-tears-of-things-by-richard-rohr/2025-07-07/
END:VEVENT
BEGIN:VEVENT
DTSTART;TZID=America/New_York:20250708T190000
DTEND;TZID=America/New_York:20250708T193000
DTSTAMP:20260422T184514
CREATED:20210711T201005Z
LAST-MODIFIED:20220704T150145Z
UID:10000291-1752001200-1752003000@waverlychurch.org
SUMMARY:Al-Anon [Beginners' Meeting]
DESCRIPTION:The Frick Park Al-Anon group may still be virtual. \nContact frickparkafg85[at]gmail.com with any questions.
URL:https://waverlychurch.org/event/al-anon-beginners-meeting-2022-01-04-2022-04-05/2025-07-08/
LOCATION:Social Hall
END:VEVENT
BEGIN:VEVENT
DTSTART;TZID=UTC:20250708T193000
DTEND;TZID=UTC:20250708T203000
DTSTAMP:20260422T184514
CREATED:20190310T185001Z
LAST-MODIFIED:20220331T225559Z
UID:10002520-1752003000-1752006600@waverlychurch.org
SUMMARY:Al-Anon
DESCRIPTION:The Frick Park Al-Anon is holding in-person meetings in the Social Hall. \nContact frickparkafg85[at]gmail.com with any questions.
URL:https://waverlychurch.org/event/al-anon-2020-03-24-2021-07-06-2021-07-13/2025-07-08/
END:VEVENT
BEGIN:VEVENT
DTSTART;TZID=America/New_York:20250713T100000
DTEND;TZID=America/New_York:20250713T105500
DTSTAMP:20260422T184514
CREATED:20250313T172933Z
LAST-MODIFIED:20250313T172934Z
UID:10007137-1752400800-1752404100@waverlychurch.org
SUMMARY:Sunday School
DESCRIPTION:All ages are welcome to join us each week for Sunday School in the following locations: \nChildren up through 1st grade: nursery (downstairs\, right side of front entrance – ring bell to enter) \nChildren and Youth 2nd grade through 12th grade in the “Wonka Room” – room off of our lower floor Social Hall. \nAdults: lounge (upstairs in back of church)
URL:https://waverlychurch.org/event/sunday-school-3-2-2-2-2/2025-07-13/
END:VEVENT
BEGIN:VEVENT
DTSTART;TZID=America/New_York:20250713T110000
DTEND;TZID=America/New_York:20250713T121500
DTSTAMP:20260422T184514
CREATED:20240507T182308Z
LAST-MODIFIED:20240507T182315Z
UID:10007705-1752404400-1752408900@waverlychurch.org
SUMMARY:Worship Service
DESCRIPTION:We meet on Sundays in our Sanctuary at 11am during the school year and stream services online. \nSunday’s worship service will be live-streamed over our Facebook page on Sunday mornings. \n \nhttps://www.facebook.com/pg/WaverlyChurch/videos/
URL:https://waverlychurch.org/event/worship-service-5/2025-07-13/
END:VEVENT
BEGIN:VEVENT
DTSTART;TZID=America/New_York:20250713T121500
DTEND;TZID=America/New_York:20250713T133000
DTSTAMP:20260422T184514
CREATED:20250313T173302Z
LAST-MODIFIED:20250313T173951Z
UID:10006621-1752408900-1752413400@waverlychurch.org
SUMMARY:Coffee Hour
DESCRIPTION:Join us after service weekly for a chance to share fellowship over coffee and snacks
URL:https://waverlychurch.org/event/coffee-hour-3-2-2/2025-07-13/
LOCATION:Lounge
END:VEVENT
BEGIN:VEVENT
DTSTART;TZID=America/New_York:20250713T193000
DTEND;TZID=America/New_York:20250713T210000
DTSTAMP:20260422T184514
CREATED:20190310T184702Z
LAST-MODIFIED:20220704T145322Z
UID:10000643-1752435000-1752440400@waverlychurch.org
SUMMARY:Alcoholics Anonymous
DESCRIPTION:The Frick Park Group of Alcoholics Anonymous is holding in-person meetings in the Social Hall. \nAdditional links for AA groups are posted online at the AA Central Office.\nhttps://www.pghaa.org/
URL:https://waverlychurch.org/event/aa-2020-03-22-2021-07-04/2025-07-13/
LOCATION:Social Hall
END:VEVENT
BEGIN:VEVENT
DTSTART;TZID=America/New_York:20250714T170000
DTEND;TZID=America/New_York:20250714T180000
DTSTAMP:20260422T184514
CREATED:20240827T181303Z
LAST-MODIFIED:20260309T184828Z
UID:10008270-1752512400-1752516000@waverlychurch.org
SUMMARY:Drawing Closer - Meeting on Zoom
DESCRIPTION:This time of contemplative prayer and exploration of poetry is different every week and open to all\, no matter your beliefs. \nClick here for the Zoom link or call by phone:\n929-436-2866\nMeeting ID: 829 0407 0235\nPasscode: 056654
URL:https://waverlychurch.org/event/drawing-closer/2025-07-14/
LOCATION:https://waverlychurch.org/event/drawing-closer/2025-07-14/
END:VEVENT
BEGIN:VEVENT
DTSTART;TZID=America/New_York:20250714T190000
DTEND;TZID=America/New_York:20250714T200000
DTSTAMP:20260422T184514
CREATED:20250304T173559Z
LAST-MODIFIED:20250304T173559Z
UID:10008988-1752519600-1752523200@waverlychurch.org
SUMMARY:Book Study via Zoom on "The Tears of Things" by Richard Rohr
DESCRIPTION:Contact Pastor Caitlin at pastor@waverlychurch.org to join.
URL:https://waverlychurch.org/event/book-study-via-zoom-on-the-tears-of-things-by-richard-rohr/2025-07-14/
END:VEVENT
BEGIN:VEVENT
DTSTART;TZID=America/New_York:20250715T190000
DTEND;TZID=America/New_York:20250715T193000
DTSTAMP:20260422T184514
CREATED:20210711T201005Z
LAST-MODIFIED:20220704T150145Z
UID:10000292-1752606000-1752607800@waverlychurch.org
SUMMARY:Al-Anon [Beginners' Meeting]
DESCRIPTION:The Frick Park Al-Anon group may still be virtual. \nContact frickparkafg85[at]gmail.com with any questions.
URL:https://waverlychurch.org/event/al-anon-beginners-meeting-2022-01-04-2022-04-05/2025-07-15/
LOCATION:Social Hall
END:VEVENT
BEGIN:VEVENT
DTSTART;TZID=UTC:20250715T193000
DTEND;TZID=UTC:20250715T203000
DTSTAMP:20260422T184514
CREATED:20190310T185001Z
LAST-MODIFIED:20220331T225559Z
UID:10002521-1752607800-1752611400@waverlychurch.org
SUMMARY:Al-Anon
DESCRIPTION:The Frick Park Al-Anon is holding in-person meetings in the Social Hall. \nContact frickparkafg85[at]gmail.com with any questions.
URL:https://waverlychurch.org/event/al-anon-2020-03-24-2021-07-06-2021-07-13/2025-07-15/
END:VEVENT
BEGIN:VEVENT
DTSTART;TZID=America/New_York:20250717T103000
DTEND;TZID=America/New_York:20250717T140000
DTSTAMP:20260422T184514
CREATED:20241211T164945Z
LAST-MODIFIED:20241211T164945Z
UID:10008597-1752748200-1752760800@waverlychurch.org
SUMMARY:Reiki with Bob Dove and Ross Marshall
DESCRIPTION:
URL:https://waverlychurch.org/event/reiki-with-bob-dove-and-ross-marshall-2/2025-07-17/
LOCATION:Social Hall
END:VEVENT
BEGIN:VEVENT
DTSTART;TZID=America/New_York:20250718T100000
DTEND;TZID=America/New_York:20250718T104500
DTSTAMP:20260422T184514
CREATED:20250529T154224Z
LAST-MODIFIED:20250529T154224Z
UID:10126530-1752832800-1752835500@waverlychurch.org
SUMMARY:Five Elements Qigong Summer Session 2 (Drop-ins Welcome)
DESCRIPTION:Contact Laura at laurakbudde@gmail.com or 618-210-3672.
URL:https://waverlychurch.org/event/five-elements-qigong-summer-session-2-drop-ins-welcome/2025-07-18/
LOCATION:Social Hall
END:VEVENT
BEGIN:VEVENT
DTSTART;TZID=America/New_York:20250720T100000
DTEND;TZID=America/New_York:20250720T105500
DTSTAMP:20260422T184514
CREATED:20250313T172933Z
LAST-MODIFIED:20250313T172934Z
UID:10007138-1753005600-1753008900@waverlychurch.org
SUMMARY:Sunday School
DESCRIPTION:All ages are welcome to join us each week for Sunday School in the following locations: \nChildren up through 1st grade: nursery (downstairs\, right side of front entrance – ring bell to enter) \nChildren and Youth 2nd grade through 12th grade in the “Wonka Room” – room off of our lower floor Social Hall. \nAdults: lounge (upstairs in back of church)
URL:https://waverlychurch.org/event/sunday-school-3-2-2-2-2/2025-07-20/
END:VEVENT
BEGIN:VEVENT
DTSTART;TZID=America/New_York:20250720T110000
DTEND;TZID=America/New_York:20250720T121500
DTSTAMP:20260422T184514
CREATED:20240507T182308Z
LAST-MODIFIED:20240507T182315Z
UID:10007706-1753009200-1753013700@waverlychurch.org
SUMMARY:Worship Service
DESCRIPTION:We meet on Sundays in our Sanctuary at 11am during the school year and stream services online. \nSunday’s worship service will be live-streamed over our Facebook page on Sunday mornings. \n \nhttps://www.facebook.com/pg/WaverlyChurch/videos/
URL:https://waverlychurch.org/event/worship-service-5/2025-07-20/
END:VEVENT
BEGIN:VEVENT
DTSTART;TZID=America/New_York:20250720T121500
DTEND;TZID=America/New_York:20250720T133000
DTSTAMP:20260422T184514
CREATED:20250313T173302Z
LAST-MODIFIED:20250313T173951Z
UID:10006622-1753013700-1753018200@waverlychurch.org
SUMMARY:Coffee Hour
DESCRIPTION:Join us after service weekly for a chance to share fellowship over coffee and snacks
URL:https://waverlychurch.org/event/coffee-hour-3-2-2/2025-07-20/
LOCATION:Lounge
END:VEVENT
BEGIN:VEVENT
DTSTART;TZID=America/New_York:20250720T193000
DTEND;TZID=America/New_York:20250720T210000
DTSTAMP:20260422T184514
CREATED:20190310T184702Z
LAST-MODIFIED:20220704T145322Z
UID:10000644-1753039800-1753045200@waverlychurch.org
SUMMARY:Alcoholics Anonymous
DESCRIPTION:The Frick Park Group of Alcoholics Anonymous is holding in-person meetings in the Social Hall. \nAdditional links for AA groups are posted online at the AA Central Office.\nhttps://www.pghaa.org/
URL:https://waverlychurch.org/event/aa-2020-03-22-2021-07-04/2025-07-20/
LOCATION:Social Hall
END:VEVENT
BEGIN:VEVENT
DTSTART;TZID=America/New_York:20250721T170000
DTEND;TZID=America/New_York:20250721T180000
DTSTAMP:20260422T184514
CREATED:20240827T181303Z
LAST-MODIFIED:20260309T184828Z
UID:10008271-1753117200-1753120800@waverlychurch.org
SUMMARY:Drawing Closer - Meeting on Zoom
DESCRIPTION:This time of contemplative prayer and exploration of poetry is different every week and open to all\, no matter your beliefs. \nClick here for the Zoom link or call by phone:\n929-436-2866\nMeeting ID: 829 0407 0235\nPasscode: 056654
URL:https://waverlychurch.org/event/drawing-closer/2025-07-21/
LOCATION:https://waverlychurch.org/event/drawing-closer/2025-07-21/
END:VEVENT
BEGIN:VEVENT
DTSTART;TZID=America/New_York:20250721T190000
DTEND;TZID=America/New_York:20250721T200000
DTSTAMP:20260422T184514
CREATED:20250304T173559Z
LAST-MODIFIED:20250304T173559Z
UID:10008989-1753124400-1753128000@waverlychurch.org
SUMMARY:Book Study via Zoom on "The Tears of Things" by Richard Rohr
DESCRIPTION:Contact Pastor Caitlin at pastor@waverlychurch.org to join.
URL:https://waverlychurch.org/event/book-study-via-zoom-on-the-tears-of-things-by-richard-rohr/2025-07-21/
END:VEVENT
END:VCALENDAR