BEGIN:VCALENDAR
VERSION:2.0
PRODID:-//Waverly Presbyterian Church - ECPv6.15.20//NONSGML v1.0//EN
CALSCALE:GREGORIAN
METHOD:PUBLISH
X-ORIGINAL-URL:https://waverlychurch.org
X-WR-CALDESC:Events for Waverly Presbyterian Church
REFRESH-INTERVAL;VALUE=DURATION:PT1H
X-Robots-Tag:noindex
X-PUBLISHED-TTL:PT1H
BEGIN:VTIMEZONE
TZID:America/New_York
BEGIN:DAYLIGHT
TZOFFSETFROM:-0500
TZOFFSETTO:-0400
TZNAME:EDT
DTSTART:20260308T070000
END:DAYLIGHT
BEGIN:STANDARD
TZOFFSETFROM:-0400
TZOFFSETTO:-0500
TZNAME:EST
DTSTART:20261101T060000
END:STANDARD
BEGIN:DAYLIGHT
TZOFFSETFROM:-0500
TZOFFSETTO:-0400
TZNAME:EDT
DTSTART:20270314T070000
END:DAYLIGHT
BEGIN:STANDARD
TZOFFSETFROM:-0400
TZOFFSETTO:-0500
TZNAME:EST
DTSTART:20271107T060000
END:STANDARD
BEGIN:DAYLIGHT
TZOFFSETFROM:-0500
TZOFFSETTO:-0400
TZNAME:EDT
DTSTART:20280312T070000
END:DAYLIGHT
BEGIN:STANDARD
TZOFFSETFROM:-0400
TZOFFSETTO:-0500
TZNAME:EST
DTSTART:20281105T060000
END:STANDARD
END:VTIMEZONE
BEGIN:VTIMEZONE
TZID:UTC
BEGIN:STANDARD
TZOFFSETFROM:+0000
TZOFFSETTO:+0000
TZNAME:UTC
DTSTART:20260101T000000
END:STANDARD
END:VTIMEZONE
BEGIN:VEVENT
DTSTART;TZID=America/New_York:20271110T090000
DTEND;TZID=America/New_York:20271110T200000
DTSTAMP:20260421T011251
CREATED:20251030T152456Z
LAST-MODIFIED:20251030T152456Z
UID:10131935-1825837200-1825876800@waverlychurch.org
SUMMARY:Guitar Lessons
DESCRIPTION:ian@cainsmusiclessons.com
URL:https://waverlychurch.org/event/guitar-lessons/2027-11-10/
LOCATION:Frog Room
END:VEVENT
BEGIN:VEVENT
DTSTART;TZID=America/New_York:20271111T190000
DTEND;TZID=America/New_York:20271111T203000
DTSTAMP:20260421T011251
CREATED:20251125T183555Z
LAST-MODIFIED:20251125T183747Z
UID:10132435-1825959600-1825965000@waverlychurch.org
SUMMARY:Choir Rehearsal in Lounge
DESCRIPTION:
URL:https://waverlychurch.org/event/choir-rehearsal-in-lounge/2027-11-11/
LOCATION:Lounge
END:VEVENT
BEGIN:VEVENT
DTSTART;TZID=America/New_York:20271114T093000
DTEND;TZID=America/New_York:20271114T100000
DTSTAMP:20260421T011251
CREATED:20251125T184126Z
LAST-MODIFIED:20251125T184126Z
UID:10132696-1826184600-1826186400@waverlychurch.org
SUMMARY:Choir Rehearsal in Sanctuary
DESCRIPTION:
URL:https://waverlychurch.org/event/choir-rehearsal-in-sanctuary/2027-11-14/
END:VEVENT
BEGIN:VEVENT
DTSTART;TZID=America/New_York:20271114T100000
DTEND;TZID=America/New_York:20271114T105500
DTSTAMP:20260421T011251
CREATED:20260305T170350Z
LAST-MODIFIED:20260305T170351Z
UID:10007259-1826186400-1826189700@waverlychurch.org
SUMMARY:Sunday School
DESCRIPTION:All ages are welcome to join us each week for Sunday School in the following locations: \nChildren up through 1st grade: nursery (downstairs\, right side of front entrance – ring bell to enter) \nChildren and Youth 2nd grade through 12th grade in the “Wonka Room” – room off of our lower floor Social Hall. \nAdults: lounge (upstairs in back of church)
URL:https://waverlychurch.org/event/sunday-school-3-2-2-2-2-2-2-2/2027-11-14/
END:VEVENT
BEGIN:VEVENT
DTSTART;TZID=America/New_York:20271114T110000
DTEND;TZID=America/New_York:20271114T121500
DTSTAMP:20260421T011251
CREATED:20250923T171614Z
LAST-MODIFIED:20250923T171615Z
UID:10007827-1826190000-1826194500@waverlychurch.org
SUMMARY:Worship Service
DESCRIPTION:We meet on Sundays in our Sanctuary at 11am during the school year and stream services online. \nSunday’s worship service will be live-streamed over our Facebook page on Sunday mornings. \n \nhttps://www.facebook.com/pg/WaverlyChurch/videos/
URL:https://waverlychurch.org/event/worship-service-5-2-2/2027-11-14/
END:VEVENT
BEGIN:VEVENT
DTSTART;TZID=America/New_York:20271114T121500
DTEND;TZID=America/New_York:20271114T133000
DTSTAMP:20260421T011251
CREATED:20260305T165302Z
LAST-MODIFIED:20260305T170242Z
UID:10006743-1826194500-1826199000@waverlychurch.org
SUMMARY:Coffee Hour
DESCRIPTION:Join us after service weekly for a chance to share fellowship over coffee and snacks
URL:https://waverlychurch.org/event/coffee-hour-3-2-2-2-2-2/2027-11-14/
LOCATION:Lounge
END:VEVENT
BEGIN:VEVENT
DTSTART;TZID=America/New_York:20271114T193000
DTEND;TZID=America/New_York:20271114T210000
DTSTAMP:20260421T011251
CREATED:20190310T184702Z
LAST-MODIFIED:20220704T145322Z
UID:10000765-1826220600-1826226000@waverlychurch.org
SUMMARY:Alcoholics Anonymous
DESCRIPTION:The Frick Park Group of Alcoholics Anonymous is holding in-person meetings in the Social Hall. \nAdditional links for AA groups are posted online at the AA Central Office.\nhttps://www.pghaa.org/
URL:https://waverlychurch.org/event/aa-2020-03-22-2021-07-04/2027-11-14/
LOCATION:Social Hall
END:VEVENT
BEGIN:VEVENT
DTSTART;TZID=America/New_York:20271115T090000
DTEND;TZID=America/New_York:20271115T200000
DTSTAMP:20260421T011251
CREATED:20251030T152456Z
LAST-MODIFIED:20251030T152456Z
UID:10131936-1826269200-1826308800@waverlychurch.org
SUMMARY:Guitar Lessons
DESCRIPTION:ian@cainsmusiclessons.com
URL:https://waverlychurch.org/event/guitar-lessons/2027-11-15/
LOCATION:Frog Room
END:VEVENT
BEGIN:VEVENT
DTSTART;TZID=America/New_York:20271116T190000
DTEND;TZID=America/New_York:20271116T193000
DTSTAMP:20260421T011251
CREATED:20210711T201005Z
LAST-MODIFIED:20220704T150145Z
UID:10000414-1826391600-1826393400@waverlychurch.org
SUMMARY:Al-Anon [Beginners' Meeting]
DESCRIPTION:The Frick Park Al-Anon group may still be virtual. \nContact frickparkafg85[at]gmail.com with any questions.
URL:https://waverlychurch.org/event/al-anon-beginners-meeting-2022-01-04-2022-04-05/2027-11-16/
LOCATION:Social Hall
END:VEVENT
BEGIN:VEVENT
DTSTART;TZID=UTC:20271116T193000
DTEND;TZID=UTC:20271116T203000
DTSTAMP:20260421T011251
CREATED:20190310T185001Z
LAST-MODIFIED:20220331T225559Z
UID:10002643-1826393400-1826397000@waverlychurch.org
SUMMARY:Al-Anon
DESCRIPTION:The Frick Park Al-Anon is holding in-person meetings in the Social Hall. \nContact frickparkafg85[at]gmail.com with any questions.
URL:https://waverlychurch.org/event/al-anon-2020-03-24-2021-07-06-2021-07-13/2027-11-16/
END:VEVENT
BEGIN:VEVENT
DTSTART;TZID=America/New_York:20271117T090000
DTEND;TZID=America/New_York:20271117T200000
DTSTAMP:20260421T011251
CREATED:20251030T152456Z
LAST-MODIFIED:20251030T152456Z
UID:10131937-1826442000-1826481600@waverlychurch.org
SUMMARY:Guitar Lessons
DESCRIPTION:ian@cainsmusiclessons.com
URL:https://waverlychurch.org/event/guitar-lessons/2027-11-17/
LOCATION:Frog Room
END:VEVENT
BEGIN:VEVENT
DTSTART;TZID=America/New_York:20271118T190000
DTEND;TZID=America/New_York:20271118T203000
DTSTAMP:20260421T011251
CREATED:20251125T183555Z
LAST-MODIFIED:20251125T183747Z
UID:10132436-1826564400-1826569800@waverlychurch.org
SUMMARY:Choir Rehearsal in Lounge
DESCRIPTION:
URL:https://waverlychurch.org/event/choir-rehearsal-in-lounge/2027-11-18/
LOCATION:Lounge
END:VEVENT
BEGIN:VEVENT
DTSTART;TZID=America/New_York:20271121T093000
DTEND;TZID=America/New_York:20271121T100000
DTSTAMP:20260421T011251
CREATED:20251125T184126Z
LAST-MODIFIED:20251125T184126Z
UID:10132697-1826789400-1826791200@waverlychurch.org
SUMMARY:Choir Rehearsal in Sanctuary
DESCRIPTION:
URL:https://waverlychurch.org/event/choir-rehearsal-in-sanctuary/2027-11-21/
END:VEVENT
BEGIN:VEVENT
DTSTART;TZID=America/New_York:20271121T100000
DTEND;TZID=America/New_York:20271121T105500
DTSTAMP:20260421T011251
CREATED:20260305T170350Z
LAST-MODIFIED:20260305T170351Z
UID:10007260-1826791200-1826794500@waverlychurch.org
SUMMARY:Sunday School
DESCRIPTION:All ages are welcome to join us each week for Sunday School in the following locations: \nChildren up through 1st grade: nursery (downstairs\, right side of front entrance – ring bell to enter) \nChildren and Youth 2nd grade through 12th grade in the “Wonka Room” – room off of our lower floor Social Hall. \nAdults: lounge (upstairs in back of church)
URL:https://waverlychurch.org/event/sunday-school-3-2-2-2-2-2-2-2/2027-11-21/
END:VEVENT
BEGIN:VEVENT
DTSTART;TZID=America/New_York:20271121T110000
DTEND;TZID=America/New_York:20271121T121500
DTSTAMP:20260421T011251
CREATED:20250923T171614Z
LAST-MODIFIED:20250923T171615Z
UID:10007828-1826794800-1826799300@waverlychurch.org
SUMMARY:Worship Service
DESCRIPTION:We meet on Sundays in our Sanctuary at 11am during the school year and stream services online. \nSunday’s worship service will be live-streamed over our Facebook page on Sunday mornings. \n \nhttps://www.facebook.com/pg/WaverlyChurch/videos/
URL:https://waverlychurch.org/event/worship-service-5-2-2/2027-11-21/
END:VEVENT
BEGIN:VEVENT
DTSTART;TZID=America/New_York:20271121T121500
DTEND;TZID=America/New_York:20271121T133000
DTSTAMP:20260421T011251
CREATED:20260305T165302Z
LAST-MODIFIED:20260305T170242Z
UID:10006744-1826799300-1826803800@waverlychurch.org
SUMMARY:Coffee Hour
DESCRIPTION:Join us after service weekly for a chance to share fellowship over coffee and snacks
URL:https://waverlychurch.org/event/coffee-hour-3-2-2-2-2-2/2027-11-21/
LOCATION:Lounge
END:VEVENT
BEGIN:VEVENT
DTSTART;TZID=America/New_York:20271121T193000
DTEND;TZID=America/New_York:20271121T210000
DTSTAMP:20260421T011251
CREATED:20190310T184702Z
LAST-MODIFIED:20220704T145322Z
UID:10000766-1826825400-1826830800@waverlychurch.org
SUMMARY:Alcoholics Anonymous
DESCRIPTION:The Frick Park Group of Alcoholics Anonymous is holding in-person meetings in the Social Hall. \nAdditional links for AA groups are posted online at the AA Central Office.\nhttps://www.pghaa.org/
URL:https://waverlychurch.org/event/aa-2020-03-22-2021-07-04/2027-11-21/
LOCATION:Social Hall
END:VEVENT
BEGIN:VEVENT
DTSTART;TZID=America/New_York:20271122T090000
DTEND;TZID=America/New_York:20271122T200000
DTSTAMP:20260421T011251
CREATED:20251030T152456Z
LAST-MODIFIED:20251030T152456Z
UID:10131938-1826874000-1826913600@waverlychurch.org
SUMMARY:Guitar Lessons
DESCRIPTION:ian@cainsmusiclessons.com
URL:https://waverlychurch.org/event/guitar-lessons/2027-11-22/
LOCATION:Frog Room
END:VEVENT
BEGIN:VEVENT
DTSTART;TZID=America/New_York:20271123T190000
DTEND;TZID=America/New_York:20271123T193000
DTSTAMP:20260421T011251
CREATED:20210711T201005Z
LAST-MODIFIED:20220704T150145Z
UID:10000415-1826996400-1826998200@waverlychurch.org
SUMMARY:Al-Anon [Beginners' Meeting]
DESCRIPTION:The Frick Park Al-Anon group may still be virtual. \nContact frickparkafg85[at]gmail.com with any questions.
URL:https://waverlychurch.org/event/al-anon-beginners-meeting-2022-01-04-2022-04-05/2027-11-23/
LOCATION:Social Hall
END:VEVENT
BEGIN:VEVENT
DTSTART;TZID=UTC:20271123T193000
DTEND;TZID=UTC:20271123T203000
DTSTAMP:20260421T011251
CREATED:20190310T185001Z
LAST-MODIFIED:20220331T225559Z
UID:10002644-1826998200-1827001800@waverlychurch.org
SUMMARY:Al-Anon
DESCRIPTION:The Frick Park Al-Anon is holding in-person meetings in the Social Hall. \nContact frickparkafg85[at]gmail.com with any questions.
URL:https://waverlychurch.org/event/al-anon-2020-03-24-2021-07-06-2021-07-13/2027-11-23/
END:VEVENT
BEGIN:VEVENT
DTSTART;TZID=America/New_York:20271124T090000
DTEND;TZID=America/New_York:20271124T200000
DTSTAMP:20260421T011251
CREATED:20251030T152456Z
LAST-MODIFIED:20251030T152456Z
UID:10131939-1827046800-1827086400@waverlychurch.org
SUMMARY:Guitar Lessons
DESCRIPTION:ian@cainsmusiclessons.com
URL:https://waverlychurch.org/event/guitar-lessons/2027-11-24/
LOCATION:Frog Room
END:VEVENT
BEGIN:VEVENT
DTSTART;TZID=America/New_York:20271125T103000
DTEND;TZID=America/New_York:20271125T140000
DTSTAMP:20260421T011251
CREATED:20260324T153601Z
LAST-MODIFIED:20260324T153603Z
UID:10133086-1827138600-1827151200@waverlychurch.org
SUMMARY:Reiki with Bob Dove and Ross Marshall
DESCRIPTION:
URL:https://waverlychurch.org/event/reiki-with-bob-dove-and-ross-marshall-2-2/2027-11-25/
LOCATION:Social Hall
END:VEVENT
BEGIN:VEVENT
DTSTART;TZID=America/New_York:20271125T190000
DTEND;TZID=America/New_York:20271125T203000
DTSTAMP:20260421T011251
CREATED:20251125T183555Z
LAST-MODIFIED:20251125T183747Z
UID:10132437-1827169200-1827174600@waverlychurch.org
SUMMARY:Choir Rehearsal in Lounge
DESCRIPTION:
URL:https://waverlychurch.org/event/choir-rehearsal-in-lounge/2027-11-25/
LOCATION:Lounge
END:VEVENT
BEGIN:VEVENT
DTSTART;TZID=America/New_York:20271128T093000
DTEND;TZID=America/New_York:20271128T100000
DTSTAMP:20260421T011251
CREATED:20251125T184126Z
LAST-MODIFIED:20251125T184126Z
UID:10132698-1827394200-1827396000@waverlychurch.org
SUMMARY:Choir Rehearsal in Sanctuary
DESCRIPTION:
URL:https://waverlychurch.org/event/choir-rehearsal-in-sanctuary/2027-11-28/
END:VEVENT
BEGIN:VEVENT
DTSTART;TZID=America/New_York:20271128T100000
DTEND;TZID=America/New_York:20271128T105500
DTSTAMP:20260421T011251
CREATED:20260305T170350Z
LAST-MODIFIED:20260305T170351Z
UID:10007261-1827396000-1827399300@waverlychurch.org
SUMMARY:Sunday School
DESCRIPTION:All ages are welcome to join us each week for Sunday School in the following locations: \nChildren up through 1st grade: nursery (downstairs\, right side of front entrance – ring bell to enter) \nChildren and Youth 2nd grade through 12th grade in the “Wonka Room” – room off of our lower floor Social Hall. \nAdults: lounge (upstairs in back of church)
URL:https://waverlychurch.org/event/sunday-school-3-2-2-2-2-2-2-2/2027-11-28/
END:VEVENT
BEGIN:VEVENT
DTSTART;TZID=America/New_York:20271128T110000
DTEND;TZID=America/New_York:20271128T121500
DTSTAMP:20260421T011251
CREATED:20250923T171614Z
LAST-MODIFIED:20250923T171615Z
UID:10007829-1827399600-1827404100@waverlychurch.org
SUMMARY:Worship Service
DESCRIPTION:We meet on Sundays in our Sanctuary at 11am during the school year and stream services online. \nSunday’s worship service will be live-streamed over our Facebook page on Sunday mornings. \n \nhttps://www.facebook.com/pg/WaverlyChurch/videos/
URL:https://waverlychurch.org/event/worship-service-5-2-2/2027-11-28/
END:VEVENT
BEGIN:VEVENT
DTSTART;TZID=America/New_York:20271128T121500
DTEND;TZID=America/New_York:20271128T133000
DTSTAMP:20260421T011251
CREATED:20260305T165302Z
LAST-MODIFIED:20260305T170242Z
UID:10006745-1827404100-1827408600@waverlychurch.org
SUMMARY:Coffee Hour
DESCRIPTION:Join us after service weekly for a chance to share fellowship over coffee and snacks
URL:https://waverlychurch.org/event/coffee-hour-3-2-2-2-2-2/2027-11-28/
LOCATION:Lounge
END:VEVENT
BEGIN:VEVENT
DTSTART;TZID=America/New_York:20271128T193000
DTEND;TZID=America/New_York:20271128T210000
DTSTAMP:20260421T011252
CREATED:20190310T184702Z
LAST-MODIFIED:20220704T145322Z
UID:10000767-1827430200-1827435600@waverlychurch.org
SUMMARY:Alcoholics Anonymous
DESCRIPTION:The Frick Park Group of Alcoholics Anonymous is holding in-person meetings in the Social Hall. \nAdditional links for AA groups are posted online at the AA Central Office.\nhttps://www.pghaa.org/
URL:https://waverlychurch.org/event/aa-2020-03-22-2021-07-04/2027-11-28/
LOCATION:Social Hall
END:VEVENT
BEGIN:VEVENT
DTSTART;TZID=America/New_York:20271129T090000
DTEND;TZID=America/New_York:20271129T200000
DTSTAMP:20260421T011252
CREATED:20251030T152456Z
LAST-MODIFIED:20251030T152456Z
UID:10131940-1827478800-1827518400@waverlychurch.org
SUMMARY:Guitar Lessons
DESCRIPTION:ian@cainsmusiclessons.com
URL:https://waverlychurch.org/event/guitar-lessons/2027-11-29/
LOCATION:Frog Room
END:VEVENT
BEGIN:VEVENT
DTSTART;TZID=America/New_York:20271130T190000
DTEND;TZID=America/New_York:20271130T193000
DTSTAMP:20260421T011252
CREATED:20210711T201005Z
LAST-MODIFIED:20220704T150145Z
UID:10000416-1827601200-1827603000@waverlychurch.org
SUMMARY:Al-Anon [Beginners' Meeting]
DESCRIPTION:The Frick Park Al-Anon group may still be virtual. \nContact frickparkafg85[at]gmail.com with any questions.
URL:https://waverlychurch.org/event/al-anon-beginners-meeting-2022-01-04-2022-04-05/2027-11-30/
LOCATION:Social Hall
END:VEVENT
END:VCALENDAR