BEGIN:VCALENDAR
VERSION:2.0
PRODID:-//Waverly Presbyterian Church - ECPv6.15.20//NONSGML v1.0//EN
CALSCALE:GREGORIAN
METHOD:PUBLISH
X-ORIGINAL-URL:https://waverlychurch.org
X-WR-CALDESC:Events for Waverly Presbyterian Church
REFRESH-INTERVAL;VALUE=DURATION:PT1H
X-Robots-Tag:noindex
X-PUBLISHED-TTL:PT1H
BEGIN:VTIMEZONE
TZID:America/New_York
BEGIN:DAYLIGHT
TZOFFSETFROM:-0500
TZOFFSETTO:-0400
TZNAME:EDT
DTSTART:20270314T070000
END:DAYLIGHT
BEGIN:STANDARD
TZOFFSETFROM:-0400
TZOFFSETTO:-0500
TZNAME:EST
DTSTART:20271107T060000
END:STANDARD
BEGIN:DAYLIGHT
TZOFFSETFROM:-0500
TZOFFSETTO:-0400
TZNAME:EDT
DTSTART:20280312T070000
END:DAYLIGHT
BEGIN:STANDARD
TZOFFSETFROM:-0400
TZOFFSETTO:-0500
TZNAME:EST
DTSTART:20281105T060000
END:STANDARD
BEGIN:DAYLIGHT
TZOFFSETFROM:-0500
TZOFFSETTO:-0400
TZNAME:EDT
DTSTART:20290311T070000
END:DAYLIGHT
BEGIN:STANDARD
TZOFFSETFROM:-0400
TZOFFSETTO:-0500
TZNAME:EST
DTSTART:20291104T060000
END:STANDARD
END:VTIMEZONE
BEGIN:VEVENT
DTSTART;TZID=America/New_York:20280528T093000
DTEND;TZID=America/New_York:20280528T100000
DTSTAMP:20260421T170016
CREATED:20251125T184126Z
LAST-MODIFIED:20251125T184126Z
UID:10132724-1843119000-1843120800@waverlychurch.org
SUMMARY:Choir Rehearsal in Sanctuary
DESCRIPTION:
URL:https://waverlychurch.org/event/choir-rehearsal-in-sanctuary/2028-05-28/
END:VEVENT
BEGIN:VEVENT
DTSTART;TZID=America/New_York:20280528T100000
DTEND;TZID=America/New_York:20280528T105500
DTSTAMP:20260421T170016
CREATED:20260305T170350Z
LAST-MODIFIED:20260305T170351Z
UID:10007287-1843120800-1843124100@waverlychurch.org
SUMMARY:Sunday School
DESCRIPTION:All ages are welcome to join us each week for Sunday School in the following locations: \nChildren up through 1st grade: nursery (downstairs\, right side of front entrance – ring bell to enter) \nChildren and Youth 2nd grade through 12th grade in the “Wonka Room” – room off of our lower floor Social Hall. \nAdults: lounge (upstairs in back of church)
URL:https://waverlychurch.org/event/sunday-school-3-2-2-2-2-2-2-2/2028-05-28/
END:VEVENT
BEGIN:VEVENT
DTSTART;TZID=America/New_York:20280528T110000
DTEND;TZID=America/New_York:20280528T121500
DTSTAMP:20260421T170016
CREATED:20250923T171614Z
LAST-MODIFIED:20250923T171615Z
UID:10007855-1843124400-1843128900@waverlychurch.org
SUMMARY:Worship Service
DESCRIPTION:We meet on Sundays in our Sanctuary at 11am during the school year and stream services online. \nSunday’s worship service will be live-streamed over our Facebook page on Sunday mornings. \n \nhttps://www.facebook.com/pg/WaverlyChurch/videos/
URL:https://waverlychurch.org/event/worship-service-5-2-2/2028-05-28/
END:VEVENT
BEGIN:VEVENT
DTSTART;TZID=America/New_York:20280528T121500
DTEND;TZID=America/New_York:20280528T133000
DTSTAMP:20260421T170016
CREATED:20260305T165302Z
LAST-MODIFIED:20260305T170242Z
UID:10006771-1843128900-1843133400@waverlychurch.org
SUMMARY:Coffee Hour
DESCRIPTION:Join us after service weekly for a chance to share fellowship over coffee and snacks
URL:https://waverlychurch.org/event/coffee-hour-3-2-2-2-2-2/2028-05-28/
LOCATION:Lounge
END:VEVENT
BEGIN:VEVENT
DTSTART;TZID=America/New_York:20280529T090000
DTEND;TZID=America/New_York:20280529T200000
DTSTAMP:20260421T170016
CREATED:20251030T152456Z
LAST-MODIFIED:20251030T152456Z
UID:10131992-1843203600-1843243200@waverlychurch.org
SUMMARY:Guitar Lessons
DESCRIPTION:ian@cainsmusiclessons.com
URL:https://waverlychurch.org/event/guitar-lessons/2028-05-29/
LOCATION:Frog Room
END:VEVENT
BEGIN:VEVENT
DTSTART;TZID=America/New_York:20280531T090000
DTEND;TZID=America/New_York:20280531T200000
DTSTAMP:20260421T170016
CREATED:20251030T152456Z
LAST-MODIFIED:20251030T152456Z
UID:10131993-1843376400-1843416000@waverlychurch.org
SUMMARY:Guitar Lessons
DESCRIPTION:ian@cainsmusiclessons.com
URL:https://waverlychurch.org/event/guitar-lessons/2028-05-31/
LOCATION:Frog Room
END:VEVENT
BEGIN:VEVENT
DTSTART;TZID=America/New_York:20280601T190000
DTEND;TZID=America/New_York:20280601T203000
DTSTAMP:20260421T170016
CREATED:20251125T183555Z
LAST-MODIFIED:20251125T183747Z
UID:10132464-1843498800-1843504200@waverlychurch.org
SUMMARY:Choir Rehearsal in Lounge
DESCRIPTION:
URL:https://waverlychurch.org/event/choir-rehearsal-in-lounge/2028-06-01/
LOCATION:Lounge
END:VEVENT
BEGIN:VEVENT
DTSTART;TZID=America/New_York:20280603T110000
DTEND;TZID=America/New_York:20280603T143000
DTSTAMP:20260421T170016
CREATED:20251125T184526Z
LAST-MODIFIED:20251125T184526Z
UID:10132885-1843642800-1843655400@waverlychurch.org
SUMMARY:East End N.A. Business Meeting/Social Hall
DESCRIPTION:
URL:https://waverlychurch.org/event/east-end-n-a-business-meeting-social-hall/2028-06-03/
END:VEVENT
BEGIN:VEVENT
DTSTART;TZID=America/New_York:20280604T093000
DTEND;TZID=America/New_York:20280604T100000
DTSTAMP:20260421T170016
CREATED:20251125T184126Z
LAST-MODIFIED:20251125T184126Z
UID:10132725-1843723800-1843725600@waverlychurch.org
SUMMARY:Choir Rehearsal in Sanctuary
DESCRIPTION:
URL:https://waverlychurch.org/event/choir-rehearsal-in-sanctuary/2028-06-04/
END:VEVENT
BEGIN:VEVENT
DTSTART;TZID=America/New_York:20280604T100000
DTEND;TZID=America/New_York:20280604T105500
DTSTAMP:20260421T170016
CREATED:20260305T170350Z
LAST-MODIFIED:20260305T170351Z
UID:10007288-1843725600-1843728900@waverlychurch.org
SUMMARY:Sunday School
DESCRIPTION:All ages are welcome to join us each week for Sunday School in the following locations: \nChildren up through 1st grade: nursery (downstairs\, right side of front entrance – ring bell to enter) \nChildren and Youth 2nd grade through 12th grade in the “Wonka Room” – room off of our lower floor Social Hall. \nAdults: lounge (upstairs in back of church)
URL:https://waverlychurch.org/event/sunday-school-3-2-2-2-2-2-2-2/2028-06-04/
END:VEVENT
BEGIN:VEVENT
DTSTART;TZID=America/New_York:20280604T110000
DTEND;TZID=America/New_York:20280604T121500
DTSTAMP:20260421T170016
CREATED:20250923T171614Z
LAST-MODIFIED:20250923T171615Z
UID:10007856-1843729200-1843733700@waverlychurch.org
SUMMARY:Worship Service
DESCRIPTION:We meet on Sundays in our Sanctuary at 11am during the school year and stream services online. \nSunday’s worship service will be live-streamed over our Facebook page on Sunday mornings. \n \nhttps://www.facebook.com/pg/WaverlyChurch/videos/
URL:https://waverlychurch.org/event/worship-service-5-2-2/2028-06-04/
END:VEVENT
BEGIN:VEVENT
DTSTART;TZID=America/New_York:20280604T121500
DTEND;TZID=America/New_York:20280604T133000
DTSTAMP:20260421T170016
CREATED:20260305T165302Z
LAST-MODIFIED:20260305T170242Z
UID:10006772-1843733700-1843738200@waverlychurch.org
SUMMARY:Coffee Hour
DESCRIPTION:Join us after service weekly for a chance to share fellowship over coffee and snacks
URL:https://waverlychurch.org/event/coffee-hour-3-2-2-2-2-2/2028-06-04/
LOCATION:Lounge
END:VEVENT
BEGIN:VEVENT
DTSTART;TZID=America/New_York:20280605T090000
DTEND;TZID=America/New_York:20280605T200000
DTSTAMP:20260421T170016
CREATED:20251030T152456Z
LAST-MODIFIED:20251030T152456Z
UID:10131994-1843808400-1843848000@waverlychurch.org
SUMMARY:Guitar Lessons
DESCRIPTION:ian@cainsmusiclessons.com
URL:https://waverlychurch.org/event/guitar-lessons/2028-06-05/
LOCATION:Frog Room
END:VEVENT
BEGIN:VEVENT
DTSTART;TZID=America/New_York:20280607T090000
DTEND;TZID=America/New_York:20280607T200000
DTSTAMP:20260421T170016
CREATED:20251030T152456Z
LAST-MODIFIED:20251030T152456Z
UID:10131995-1843981200-1844020800@waverlychurch.org
SUMMARY:Guitar Lessons
DESCRIPTION:ian@cainsmusiclessons.com
URL:https://waverlychurch.org/event/guitar-lessons/2028-06-07/
LOCATION:Frog Room
END:VEVENT
BEGIN:VEVENT
DTSTART;TZID=America/New_York:20280608T190000
DTEND;TZID=America/New_York:20280608T203000
DTSTAMP:20260421T170016
CREATED:20251125T183555Z
LAST-MODIFIED:20251125T183747Z
UID:10132465-1844103600-1844109000@waverlychurch.org
SUMMARY:Choir Rehearsal in Lounge
DESCRIPTION:
URL:https://waverlychurch.org/event/choir-rehearsal-in-lounge/2028-06-08/
LOCATION:Lounge
END:VEVENT
BEGIN:VEVENT
DTSTART;TZID=America/New_York:20280611T093000
DTEND;TZID=America/New_York:20280611T100000
DTSTAMP:20260421T170016
CREATED:20251125T184126Z
LAST-MODIFIED:20251125T184126Z
UID:10132726-1844328600-1844330400@waverlychurch.org
SUMMARY:Choir Rehearsal in Sanctuary
DESCRIPTION:
URL:https://waverlychurch.org/event/choir-rehearsal-in-sanctuary/2028-06-11/
END:VEVENT
BEGIN:VEVENT
DTSTART;TZID=America/New_York:20280611T100000
DTEND;TZID=America/New_York:20280611T105500
DTSTAMP:20260421T170016
CREATED:20260305T170350Z
LAST-MODIFIED:20260305T170351Z
UID:10007289-1844330400-1844333700@waverlychurch.org
SUMMARY:Sunday School
DESCRIPTION:All ages are welcome to join us each week for Sunday School in the following locations: \nChildren up through 1st grade: nursery (downstairs\, right side of front entrance – ring bell to enter) \nChildren and Youth 2nd grade through 12th grade in the “Wonka Room” – room off of our lower floor Social Hall. \nAdults: lounge (upstairs in back of church)
URL:https://waverlychurch.org/event/sunday-school-3-2-2-2-2-2-2-2/2028-06-11/
END:VEVENT
BEGIN:VEVENT
DTSTART;TZID=America/New_York:20280611T110000
DTEND;TZID=America/New_York:20280611T121500
DTSTAMP:20260421T170016
CREATED:20250923T171614Z
LAST-MODIFIED:20250923T171615Z
UID:10007857-1844334000-1844338500@waverlychurch.org
SUMMARY:Worship Service
DESCRIPTION:We meet on Sundays in our Sanctuary at 11am during the school year and stream services online. \nSunday’s worship service will be live-streamed over our Facebook page on Sunday mornings. \n \nhttps://www.facebook.com/pg/WaverlyChurch/videos/
URL:https://waverlychurch.org/event/worship-service-5-2-2/2028-06-11/
END:VEVENT
BEGIN:VEVENT
DTSTART;TZID=America/New_York:20280611T121500
DTEND;TZID=America/New_York:20280611T133000
DTSTAMP:20260421T170016
CREATED:20260305T165302Z
LAST-MODIFIED:20260305T170242Z
UID:10006773-1844338500-1844343000@waverlychurch.org
SUMMARY:Coffee Hour
DESCRIPTION:Join us after service weekly for a chance to share fellowship over coffee and snacks
URL:https://waverlychurch.org/event/coffee-hour-3-2-2-2-2-2/2028-06-11/
LOCATION:Lounge
END:VEVENT
BEGIN:VEVENT
DTSTART;TZID=America/New_York:20280612T090000
DTEND;TZID=America/New_York:20280612T200000
DTSTAMP:20260421T170016
CREATED:20251030T152456Z
LAST-MODIFIED:20251030T152456Z
UID:10131996-1844413200-1844452800@waverlychurch.org
SUMMARY:Guitar Lessons
DESCRIPTION:ian@cainsmusiclessons.com
URL:https://waverlychurch.org/event/guitar-lessons/2028-06-12/
LOCATION:Frog Room
END:VEVENT
BEGIN:VEVENT
DTSTART;TZID=America/New_York:20280612T190000
DTEND;TZID=America/New_York:20280612T203000
DTSTAMP:20260421T170016
CREATED:20251125T185647Z
LAST-MODIFIED:20251125T185647Z
UID:10132945-1844449200-1844454600@waverlychurch.org
SUMMARY:Amnesty Meeting-Social Hall
DESCRIPTION:
URL:https://waverlychurch.org/event/amnesty-meeting-social-hall/2028-06-12/
END:VEVENT
BEGIN:VEVENT
DTSTART;TZID=America/New_York:20280614T090000
DTEND;TZID=America/New_York:20280614T200000
DTSTAMP:20260421T170016
CREATED:20251030T152456Z
LAST-MODIFIED:20251030T152456Z
UID:10131997-1844586000-1844625600@waverlychurch.org
SUMMARY:Guitar Lessons
DESCRIPTION:ian@cainsmusiclessons.com
URL:https://waverlychurch.org/event/guitar-lessons/2028-06-14/
LOCATION:Frog Room
END:VEVENT
BEGIN:VEVENT
DTSTART;TZID=America/New_York:20280615T190000
DTEND;TZID=America/New_York:20280615T203000
DTSTAMP:20260421T170016
CREATED:20251125T183555Z
LAST-MODIFIED:20251125T183747Z
UID:10132466-1844708400-1844713800@waverlychurch.org
SUMMARY:Choir Rehearsal in Lounge
DESCRIPTION:
URL:https://waverlychurch.org/event/choir-rehearsal-in-lounge/2028-06-15/
LOCATION:Lounge
END:VEVENT
BEGIN:VEVENT
DTSTART;TZID=America/New_York:20280618T093000
DTEND;TZID=America/New_York:20280618T100000
DTSTAMP:20260421T170016
CREATED:20251125T184126Z
LAST-MODIFIED:20251125T184126Z
UID:10132727-1844933400-1844935200@waverlychurch.org
SUMMARY:Choir Rehearsal in Sanctuary
DESCRIPTION:
URL:https://waverlychurch.org/event/choir-rehearsal-in-sanctuary/2028-06-18/
END:VEVENT
BEGIN:VEVENT
DTSTART;TZID=America/New_York:20280618T100000
DTEND;TZID=America/New_York:20280618T105500
DTSTAMP:20260421T170016
CREATED:20260305T170350Z
LAST-MODIFIED:20260305T170351Z
UID:10007290-1844935200-1844938500@waverlychurch.org
SUMMARY:Sunday School
DESCRIPTION:All ages are welcome to join us each week for Sunday School in the following locations: \nChildren up through 1st grade: nursery (downstairs\, right side of front entrance – ring bell to enter) \nChildren and Youth 2nd grade through 12th grade in the “Wonka Room” – room off of our lower floor Social Hall. \nAdults: lounge (upstairs in back of church)
URL:https://waverlychurch.org/event/sunday-school-3-2-2-2-2-2-2-2/2028-06-18/
END:VEVENT
BEGIN:VEVENT
DTSTART;TZID=America/New_York:20280618T110000
DTEND;TZID=America/New_York:20280618T121500
DTSTAMP:20260421T170016
CREATED:20250923T171614Z
LAST-MODIFIED:20250923T171615Z
UID:10007858-1844938800-1844943300@waverlychurch.org
SUMMARY:Worship Service
DESCRIPTION:We meet on Sundays in our Sanctuary at 11am during the school year and stream services online. \nSunday’s worship service will be live-streamed over our Facebook page on Sunday mornings. \n \nhttps://www.facebook.com/pg/WaverlyChurch/videos/
URL:https://waverlychurch.org/event/worship-service-5-2-2/2028-06-18/
END:VEVENT
BEGIN:VEVENT
DTSTART;TZID=America/New_York:20280618T121500
DTEND;TZID=America/New_York:20280618T133000
DTSTAMP:20260421T170016
CREATED:20260305T165302Z
LAST-MODIFIED:20260305T170242Z
UID:10006774-1844943300-1844947800@waverlychurch.org
SUMMARY:Coffee Hour
DESCRIPTION:Join us after service weekly for a chance to share fellowship over coffee and snacks
URL:https://waverlychurch.org/event/coffee-hour-3-2-2-2-2-2/2028-06-18/
LOCATION:Lounge
END:VEVENT
BEGIN:VEVENT
DTSTART;TZID=America/New_York:20280619T090000
DTEND;TZID=America/New_York:20280619T200000
DTSTAMP:20260421T170016
CREATED:20251030T152456Z
LAST-MODIFIED:20251030T152456Z
UID:10131998-1845018000-1845057600@waverlychurch.org
SUMMARY:Guitar Lessons
DESCRIPTION:ian@cainsmusiclessons.com
URL:https://waverlychurch.org/event/guitar-lessons/2028-06-19/
LOCATION:Frog Room
END:VEVENT
BEGIN:VEVENT
DTSTART;TZID=America/New_York:20280621T090000
DTEND;TZID=America/New_York:20280621T200000
DTSTAMP:20260421T170016
CREATED:20251030T152456Z
LAST-MODIFIED:20251030T152456Z
UID:10131999-1845190800-1845230400@waverlychurch.org
SUMMARY:Guitar Lessons
DESCRIPTION:ian@cainsmusiclessons.com
URL:https://waverlychurch.org/event/guitar-lessons/2028-06-21/
LOCATION:Frog Room
END:VEVENT
BEGIN:VEVENT
DTSTART;TZID=America/New_York:20280622T103000
DTEND;TZID=America/New_York:20280622T140000
DTSTAMP:20260421T170016
CREATED:20260324T153601Z
LAST-MODIFIED:20260324T153603Z
UID:10133093-1845282600-1845295200@waverlychurch.org
SUMMARY:Reiki with Bob Dove and Ross Marshall
DESCRIPTION:
URL:https://waverlychurch.org/event/reiki-with-bob-dove-and-ross-marshall-2-2/2028-06-22/
LOCATION:Social Hall
END:VEVENT
END:VCALENDAR