BEGIN:VCALENDAR
VERSION:2.0
PRODID:-//Waverly Presbyterian Church - ECPv6.15.20//NONSGML v1.0//EN
CALSCALE:GREGORIAN
METHOD:PUBLISH
X-WR-CALNAME:Waverly Presbyterian Church
X-ORIGINAL-URL:https://waverlychurch.org
X-WR-CALDESC:Events for Waverly Presbyterian Church
REFRESH-INTERVAL;VALUE=DURATION:PT1H
X-Robots-Tag:noindex
X-PUBLISHED-TTL:PT1H
BEGIN:VTIMEZONE
TZID:America/New_York
BEGIN:DAYLIGHT
TZOFFSETFROM:-0500
TZOFFSETTO:-0400
TZNAME:EDT
DTSTART:20250309T070000
END:DAYLIGHT
BEGIN:STANDARD
TZOFFSETFROM:-0400
TZOFFSETTO:-0500
TZNAME:EST
DTSTART:20251102T060000
END:STANDARD
BEGIN:DAYLIGHT
TZOFFSETFROM:-0500
TZOFFSETTO:-0400
TZNAME:EDT
DTSTART:20260308T070000
END:DAYLIGHT
BEGIN:STANDARD
TZOFFSETFROM:-0400
TZOFFSETTO:-0500
TZNAME:EST
DTSTART:20261101T060000
END:STANDARD
BEGIN:DAYLIGHT
TZOFFSETFROM:-0500
TZOFFSETTO:-0400
TZNAME:EDT
DTSTART:20270314T070000
END:DAYLIGHT
BEGIN:STANDARD
TZOFFSETFROM:-0400
TZOFFSETTO:-0500
TZNAME:EST
DTSTART:20271107T060000
END:STANDARD
END:VTIMEZONE
BEGIN:VTIMEZONE
TZID:UTC
BEGIN:STANDARD
TZOFFSETFROM:+0000
TZOFFSETTO:+0000
TZNAME:UTC
DTSTART:20250101T000000
END:STANDARD
END:VTIMEZONE
BEGIN:VEVENT
DTSTART;TZID=America/New_York:20260301T110000
DTEND;TZID=America/New_York:20260301T121500
DTSTAMP:20260419T223222
CREATED:20250923T171614Z
LAST-MODIFIED:20250923T171615Z
UID:10007738-1772362800-1772367300@waverlychurch.org
SUMMARY:Worship Service
DESCRIPTION:We meet on Sundays in our Sanctuary at 11am during the school year and stream services online. \nSunday’s worship service will be live-streamed over our Facebook page on Sunday mornings. \n \nhttps://www.facebook.com/pg/WaverlyChurch/videos/
URL:https://waverlychurch.org/event/worship-service-5-2-2/2026-03-01/
END:VEVENT
BEGIN:VEVENT
DTSTART;TZID=America/New_York:20260301T100000
DTEND;TZID=America/New_York:20260301T105500
DTSTAMP:20260419T223222
CREATED:20250923T174238Z
LAST-MODIFIED:20250923T174239Z
UID:10007170-1772359200-1772362500@waverlychurch.org
SUMMARY:Sunday School
DESCRIPTION:All ages are welcome to join us each week for Sunday School in the following locations: \nChildren up through 1st grade: nursery (downstairs\, right side of front entrance – ring bell to enter) \nChildren and Youth 2nd grade through 12th grade in the “Wonka Room” – room off of our lower floor Social Hall. \nAdults: lounge (upstairs in back of church)
URL:https://waverlychurch.org/event/sunday-school-3-2-2-2-2-2-2/2026-03-01/
END:VEVENT
BEGIN:VEVENT
DTSTART;TZID=America/New_York:20260301T093000
DTEND;TZID=America/New_York:20260301T100000
DTSTAMP:20260419T223222
CREATED:20251125T184126Z
LAST-MODIFIED:20251125T184126Z
UID:10132607-1772357400-1772359200@waverlychurch.org
SUMMARY:Choir Rehearsal in Sanctuary
DESCRIPTION:
URL:https://waverlychurch.org/event/choir-rehearsal-in-sanctuary/2026-03-01/
END:VEVENT
BEGIN:VEVENT
DTSTART;TZID=America/New_York:20260228T100000
DTEND;TZID=America/New_York:20260228T143000
DTSTAMP:20260419T223222
CREATED:20260127T182238Z
LAST-MODIFIED:20260127T182238Z
UID:10132988-1772272800-1772289000@waverlychurch.org
SUMMARY:Blood Drive in Lounge
DESCRIPTION:Donate blood at Waverly in February and you’ll receive a $15 Rewards gift card!\n \nDate: Saturday\, February 28\, 2026 \nTime: 10:00 am to 2:30 pm \nMake an appointment at vitalant.org or call 877-25-VITAL\nMust use code GIVELOVE-2026-V when scheduling appointment to receive gift card. \n*NOTE: There is a large need for Type O.
URL:https://waverlychurch.org/event/blood-drive-in-lounge/
LOCATION:Lounge
END:VEVENT
BEGIN:VEVENT
DTSTART;TZID=America/New_York:20260227T110000
DTEND;TZID=America/New_York:20260227T120000
DTSTAMP:20260419T223222
CREATED:20251120T185306Z
LAST-MODIFIED:20260129T175026Z
UID:10132993-1772190000-1772193600@waverlychurch.org
SUMMARY:Tai Chi - Transition into Spring Classes
DESCRIPTION:Contact Laura at laurakbudde@gmail.com or 618-210-3672.
URL:https://waverlychurch.org/event/tai-chi-transition-into-spring-classes/2026-02-27/
END:VEVENT
BEGIN:VEVENT
DTSTART;TZID=America/New_York:20260227T100000
DTEND;TZID=America/New_York:20260227T104500
DTSTAMP:20260419T223222
CREATED:20251120T185116Z
LAST-MODIFIED:20260129T175145Z
UID:10132994-1772186400-1772189100@waverlychurch.org
SUMMARY:Qigong - Transition into Spring Classes
DESCRIPTION:Contact Laura at laurakbudde@gmail.com or 618-210-3672.
URL:https://waverlychurch.org/event/qigong-transition-into-spring-classes/2026-02-27/
END:VEVENT
BEGIN:VEVENT
DTSTART;TZID=America/New_York:20260226T190000
DTEND;TZID=America/New_York:20260226T203000
DTSTAMP:20260419T223222
CREATED:20251125T183555Z
LAST-MODIFIED:20251125T183747Z
UID:10132346-1772132400-1772137800@waverlychurch.org
SUMMARY:Choir Rehearsal in Lounge
DESCRIPTION:
URL:https://waverlychurch.org/event/choir-rehearsal-in-lounge/2026-02-26/
LOCATION:Lounge
END:VEVENT
BEGIN:VEVENT
DTSTART;TZID=America/New_York:20260225T090000
DTEND;TZID=America/New_York:20260225T200000
DTSTAMP:20260419T223222
CREATED:20251030T152456Z
LAST-MODIFIED:20251030T152456Z
UID:10131757-1772010000-1772049600@waverlychurch.org
SUMMARY:Guitar Lessons
DESCRIPTION:ian@cainsmusiclessons.com
URL:https://waverlychurch.org/event/guitar-lessons/2026-02-25/
LOCATION:Frog Room
END:VEVENT
BEGIN:VEVENT
DTSTART;TZID=UTC:20260224T193000
DTEND;TZID=UTC:20260224T203000
DTSTAMP:20260419T223222
CREATED:20190310T185001Z
LAST-MODIFIED:20220331T225559Z
UID:10002553-1771961400-1771965000@waverlychurch.org
SUMMARY:Al-Anon
DESCRIPTION:The Frick Park Al-Anon is holding in-person meetings in the Social Hall. \nContact frickparkafg85[at]gmail.com with any questions.
URL:https://waverlychurch.org/event/al-anon-2020-03-24-2021-07-06-2021-07-13/2026-02-24/
END:VEVENT
BEGIN:VEVENT
DTSTART;TZID=America/New_York:20260224T190000
DTEND;TZID=America/New_York:20260224T193000
DTSTAMP:20260419T223222
CREATED:20210711T201005Z
LAST-MODIFIED:20220704T150145Z
UID:10000324-1771959600-1771961400@waverlychurch.org
SUMMARY:Al-Anon [Beginners' Meeting]
DESCRIPTION:The Frick Park Al-Anon group may still be virtual. \nContact frickparkafg85[at]gmail.com with any questions.
URL:https://waverlychurch.org/event/al-anon-beginners-meeting-2022-01-04-2022-04-05/2026-02-24/
LOCATION:Social Hall
END:VEVENT
BEGIN:VEVENT
DTSTART;TZID=America/New_York:20260223T170000
DTEND;TZID=America/New_York:20260223T180000
DTSTAMP:20260419T223222
CREATED:20240827T181303Z
LAST-MODIFIED:20260309T184828Z
UID:10008302-1771866000-1771869600@waverlychurch.org
SUMMARY:Drawing Closer - Meeting on Zoom
DESCRIPTION:This time of contemplative prayer and exploration of poetry is different every week and open to all\, no matter your beliefs. \nClick here for the Zoom link or call by phone:\n929-436-2866\nMeeting ID: 829 0407 0235\nPasscode: 056654
URL:https://waverlychurch.org/event/drawing-closer/2026-02-23/
LOCATION:https://waverlychurch.org/event/drawing-closer/2026-02-23/
END:VEVENT
BEGIN:VEVENT
DTSTART;TZID=America/New_York:20260223T090000
DTEND;TZID=America/New_York:20260223T200000
DTSTAMP:20260419T223222
CREATED:20251030T152456Z
LAST-MODIFIED:20251030T152456Z
UID:10131756-1771837200-1771876800@waverlychurch.org
SUMMARY:Guitar Lessons
DESCRIPTION:ian@cainsmusiclessons.com
URL:https://waverlychurch.org/event/guitar-lessons/2026-02-23/
LOCATION:Frog Room
END:VEVENT
BEGIN:VEVENT
DTSTART;TZID=America/New_York:20260222T193000
DTEND;TZID=America/New_York:20260222T210000
DTSTAMP:20260419T223222
CREATED:20190310T184702Z
LAST-MODIFIED:20220704T145322Z
UID:10000675-1771788600-1771794000@waverlychurch.org
SUMMARY:Alcoholics Anonymous
DESCRIPTION:The Frick Park Group of Alcoholics Anonymous is holding in-person meetings in the Social Hall. \nAdditional links for AA groups are posted online at the AA Central Office.\nhttps://www.pghaa.org/
URL:https://waverlychurch.org/event/aa-2020-03-22-2021-07-04/2026-02-22/
LOCATION:Social Hall
END:VEVENT
BEGIN:VEVENT
DTSTART;TZID=America/New_York:20260222T121500
DTEND;TZID=America/New_York:20260222T133000
DTSTAMP:20260419T223223
CREATED:20250923T170705Z
LAST-MODIFIED:20250923T170706Z
UID:10006653-1771762500-1771767000@waverlychurch.org
SUMMARY:Coffee Hour
DESCRIPTION:Join us after service weekly for a chance to share fellowship over coffee and snacks
URL:https://waverlychurch.org/event/coffee-hour-3-2-2-2-2/2026-02-22/
LOCATION:Lounge
END:VEVENT
BEGIN:VEVENT
DTSTART;TZID=America/New_York:20260222T110000
DTEND;TZID=America/New_York:20260222T121500
DTSTAMP:20260419T223223
CREATED:20250923T171614Z
LAST-MODIFIED:20250923T171615Z
UID:10007737-1771758000-1771762500@waverlychurch.org
SUMMARY:Worship Service
DESCRIPTION:We meet on Sundays in our Sanctuary at 11am during the school year and stream services online. \nSunday’s worship service will be live-streamed over our Facebook page on Sunday mornings. \n \nhttps://www.facebook.com/pg/WaverlyChurch/videos/
URL:https://waverlychurch.org/event/worship-service-5-2-2/2026-02-22/
END:VEVENT
BEGIN:VEVENT
DTSTART;TZID=America/New_York:20260222T100000
DTEND;TZID=America/New_York:20260222T105500
DTSTAMP:20260419T223223
CREATED:20250923T174238Z
LAST-MODIFIED:20250923T174239Z
UID:10007169-1771754400-1771757700@waverlychurch.org
SUMMARY:Sunday School
DESCRIPTION:All ages are welcome to join us each week for Sunday School in the following locations: \nChildren up through 1st grade: nursery (downstairs\, right side of front entrance – ring bell to enter) \nChildren and Youth 2nd grade through 12th grade in the “Wonka Room” – room off of our lower floor Social Hall. \nAdults: lounge (upstairs in back of church)
URL:https://waverlychurch.org/event/sunday-school-3-2-2-2-2-2-2/2026-02-22/
END:VEVENT
BEGIN:VEVENT
DTSTART;TZID=America/New_York:20260222T093000
DTEND;TZID=America/New_York:20260222T100000
DTSTAMP:20260419T223223
CREATED:20251125T184126Z
LAST-MODIFIED:20251125T184126Z
UID:10132606-1771752600-1771754400@waverlychurch.org
SUMMARY:Choir Rehearsal in Sanctuary
DESCRIPTION:
URL:https://waverlychurch.org/event/choir-rehearsal-in-sanctuary/2026-02-22/
END:VEVENT
BEGIN:VEVENT
DTSTART;TZID=America/New_York:20260219T190000
DTEND;TZID=America/New_York:20260219T203000
DTSTAMP:20260419T223223
CREATED:20251125T183555Z
LAST-MODIFIED:20251125T183747Z
UID:10132345-1771527600-1771533000@waverlychurch.org
SUMMARY:Choir Rehearsal in Lounge
DESCRIPTION:
URL:https://waverlychurch.org/event/choir-rehearsal-in-lounge/2026-02-19/
LOCATION:Lounge
END:VEVENT
BEGIN:VEVENT
DTSTART;TZID=America/New_York:20260219T103000
DTEND;TZID=America/New_York:20260219T140000
DTSTAMP:20260419T223223
CREATED:20241211T164945Z
LAST-MODIFIED:20241211T164945Z
UID:10008604-1771497000-1771509600@waverlychurch.org
SUMMARY:Reiki with Bob Dove and Ross Marshall
DESCRIPTION:
URL:https://waverlychurch.org/event/reiki-with-bob-dove-and-ross-marshall-2/2026-02-19/
LOCATION:Social Hall
END:VEVENT
BEGIN:VEVENT
DTSTART;TZID=America/New_York:20260218T190000
DTEND;TZID=America/New_York:20260218T200000
DTSTAMP:20260419T223223
CREATED:20260127T182415Z
LAST-MODIFIED:20260127T182415Z
UID:10132989-1771441200-1771444800@waverlychurch.org
SUMMARY:Ash Wednesday Service in the Lounge
DESCRIPTION:We will be collecting menstrual products for our neighbors at Wilkinsburg Community Ministry that will be delivered on Good Friday. Please bring some if you are able.
URL:https://waverlychurch.org/event/ash-wednesday-service-in-the-lounge/
END:VEVENT
BEGIN:VEVENT
DTSTART;TZID=America/New_York:20260218T090000
DTEND;TZID=America/New_York:20260218T200000
DTSTAMP:20260419T223223
CREATED:20251030T152456Z
LAST-MODIFIED:20251030T152456Z
UID:10131755-1771405200-1771444800@waverlychurch.org
SUMMARY:Guitar Lessons
DESCRIPTION:ian@cainsmusiclessons.com
URL:https://waverlychurch.org/event/guitar-lessons/2026-02-18/
LOCATION:Frog Room
END:VEVENT
BEGIN:VEVENT
DTSTART;TZID=UTC:20260217T193000
DTEND;TZID=UTC:20260217T203000
DTSTAMP:20260419T223223
CREATED:20190310T185001Z
LAST-MODIFIED:20220331T225559Z
UID:10002552-1771356600-1771360200@waverlychurch.org
SUMMARY:Al-Anon
DESCRIPTION:The Frick Park Al-Anon is holding in-person meetings in the Social Hall. \nContact frickparkafg85[at]gmail.com with any questions.
URL:https://waverlychurch.org/event/al-anon-2020-03-24-2021-07-06-2021-07-13/2026-02-17/
END:VEVENT
BEGIN:VEVENT
DTSTART;TZID=America/New_York:20260217T190000
DTEND;TZID=America/New_York:20260217T193000
DTSTAMP:20260419T223223
CREATED:20210711T201005Z
LAST-MODIFIED:20220704T150145Z
UID:10000323-1771354800-1771356600@waverlychurch.org
SUMMARY:Al-Anon [Beginners' Meeting]
DESCRIPTION:The Frick Park Al-Anon group may still be virtual. \nContact frickparkafg85[at]gmail.com with any questions.
URL:https://waverlychurch.org/event/al-anon-beginners-meeting-2022-01-04-2022-04-05/2026-02-17/
LOCATION:Social Hall
END:VEVENT
BEGIN:VEVENT
DTSTART;TZID=America/New_York:20260216T190000
DTEND;TZID=America/New_York:20260216T200000
DTSTAMP:20260419T223223
CREATED:20251230T175242Z
LAST-MODIFIED:20260128T203002Z
UID:10132983-1771268400-1771272000@waverlychurch.org
SUMMARY:Courageous Conversations Part 3
DESCRIPTION:Our series on learning how to bridge divides and have difficult conversations continues on Monday\, February 16 at 7pm in the Waverly lounge. \nKellie will lead us again in gathering and practicing these important skills.
URL:https://waverlychurch.org/event/courageous-conversations-part-3/
END:VEVENT
BEGIN:VEVENT
DTSTART;TZID=America/New_York:20260216T170000
DTEND;TZID=America/New_York:20260216T180000
DTSTAMP:20260419T223223
CREATED:20240827T181303Z
LAST-MODIFIED:20260309T184828Z
UID:10008301-1771261200-1771264800@waverlychurch.org
SUMMARY:Drawing Closer - Meeting on Zoom
DESCRIPTION:This time of contemplative prayer and exploration of poetry is different every week and open to all\, no matter your beliefs. \nClick here for the Zoom link or call by phone:\n929-436-2866\nMeeting ID: 829 0407 0235\nPasscode: 056654
URL:https://waverlychurch.org/event/drawing-closer/2026-02-16/
LOCATION:https://waverlychurch.org/event/drawing-closer/2026-02-16/
END:VEVENT
BEGIN:VEVENT
DTSTART;TZID=America/New_York:20260216T090000
DTEND;TZID=America/New_York:20260216T200000
DTSTAMP:20260419T223223
CREATED:20251030T152456Z
LAST-MODIFIED:20251030T152456Z
UID:10131754-1771232400-1771272000@waverlychurch.org
SUMMARY:Guitar Lessons
DESCRIPTION:ian@cainsmusiclessons.com
URL:https://waverlychurch.org/event/guitar-lessons/2026-02-16/
LOCATION:Frog Room
END:VEVENT
BEGIN:VEVENT
DTSTART;TZID=America/New_York:20260215T193000
DTEND;TZID=America/New_York:20260215T210000
DTSTAMP:20260419T223223
CREATED:20190310T184702Z
LAST-MODIFIED:20220704T145322Z
UID:10000674-1771183800-1771189200@waverlychurch.org
SUMMARY:Alcoholics Anonymous
DESCRIPTION:The Frick Park Group of Alcoholics Anonymous is holding in-person meetings in the Social Hall. \nAdditional links for AA groups are posted online at the AA Central Office.\nhttps://www.pghaa.org/
URL:https://waverlychurch.org/event/aa-2020-03-22-2021-07-04/2026-02-15/
LOCATION:Social Hall
END:VEVENT
BEGIN:VEVENT
DTSTART;TZID=America/New_York:20260215T121500
DTEND;TZID=America/New_York:20260215T133000
DTSTAMP:20260419T223223
CREATED:20250923T170705Z
LAST-MODIFIED:20250923T170706Z
UID:10006652-1771157700-1771162200@waverlychurch.org
SUMMARY:Coffee Hour
DESCRIPTION:Join us after service weekly for a chance to share fellowship over coffee and snacks
URL:https://waverlychurch.org/event/coffee-hour-3-2-2-2-2/2026-02-15/
LOCATION:Lounge
END:VEVENT
BEGIN:VEVENT
DTSTART;TZID=America/New_York:20260215T121500
DTEND;TZID=America/New_York:20260215T130000
DTSTAMP:20260419T223223
CREATED:20260127T182705Z
LAST-MODIFIED:20260127T182835Z
UID:10132990-1771157700-1771160400@waverlychurch.org
SUMMARY:Bread for the World Offering Letters (after the service)
DESCRIPTION:Stick around after service on February 15th to help advocate for the end of hunger by signing letters together. \nOne in four children under five are severely malnourished. But it doesn’t have to be that way. \nEvery voice matters. With your help\, we can reach the people with the power and resources to make hunger a problem of the past.
URL:https://waverlychurch.org/event/bread-for-the-world-offering-letters-after-the-service/
END:VEVENT
BEGIN:VEVENT
DTSTART;TZID=America/New_York:20260215T110000
DTEND;TZID=America/New_York:20260215T121500
DTSTAMP:20260419T223223
CREATED:20250923T171614Z
LAST-MODIFIED:20250923T171615Z
UID:10007736-1771153200-1771157700@waverlychurch.org
SUMMARY:Worship Service
DESCRIPTION:We meet on Sundays in our Sanctuary at 11am during the school year and stream services online. \nSunday’s worship service will be live-streamed over our Facebook page on Sunday mornings. \n \nhttps://www.facebook.com/pg/WaverlyChurch/videos/
URL:https://waverlychurch.org/event/worship-service-5-2-2/2026-02-15/
END:VEVENT
END:VCALENDAR