BEGIN:VCALENDAR
VERSION:2.0
PRODID:-//Waverly Presbyterian Church - ECPv6.15.20//NONSGML v1.0//EN
CALSCALE:GREGORIAN
METHOD:PUBLISH
X-WR-CALNAME:Waverly Presbyterian Church
X-ORIGINAL-URL:https://waverlychurch.org
X-WR-CALDESC:Events for Waverly Presbyterian Church
REFRESH-INTERVAL;VALUE=DURATION:PT1H
X-Robots-Tag:noindex
X-PUBLISHED-TTL:PT1H
BEGIN:VTIMEZONE
TZID:America/New_York
BEGIN:DAYLIGHT
TZOFFSETFROM:-0500
TZOFFSETTO:-0400
TZNAME:EDT
DTSTART:20220313T070000
END:DAYLIGHT
BEGIN:STANDARD
TZOFFSETFROM:-0400
TZOFFSETTO:-0500
TZNAME:EST
DTSTART:20221106T060000
END:STANDARD
BEGIN:DAYLIGHT
TZOFFSETFROM:-0500
TZOFFSETTO:-0400
TZNAME:EDT
DTSTART:20230312T070000
END:DAYLIGHT
BEGIN:STANDARD
TZOFFSETFROM:-0400
TZOFFSETTO:-0500
TZNAME:EST
DTSTART:20231105T060000
END:STANDARD
BEGIN:DAYLIGHT
TZOFFSETFROM:-0500
TZOFFSETTO:-0400
TZNAME:EDT
DTSTART:20240310T070000
END:DAYLIGHT
BEGIN:STANDARD
TZOFFSETFROM:-0400
TZOFFSETTO:-0500
TZNAME:EST
DTSTART:20241103T060000
END:STANDARD
END:VTIMEZONE
BEGIN:VTIMEZONE
TZID:UTC
BEGIN:STANDARD
TZOFFSETFROM:+0000
TZOFFSETTO:+0000
TZNAME:UTC
DTSTART:20220101T000000
END:STANDARD
END:VTIMEZONE
BEGIN:VEVENT
DTSTART;TZID=America/New_York:20230426T190000
DTEND;TZID=America/New_York:20230426T200000
DTSTAMP:20260423T172637
CREATED:20230302T194941Z
LAST-MODIFIED:20230302T194941Z
UID:10005367-1682535600-1682539200@waverlychurch.org
SUMMARY:Edith and Kurt Leuchter: A Story of Love and Resilience
DESCRIPTION:Edith and Kurt Leuchter: A Story of Love and Resilience in the social hall
URL:https://waverlychurch.org/event/edith-and-kurt-leuchter-a-story-of-love-and-resilience/
LOCATION:Social Hall
END:VEVENT
BEGIN:VEVENT
DTSTART;TZID=UTC:20230429T090000
DTEND;TZID=UTC:20230429T102000
DTSTAMP:20260423T172637
CREATED:20190310T191142Z
LAST-MODIFIED:20230830T175415Z
UID:10001298-1682758800-1682763600@waverlychurch.org
SUMMARY:Narcotics Anonymous
DESCRIPTION:Narcotics Anonymous is holding in-person meetings in the Social Hall.
URL:https://waverlychurch.org/event/na-2020-03-21-2021-07-10/2023-04-29/
END:VEVENT
BEGIN:VEVENT
DTSTART;TZID=America/New_York:20230429T090000
DTEND;TZID=America/New_York:20230429T130000
DTSTAMP:20260423T172638
CREATED:20230302T195040Z
LAST-MODIFIED:20230302T195040Z
UID:10005368-1682758800-1682773200@waverlychurch.org
SUMMARY:Work Day
DESCRIPTION:Join us for the seasonal Work Day!
URL:https://waverlychurch.org/event/work-day/
LOCATION:Front Lawn
END:VEVENT
BEGIN:VEVENT
DTSTART;TZID=America/New_York:20230430T110000
DTEND;TZID=America/New_York:20230430T120000
DTSTAMP:20260423T172638
CREATED:20210715T194724Z
LAST-MODIFIED:20230529T213105Z
UID:10000872-1682852400-1682856000@waverlychurch.org
SUMMARY:Worship Service
DESCRIPTION:We meet on Sundays in our Sanctuary at 11am and stream services online. \nSunday’s worship service will be live-streamed over our Facebook page on Sunday morning and the scripture and sermon will be on SoundCloud. \nhttps://waverlychurch.org/worship/guidelines-for-in-person-worship/ \nhttps://www.facebook.com/pg/WaverlyChurch/videos/ \n  \n 
URL:https://waverlychurch.org/event/worship-service-3-2022-06-05-2022-08-07-2022-09-11/2023-04-30/
LOCATION:Sanctuary
END:VEVENT
BEGIN:VEVENT
DTSTART;TZID=America/New_York:20230430T120000
DTEND;TZID=America/New_York:20230430T123000
DTSTAMP:20260423T172638
CREATED:20220623T210815Z
LAST-MODIFIED:20220623T210831Z
UID:10005078-1682856000-1682857800@waverlychurch.org
SUMMARY:Coffee Hour
DESCRIPTION:Immediately following the service\, we hope you can stay to enjoy fellowship with the Waverly community.
URL:https://waverlychurch.org/event/coffee-hour-2/2023-04-30/
LOCATION:Social Hall
END:VEVENT
BEGIN:VEVENT
DTSTART;TZID=America/New_York:20230430T193000
DTEND;TZID=America/New_York:20230430T210000
DTSTAMP:20260423T172638
CREATED:20190310T184702Z
LAST-MODIFIED:20220704T145322Z
UID:10000528-1682883000-1682888400@waverlychurch.org
SUMMARY:Alcoholics Anonymous
DESCRIPTION:The Frick Park Group of Alcoholics Anonymous is holding in-person meetings in the Social Hall. \nAdditional links for AA groups are posted online at the AA Central Office.\nhttps://www.pghaa.org/
URL:https://waverlychurch.org/event/aa-2020-03-22-2021-07-04/2023-04-30/
LOCATION:Social Hall
END:VEVENT
BEGIN:VEVENT
DTSTART;TZID=America/New_York:20230502T190000
DTEND;TZID=America/New_York:20230502T193000
DTSTAMP:20260423T172638
CREATED:20210711T201005Z
LAST-MODIFIED:20220704T150145Z
UID:10000177-1683054000-1683055800@waverlychurch.org
SUMMARY:Al-Anon [Beginners' Meeting]
DESCRIPTION:The Frick Park Al-Anon group may still be virtual. \nContact frickparkafg85[at]gmail.com with any questions.
URL:https://waverlychurch.org/event/al-anon-beginners-meeting-2022-01-04-2022-04-05/2023-05-02/
LOCATION:Social Hall
END:VEVENT
BEGIN:VEVENT
DTSTART;TZID=UTC:20230502T193000
DTEND;TZID=UTC:20230502T203000
DTSTAMP:20260423T172638
CREATED:20190310T185001Z
LAST-MODIFIED:20220331T225559Z
UID:10002406-1683055800-1683059400@waverlychurch.org
SUMMARY:Al-Anon
DESCRIPTION:The Frick Park Al-Anon is holding in-person meetings in the Social Hall. \nContact frickparkafg85[at]gmail.com with any questions.
URL:https://waverlychurch.org/event/al-anon-2020-03-24-2021-07-06-2021-07-13/2023-05-02/
END:VEVENT
BEGIN:VEVENT
DTSTART;TZID=UTC:20230506T090000
DTEND;TZID=UTC:20230506T102000
DTSTAMP:20260423T172638
CREATED:20190310T191142Z
LAST-MODIFIED:20230830T175415Z
UID:10001299-1683363600-1683368400@waverlychurch.org
SUMMARY:Narcotics Anonymous
DESCRIPTION:Narcotics Anonymous is holding in-person meetings in the Social Hall.
URL:https://waverlychurch.org/event/na-2020-03-21-2021-07-10/2023-05-06/
END:VEVENT
BEGIN:VEVENT
DTSTART;TZID=America/New_York:20230506T100000
DTEND;TZID=America/New_York:20230506T120000
DTSTAMP:20260423T172638
CREATED:20230405T173329Z
LAST-MODIFIED:20230405T175351Z
UID:10005627-1683367200-1683374400@waverlychurch.org
SUMMARY:Blessing of the Bicycles
DESCRIPTION:Blessing of bicycles\, scooters\, skates\, and more! Free tune-ups available. Donations of bicycles or bicycle parts accepted by Free Ride PGH.
URL:https://waverlychurch.org/event/blessing-of-the-bicycles-2/
LOCATION:Front Lawn
END:VEVENT
BEGIN:VEVENT
DTSTART;TZID=America/New_York:20230507T110000
DTEND;TZID=America/New_York:20230507T120000
DTSTAMP:20260423T172638
CREATED:20210715T194724Z
LAST-MODIFIED:20230529T213105Z
UID:10000873-1683457200-1683460800@waverlychurch.org
SUMMARY:Worship Service
DESCRIPTION:We meet on Sundays in our Sanctuary at 11am and stream services online. \nSunday’s worship service will be live-streamed over our Facebook page on Sunday morning and the scripture and sermon will be on SoundCloud. \nhttps://waverlychurch.org/worship/guidelines-for-in-person-worship/ \nhttps://www.facebook.com/pg/WaverlyChurch/videos/ \n  \n 
URL:https://waverlychurch.org/event/worship-service-3-2022-06-05-2022-08-07-2022-09-11/2023-05-07/
LOCATION:Sanctuary
END:VEVENT
BEGIN:VEVENT
DTSTART;TZID=America/New_York:20230507T120000
DTEND;TZID=America/New_York:20230507T123000
DTSTAMP:20260423T172638
CREATED:20220623T210815Z
LAST-MODIFIED:20220623T210831Z
UID:10005079-1683460800-1683462600@waverlychurch.org
SUMMARY:Coffee Hour
DESCRIPTION:Immediately following the service\, we hope you can stay to enjoy fellowship with the Waverly community.
URL:https://waverlychurch.org/event/coffee-hour-2/2023-05-07/
LOCATION:Social Hall
END:VEVENT
BEGIN:VEVENT
DTSTART;TZID=America/New_York:20230507T193000
DTEND;TZID=America/New_York:20230507T210000
DTSTAMP:20260423T172638
CREATED:20190310T184702Z
LAST-MODIFIED:20220704T145322Z
UID:10000529-1683487800-1683493200@waverlychurch.org
SUMMARY:Alcoholics Anonymous
DESCRIPTION:The Frick Park Group of Alcoholics Anonymous is holding in-person meetings in the Social Hall. \nAdditional links for AA groups are posted online at the AA Central Office.\nhttps://www.pghaa.org/
URL:https://waverlychurch.org/event/aa-2020-03-22-2021-07-04/2023-05-07/
LOCATION:Social Hall
END:VEVENT
BEGIN:VEVENT
DTSTART;TZID=America/New_York:20230509T190000
DTEND;TZID=America/New_York:20230509T193000
DTSTAMP:20260423T172638
CREATED:20210711T201005Z
LAST-MODIFIED:20220704T150145Z
UID:10000178-1683658800-1683660600@waverlychurch.org
SUMMARY:Al-Anon [Beginners' Meeting]
DESCRIPTION:The Frick Park Al-Anon group may still be virtual. \nContact frickparkafg85[at]gmail.com with any questions.
URL:https://waverlychurch.org/event/al-anon-beginners-meeting-2022-01-04-2022-04-05/2023-05-09/
LOCATION:Social Hall
END:VEVENT
BEGIN:VEVENT
DTSTART;TZID=UTC:20230509T193000
DTEND;TZID=UTC:20230509T203000
DTSTAMP:20260423T172638
CREATED:20190310T185001Z
LAST-MODIFIED:20220331T225559Z
UID:10002407-1683660600-1683664200@waverlychurch.org
SUMMARY:Al-Anon
DESCRIPTION:The Frick Park Al-Anon is holding in-person meetings in the Social Hall. \nContact frickparkafg85[at]gmail.com with any questions.
URL:https://waverlychurch.org/event/al-anon-2020-03-24-2021-07-06-2021-07-13/2023-05-09/
END:VEVENT
BEGIN:VEVENT
DTSTART;VALUE=DATE:20230512
DTEND;VALUE=DATE:20230515
DTSTAMP:20260423T172638
CREATED:20230109T224554Z
LAST-MODIFIED:20230109T224554Z
UID:10005362-1683849600-1684108799@waverlychurch.org
SUMMARY:All Church Retreat
DESCRIPTION:All Church Retreat – Fri-Sun\, May 12-14
URL:https://waverlychurch.org/event/all-church-retreat/
END:VEVENT
BEGIN:VEVENT
DTSTART;TZID=UTC:20230513T090000
DTEND;TZID=UTC:20230513T102000
DTSTAMP:20260423T172638
CREATED:20190310T191142Z
LAST-MODIFIED:20230830T175415Z
UID:10001300-1683968400-1683973200@waverlychurch.org
SUMMARY:Narcotics Anonymous
DESCRIPTION:Narcotics Anonymous is holding in-person meetings in the Social Hall.
URL:https://waverlychurch.org/event/na-2020-03-21-2021-07-10/2023-05-13/
END:VEVENT
BEGIN:VEVENT
DTSTART;TZID=America/New_York:20230514T110000
DTEND;TZID=America/New_York:20230514T120000
DTSTAMP:20260423T172638
CREATED:20210715T194724Z
LAST-MODIFIED:20230529T213105Z
UID:10000874-1684062000-1684065600@waverlychurch.org
SUMMARY:Worship Service
DESCRIPTION:We meet on Sundays in our Sanctuary at 11am and stream services online. \nSunday’s worship service will be live-streamed over our Facebook page on Sunday morning and the scripture and sermon will be on SoundCloud. \nhttps://waverlychurch.org/worship/guidelines-for-in-person-worship/ \nhttps://www.facebook.com/pg/WaverlyChurch/videos/ \n  \n 
URL:https://waverlychurch.org/event/worship-service-3-2022-06-05-2022-08-07-2022-09-11/2023-05-14/
LOCATION:Sanctuary
END:VEVENT
BEGIN:VEVENT
DTSTART;TZID=America/New_York:20230514T120000
DTEND;TZID=America/New_York:20230514T123000
DTSTAMP:20260423T172638
CREATED:20220623T210815Z
LAST-MODIFIED:20220623T210831Z
UID:10005080-1684065600-1684067400@waverlychurch.org
SUMMARY:Coffee Hour
DESCRIPTION:Immediately following the service\, we hope you can stay to enjoy fellowship with the Waverly community.
URL:https://waverlychurch.org/event/coffee-hour-2/2023-05-14/
LOCATION:Social Hall
END:VEVENT
BEGIN:VEVENT
DTSTART;TZID=America/New_York:20230514T193000
DTEND;TZID=America/New_York:20230514T210000
DTSTAMP:20260423T172638
CREATED:20190310T184702Z
LAST-MODIFIED:20220704T145322Z
UID:10000530-1684092600-1684098000@waverlychurch.org
SUMMARY:Alcoholics Anonymous
DESCRIPTION:The Frick Park Group of Alcoholics Anonymous is holding in-person meetings in the Social Hall. \nAdditional links for AA groups are posted online at the AA Central Office.\nhttps://www.pghaa.org/
URL:https://waverlychurch.org/event/aa-2020-03-22-2021-07-04/2023-05-14/
LOCATION:Social Hall
END:VEVENT
BEGIN:VEVENT
DTSTART;TZID=America/New_York:20230516T190000
DTEND;TZID=America/New_York:20230516T193000
DTSTAMP:20260423T172638
CREATED:20210711T201005Z
LAST-MODIFIED:20220704T150145Z
UID:10000179-1684263600-1684265400@waverlychurch.org
SUMMARY:Al-Anon [Beginners' Meeting]
DESCRIPTION:The Frick Park Al-Anon group may still be virtual. \nContact frickparkafg85[at]gmail.com with any questions.
URL:https://waverlychurch.org/event/al-anon-beginners-meeting-2022-01-04-2022-04-05/2023-05-16/
LOCATION:Social Hall
END:VEVENT
BEGIN:VEVENT
DTSTART;TZID=UTC:20230516T193000
DTEND;TZID=UTC:20230516T203000
DTSTAMP:20260423T172638
CREATED:20190310T185001Z
LAST-MODIFIED:20220331T225559Z
UID:10002408-1684265400-1684269000@waverlychurch.org
SUMMARY:Al-Anon
DESCRIPTION:The Frick Park Al-Anon is holding in-person meetings in the Social Hall. \nContact frickparkafg85[at]gmail.com with any questions.
URL:https://waverlychurch.org/event/al-anon-2020-03-24-2021-07-06-2021-07-13/2023-05-16/
END:VEVENT
BEGIN:VEVENT
DTSTART;TZID=UTC:20230520T090000
DTEND;TZID=UTC:20230520T102000
DTSTAMP:20260423T172638
CREATED:20190310T191142Z
LAST-MODIFIED:20230830T175415Z
UID:10001301-1684573200-1684578000@waverlychurch.org
SUMMARY:Narcotics Anonymous
DESCRIPTION:Narcotics Anonymous is holding in-person meetings in the Social Hall.
URL:https://waverlychurch.org/event/na-2020-03-21-2021-07-10/2023-05-20/
END:VEVENT
BEGIN:VEVENT
DTSTART;TZID=America/New_York:20230521T110000
DTEND;TZID=America/New_York:20230521T120000
DTSTAMP:20260423T172638
CREATED:20210715T194724Z
LAST-MODIFIED:20230529T213105Z
UID:10000875-1684666800-1684670400@waverlychurch.org
SUMMARY:Worship Service
DESCRIPTION:We meet on Sundays in our Sanctuary at 11am and stream services online. \nSunday’s worship service will be live-streamed over our Facebook page on Sunday morning and the scripture and sermon will be on SoundCloud. \nhttps://waverlychurch.org/worship/guidelines-for-in-person-worship/ \nhttps://www.facebook.com/pg/WaverlyChurch/videos/ \n  \n 
URL:https://waverlychurch.org/event/worship-service-3-2022-06-05-2022-08-07-2022-09-11/2023-05-21/
LOCATION:Sanctuary
END:VEVENT
BEGIN:VEVENT
DTSTART;TZID=America/New_York:20230521T120000
DTEND;TZID=America/New_York:20230521T123000
DTSTAMP:20260423T172638
CREATED:20220623T210815Z
LAST-MODIFIED:20220623T210831Z
UID:10005081-1684670400-1684672200@waverlychurch.org
SUMMARY:Coffee Hour
DESCRIPTION:Immediately following the service\, we hope you can stay to enjoy fellowship with the Waverly community.
URL:https://waverlychurch.org/event/coffee-hour-2/2023-05-21/
LOCATION:Social Hall
END:VEVENT
BEGIN:VEVENT
DTSTART;TZID=America/New_York:20230521T193000
DTEND;TZID=America/New_York:20230521T210000
DTSTAMP:20260423T172638
CREATED:20190310T184702Z
LAST-MODIFIED:20220704T145322Z
UID:10000531-1684697400-1684702800@waverlychurch.org
SUMMARY:Alcoholics Anonymous
DESCRIPTION:The Frick Park Group of Alcoholics Anonymous is holding in-person meetings in the Social Hall. \nAdditional links for AA groups are posted online at the AA Central Office.\nhttps://www.pghaa.org/
URL:https://waverlychurch.org/event/aa-2020-03-22-2021-07-04/2023-05-21/
LOCATION:Social Hall
END:VEVENT
BEGIN:VEVENT
DTSTART;TZID=America/New_York:20230523T190000
DTEND;TZID=America/New_York:20230523T193000
DTSTAMP:20260423T172638
CREATED:20210711T201005Z
LAST-MODIFIED:20220704T150145Z
UID:10000180-1684868400-1684870200@waverlychurch.org
SUMMARY:Al-Anon [Beginners' Meeting]
DESCRIPTION:The Frick Park Al-Anon group may still be virtual. \nContact frickparkafg85[at]gmail.com with any questions.
URL:https://waverlychurch.org/event/al-anon-beginners-meeting-2022-01-04-2022-04-05/2023-05-23/
LOCATION:Social Hall
END:VEVENT
BEGIN:VEVENT
DTSTART;TZID=UTC:20230523T193000
DTEND;TZID=UTC:20230523T203000
DTSTAMP:20260423T172638
CREATED:20190310T185001Z
LAST-MODIFIED:20220331T225559Z
UID:10002409-1684870200-1684873800@waverlychurch.org
SUMMARY:Al-Anon
DESCRIPTION:The Frick Park Al-Anon is holding in-person meetings in the Social Hall. \nContact frickparkafg85[at]gmail.com with any questions.
URL:https://waverlychurch.org/event/al-anon-2020-03-24-2021-07-06-2021-07-13/2023-05-23/
END:VEVENT
BEGIN:VEVENT
DTSTART;TZID=UTC:20230527T090000
DTEND;TZID=UTC:20230527T102000
DTSTAMP:20260423T172638
CREATED:20190310T191142Z
LAST-MODIFIED:20230830T175415Z
UID:10001302-1685178000-1685182800@waverlychurch.org
SUMMARY:Narcotics Anonymous
DESCRIPTION:Narcotics Anonymous is holding in-person meetings in the Social Hall.
URL:https://waverlychurch.org/event/na-2020-03-21-2021-07-10/2023-05-27/
END:VEVENT
BEGIN:VEVENT
DTSTART;TZID=America/New_York:20230528T110000
DTEND;TZID=America/New_York:20230528T120000
DTSTAMP:20260423T172638
CREATED:20210715T194724Z
LAST-MODIFIED:20230529T213105Z
UID:10000876-1685271600-1685275200@waverlychurch.org
SUMMARY:Worship Service
DESCRIPTION:We meet on Sundays in our Sanctuary at 11am and stream services online. \nSunday’s worship service will be live-streamed over our Facebook page on Sunday morning and the scripture and sermon will be on SoundCloud. \nhttps://waverlychurch.org/worship/guidelines-for-in-person-worship/ \nhttps://www.facebook.com/pg/WaverlyChurch/videos/ \n  \n 
URL:https://waverlychurch.org/event/worship-service-3-2022-06-05-2022-08-07-2022-09-11/2023-05-28/
LOCATION:Sanctuary
END:VEVENT
END:VCALENDAR