BEGIN:VCALENDAR
VERSION:2.0
PRODID:-//Waverly Presbyterian Church - ECPv6.15.20//NONSGML v1.0//EN
CALSCALE:GREGORIAN
METHOD:PUBLISH
X-WR-CALNAME:Waverly Presbyterian Church
X-ORIGINAL-URL:https://waverlychurch.org
X-WR-CALDESC:Events for Waverly Presbyterian Church
REFRESH-INTERVAL;VALUE=DURATION:PT1H
X-Robots-Tag:noindex
X-PUBLISHED-TTL:PT1H
BEGIN:VTIMEZONE
TZID:America/New_York
BEGIN:DAYLIGHT
TZOFFSETFROM:-0500
TZOFFSETTO:-0400
TZNAME:EDT
DTSTART:20260308T070000
END:DAYLIGHT
BEGIN:STANDARD
TZOFFSETFROM:-0400
TZOFFSETTO:-0500
TZNAME:EST
DTSTART:20261101T060000
END:STANDARD
BEGIN:DAYLIGHT
TZOFFSETFROM:-0500
TZOFFSETTO:-0400
TZNAME:EDT
DTSTART:20270314T070000
END:DAYLIGHT
BEGIN:STANDARD
TZOFFSETFROM:-0400
TZOFFSETTO:-0500
TZNAME:EST
DTSTART:20271107T060000
END:STANDARD
BEGIN:DAYLIGHT
TZOFFSETFROM:-0500
TZOFFSETTO:-0400
TZNAME:EDT
DTSTART:20280312T070000
END:DAYLIGHT
BEGIN:STANDARD
TZOFFSETFROM:-0400
TZOFFSETTO:-0500
TZNAME:EST
DTSTART:20281105T060000
END:STANDARD
END:VTIMEZONE
BEGIN:VTIMEZONE
TZID:UTC
BEGIN:STANDARD
TZOFFSETFROM:+0000
TZOFFSETTO:+0000
TZNAME:UTC
DTSTART:20260101T000000
END:STANDARD
END:VTIMEZONE
BEGIN:VEVENT
DTSTART;TZID=America/New_York:20270228T100000
DTEND;TZID=America/New_York:20270228T105500
DTSTAMP:20260420T130325
CREATED:20260305T170350Z
LAST-MODIFIED:20260305T170351Z
UID:10007222-1803808800-1803812100@waverlychurch.org
SUMMARY:Sunday School
DESCRIPTION:All ages are welcome to join us each week for Sunday School in the following locations: \nChildren up through 1st grade: nursery (downstairs\, right side of front entrance – ring bell to enter) \nChildren and Youth 2nd grade through 12th grade in the “Wonka Room” – room off of our lower floor Social Hall. \nAdults: lounge (upstairs in back of church)
URL:https://waverlychurch.org/event/sunday-school-3-2-2-2-2-2-2-2/2027-02-28/
END:VEVENT
BEGIN:VEVENT
DTSTART;TZID=America/New_York:20270228T110000
DTEND;TZID=America/New_York:20270228T121500
DTSTAMP:20260420T130325
CREATED:20250923T171614Z
LAST-MODIFIED:20250923T171615Z
UID:10007790-1803812400-1803816900@waverlychurch.org
SUMMARY:Worship Service
DESCRIPTION:We meet on Sundays in our Sanctuary at 11am during the school year and stream services online. \nSunday’s worship service will be live-streamed over our Facebook page on Sunday mornings. \n \nhttps://www.facebook.com/pg/WaverlyChurch/videos/
URL:https://waverlychurch.org/event/worship-service-5-2-2/2027-02-28/
END:VEVENT
BEGIN:VEVENT
DTSTART;TZID=America/New_York:20270228T121500
DTEND;TZID=America/New_York:20270228T133000
DTSTAMP:20260420T130325
CREATED:20260305T165302Z
LAST-MODIFIED:20260305T170242Z
UID:10006706-1803816900-1803821400@waverlychurch.org
SUMMARY:Coffee Hour
DESCRIPTION:Join us after service weekly for a chance to share fellowship over coffee and snacks
URL:https://waverlychurch.org/event/coffee-hour-3-2-2-2-2-2/2027-02-28/
LOCATION:Lounge
END:VEVENT
BEGIN:VEVENT
DTSTART;TZID=America/New_York:20270228T193000
DTEND;TZID=America/New_York:20270228T210000
DTSTAMP:20260420T130325
CREATED:20190310T184702Z
LAST-MODIFIED:20220704T145322Z
UID:10000728-1803843000-1803848400@waverlychurch.org
SUMMARY:Alcoholics Anonymous
DESCRIPTION:The Frick Park Group of Alcoholics Anonymous is holding in-person meetings in the Social Hall. \nAdditional links for AA groups are posted online at the AA Central Office.\nhttps://www.pghaa.org/
URL:https://waverlychurch.org/event/aa-2020-03-22-2021-07-04/2027-02-28/
LOCATION:Social Hall
END:VEVENT
BEGIN:VEVENT
DTSTART;TZID=America/New_York:20270301T090000
DTEND;TZID=America/New_York:20270301T200000
DTSTAMP:20260420T130325
CREATED:20251030T152456Z
LAST-MODIFIED:20251030T152456Z
UID:10131862-1803891600-1803931200@waverlychurch.org
SUMMARY:Guitar Lessons
DESCRIPTION:ian@cainsmusiclessons.com
URL:https://waverlychurch.org/event/guitar-lessons/2027-03-01/
LOCATION:Frog Room
END:VEVENT
BEGIN:VEVENT
DTSTART;TZID=America/New_York:20270302T190000
DTEND;TZID=America/New_York:20270302T193000
DTSTAMP:20260420T130325
CREATED:20210711T201005Z
LAST-MODIFIED:20220704T150145Z
UID:10000377-1804014000-1804015800@waverlychurch.org
SUMMARY:Al-Anon [Beginners' Meeting]
DESCRIPTION:The Frick Park Al-Anon group may still be virtual. \nContact frickparkafg85[at]gmail.com with any questions.
URL:https://waverlychurch.org/event/al-anon-beginners-meeting-2022-01-04-2022-04-05/2027-03-02/
LOCATION:Social Hall
END:VEVENT
BEGIN:VEVENT
DTSTART;TZID=UTC:20270302T193000
DTEND;TZID=UTC:20270302T203000
DTSTAMP:20260420T130325
CREATED:20190310T185001Z
LAST-MODIFIED:20220331T225559Z
UID:10002606-1804015800-1804019400@waverlychurch.org
SUMMARY:Al-Anon
DESCRIPTION:The Frick Park Al-Anon is holding in-person meetings in the Social Hall. \nContact frickparkafg85[at]gmail.com with any questions.
URL:https://waverlychurch.org/event/al-anon-2020-03-24-2021-07-06-2021-07-13/2027-03-02/
END:VEVENT
BEGIN:VEVENT
DTSTART;TZID=America/New_York:20270303T090000
DTEND;TZID=America/New_York:20270303T200000
DTSTAMP:20260420T130325
CREATED:20251030T152456Z
LAST-MODIFIED:20251030T152456Z
UID:10131863-1804064400-1804104000@waverlychurch.org
SUMMARY:Guitar Lessons
DESCRIPTION:ian@cainsmusiclessons.com
URL:https://waverlychurch.org/event/guitar-lessons/2027-03-03/
LOCATION:Frog Room
END:VEVENT
BEGIN:VEVENT
DTSTART;TZID=America/New_York:20270304T190000
DTEND;TZID=America/New_York:20270304T203000
DTSTAMP:20260420T130325
CREATED:20251125T183555Z
LAST-MODIFIED:20251125T183747Z
UID:10132399-1804186800-1804192200@waverlychurch.org
SUMMARY:Choir Rehearsal in Lounge
DESCRIPTION:
URL:https://waverlychurch.org/event/choir-rehearsal-in-lounge/2027-03-04/
LOCATION:Lounge
END:VEVENT
BEGIN:VEVENT
DTSTART;TZID=America/New_York:20270306T110000
DTEND;TZID=America/New_York:20270306T143000
DTSTAMP:20260420T130325
CREATED:20251125T184526Z
LAST-MODIFIED:20251125T184526Z
UID:10132870-1804330800-1804343400@waverlychurch.org
SUMMARY:East End N.A. Business Meeting/Social Hall
DESCRIPTION:
URL:https://waverlychurch.org/event/east-end-n-a-business-meeting-social-hall/2027-03-06/
END:VEVENT
BEGIN:VEVENT
DTSTART;TZID=America/New_York:20270307T093000
DTEND;TZID=America/New_York:20270307T100000
DTSTAMP:20260420T130325
CREATED:20251125T184126Z
LAST-MODIFIED:20251125T184126Z
UID:10132660-1804411800-1804413600@waverlychurch.org
SUMMARY:Choir Rehearsal in Sanctuary
DESCRIPTION:
URL:https://waverlychurch.org/event/choir-rehearsal-in-sanctuary/2027-03-07/
END:VEVENT
BEGIN:VEVENT
DTSTART;TZID=America/New_York:20270307T100000
DTEND;TZID=America/New_York:20270307T105500
DTSTAMP:20260420T130325
CREATED:20260305T170350Z
LAST-MODIFIED:20260305T170351Z
UID:10007223-1804413600-1804416900@waverlychurch.org
SUMMARY:Sunday School
DESCRIPTION:All ages are welcome to join us each week for Sunday School in the following locations: \nChildren up through 1st grade: nursery (downstairs\, right side of front entrance – ring bell to enter) \nChildren and Youth 2nd grade through 12th grade in the “Wonka Room” – room off of our lower floor Social Hall. \nAdults: lounge (upstairs in back of church)
URL:https://waverlychurch.org/event/sunday-school-3-2-2-2-2-2-2-2/2027-03-07/
END:VEVENT
BEGIN:VEVENT
DTSTART;TZID=America/New_York:20270307T110000
DTEND;TZID=America/New_York:20270307T121500
DTSTAMP:20260420T130325
CREATED:20250923T171614Z
LAST-MODIFIED:20250923T171615Z
UID:10007791-1804417200-1804421700@waverlychurch.org
SUMMARY:Worship Service
DESCRIPTION:We meet on Sundays in our Sanctuary at 11am during the school year and stream services online. \nSunday’s worship service will be live-streamed over our Facebook page on Sunday mornings. \n \nhttps://www.facebook.com/pg/WaverlyChurch/videos/
URL:https://waverlychurch.org/event/worship-service-5-2-2/2027-03-07/
END:VEVENT
BEGIN:VEVENT
DTSTART;TZID=America/New_York:20270307T121500
DTEND;TZID=America/New_York:20270307T133000
DTSTAMP:20260420T130325
CREATED:20260305T165302Z
LAST-MODIFIED:20260305T170242Z
UID:10006707-1804421700-1804426200@waverlychurch.org
SUMMARY:Coffee Hour
DESCRIPTION:Join us after service weekly for a chance to share fellowship over coffee and snacks
URL:https://waverlychurch.org/event/coffee-hour-3-2-2-2-2-2/2027-03-07/
LOCATION:Lounge
END:VEVENT
BEGIN:VEVENT
DTSTART;TZID=America/New_York:20270307T193000
DTEND;TZID=America/New_York:20270307T210000
DTSTAMP:20260420T130325
CREATED:20190310T184702Z
LAST-MODIFIED:20220704T145322Z
UID:10000729-1804447800-1804453200@waverlychurch.org
SUMMARY:Alcoholics Anonymous
DESCRIPTION:The Frick Park Group of Alcoholics Anonymous is holding in-person meetings in the Social Hall. \nAdditional links for AA groups are posted online at the AA Central Office.\nhttps://www.pghaa.org/
URL:https://waverlychurch.org/event/aa-2020-03-22-2021-07-04/2027-03-07/
LOCATION:Social Hall
END:VEVENT
BEGIN:VEVENT
DTSTART;TZID=America/New_York:20270308T090000
DTEND;TZID=America/New_York:20270308T200000
DTSTAMP:20260420T130325
CREATED:20251030T152456Z
LAST-MODIFIED:20251030T152456Z
UID:10131864-1804496400-1804536000@waverlychurch.org
SUMMARY:Guitar Lessons
DESCRIPTION:ian@cainsmusiclessons.com
URL:https://waverlychurch.org/event/guitar-lessons/2027-03-08/
LOCATION:Frog Room
END:VEVENT
BEGIN:VEVENT
DTSTART;TZID=America/New_York:20270308T190000
DTEND;TZID=America/New_York:20270308T203000
DTSTAMP:20260420T130325
CREATED:20251125T185647Z
LAST-MODIFIED:20251125T185647Z
UID:10132930-1804532400-1804537800@waverlychurch.org
SUMMARY:Amnesty Meeting-Social Hall
DESCRIPTION:
URL:https://waverlychurch.org/event/amnesty-meeting-social-hall/2027-03-08/
END:VEVENT
BEGIN:VEVENT
DTSTART;TZID=America/New_York:20270309T190000
DTEND;TZID=America/New_York:20270309T193000
DTSTAMP:20260420T130325
CREATED:20210711T201005Z
LAST-MODIFIED:20220704T150145Z
UID:10000378-1804618800-1804620600@waverlychurch.org
SUMMARY:Al-Anon [Beginners' Meeting]
DESCRIPTION:The Frick Park Al-Anon group may still be virtual. \nContact frickparkafg85[at]gmail.com with any questions.
URL:https://waverlychurch.org/event/al-anon-beginners-meeting-2022-01-04-2022-04-05/2027-03-09/
LOCATION:Social Hall
END:VEVENT
BEGIN:VEVENT
DTSTART;TZID=UTC:20270309T193000
DTEND;TZID=UTC:20270309T203000
DTSTAMP:20260420T130325
CREATED:20190310T185001Z
LAST-MODIFIED:20220331T225559Z
UID:10002607-1804620600-1804624200@waverlychurch.org
SUMMARY:Al-Anon
DESCRIPTION:The Frick Park Al-Anon is holding in-person meetings in the Social Hall. \nContact frickparkafg85[at]gmail.com with any questions.
URL:https://waverlychurch.org/event/al-anon-2020-03-24-2021-07-06-2021-07-13/2027-03-09/
END:VEVENT
BEGIN:VEVENT
DTSTART;TZID=America/New_York:20270310T090000
DTEND;TZID=America/New_York:20270310T200000
DTSTAMP:20260420T130325
CREATED:20251030T152456Z
LAST-MODIFIED:20251030T152456Z
UID:10131865-1804669200-1804708800@waverlychurch.org
SUMMARY:Guitar Lessons
DESCRIPTION:ian@cainsmusiclessons.com
URL:https://waverlychurch.org/event/guitar-lessons/2027-03-10/
LOCATION:Frog Room
END:VEVENT
BEGIN:VEVENT
DTSTART;TZID=America/New_York:20270311T190000
DTEND;TZID=America/New_York:20270311T203000
DTSTAMP:20260420T130325
CREATED:20251125T183555Z
LAST-MODIFIED:20251125T183747Z
UID:10132400-1804791600-1804797000@waverlychurch.org
SUMMARY:Choir Rehearsal in Lounge
DESCRIPTION:
URL:https://waverlychurch.org/event/choir-rehearsal-in-lounge/2027-03-11/
LOCATION:Lounge
END:VEVENT
BEGIN:VEVENT
DTSTART;TZID=America/New_York:20270314T093000
DTEND;TZID=America/New_York:20270314T100000
DTSTAMP:20260420T130325
CREATED:20251125T184126Z
LAST-MODIFIED:20251125T184126Z
UID:10132661-1805016600-1805018400@waverlychurch.org
SUMMARY:Choir Rehearsal in Sanctuary
DESCRIPTION:
URL:https://waverlychurch.org/event/choir-rehearsal-in-sanctuary/2027-03-14/
END:VEVENT
BEGIN:VEVENT
DTSTART;TZID=America/New_York:20270314T100000
DTEND;TZID=America/New_York:20270314T105500
DTSTAMP:20260420T130325
CREATED:20260305T170350Z
LAST-MODIFIED:20260305T170351Z
UID:10007224-1805018400-1805021700@waverlychurch.org
SUMMARY:Sunday School
DESCRIPTION:All ages are welcome to join us each week for Sunday School in the following locations: \nChildren up through 1st grade: nursery (downstairs\, right side of front entrance – ring bell to enter) \nChildren and Youth 2nd grade through 12th grade in the “Wonka Room” – room off of our lower floor Social Hall. \nAdults: lounge (upstairs in back of church)
URL:https://waverlychurch.org/event/sunday-school-3-2-2-2-2-2-2-2/2027-03-14/
END:VEVENT
BEGIN:VEVENT
DTSTART;TZID=America/New_York:20270314T110000
DTEND;TZID=America/New_York:20270314T121500
DTSTAMP:20260420T130325
CREATED:20250923T171614Z
LAST-MODIFIED:20250923T171615Z
UID:10007792-1805022000-1805026500@waverlychurch.org
SUMMARY:Worship Service
DESCRIPTION:We meet on Sundays in our Sanctuary at 11am during the school year and stream services online. \nSunday’s worship service will be live-streamed over our Facebook page on Sunday mornings. \n \nhttps://www.facebook.com/pg/WaverlyChurch/videos/
URL:https://waverlychurch.org/event/worship-service-5-2-2/2027-03-14/
END:VEVENT
BEGIN:VEVENT
DTSTART;TZID=America/New_York:20270314T121500
DTEND;TZID=America/New_York:20270314T133000
DTSTAMP:20260420T130325
CREATED:20260305T165302Z
LAST-MODIFIED:20260305T170242Z
UID:10006708-1805026500-1805031000@waverlychurch.org
SUMMARY:Coffee Hour
DESCRIPTION:Join us after service weekly for a chance to share fellowship over coffee and snacks
URL:https://waverlychurch.org/event/coffee-hour-3-2-2-2-2-2/2027-03-14/
LOCATION:Lounge
END:VEVENT
BEGIN:VEVENT
DTSTART;TZID=America/New_York:20270314T193000
DTEND;TZID=America/New_York:20270314T210000
DTSTAMP:20260420T130325
CREATED:20190310T184702Z
LAST-MODIFIED:20220704T145322Z
UID:10000730-1805052600-1805058000@waverlychurch.org
SUMMARY:Alcoholics Anonymous
DESCRIPTION:The Frick Park Group of Alcoholics Anonymous is holding in-person meetings in the Social Hall. \nAdditional links for AA groups are posted online at the AA Central Office.\nhttps://www.pghaa.org/
URL:https://waverlychurch.org/event/aa-2020-03-22-2021-07-04/2027-03-14/
LOCATION:Social Hall
END:VEVENT
BEGIN:VEVENT
DTSTART;TZID=America/New_York:20270315T090000
DTEND;TZID=America/New_York:20270315T200000
DTSTAMP:20260420T130325
CREATED:20251030T152456Z
LAST-MODIFIED:20251030T152456Z
UID:10131866-1805101200-1805140800@waverlychurch.org
SUMMARY:Guitar Lessons
DESCRIPTION:ian@cainsmusiclessons.com
URL:https://waverlychurch.org/event/guitar-lessons/2027-03-15/
LOCATION:Frog Room
END:VEVENT
BEGIN:VEVENT
DTSTART;TZID=America/New_York:20270316T190000
DTEND;TZID=America/New_York:20270316T193000
DTSTAMP:20260420T130325
CREATED:20210711T201005Z
LAST-MODIFIED:20220704T150145Z
UID:10000379-1805223600-1805225400@waverlychurch.org
SUMMARY:Al-Anon [Beginners' Meeting]
DESCRIPTION:The Frick Park Al-Anon group may still be virtual. \nContact frickparkafg85[at]gmail.com with any questions.
URL:https://waverlychurch.org/event/al-anon-beginners-meeting-2022-01-04-2022-04-05/2027-03-16/
LOCATION:Social Hall
END:VEVENT
BEGIN:VEVENT
DTSTART;TZID=UTC:20270316T193000
DTEND;TZID=UTC:20270316T203000
DTSTAMP:20260420T130325
CREATED:20190310T185001Z
LAST-MODIFIED:20220331T225559Z
UID:10002608-1805225400-1805229000@waverlychurch.org
SUMMARY:Al-Anon
DESCRIPTION:The Frick Park Al-Anon is holding in-person meetings in the Social Hall. \nContact frickparkafg85[at]gmail.com with any questions.
URL:https://waverlychurch.org/event/al-anon-2020-03-24-2021-07-06-2021-07-13/2027-03-16/
END:VEVENT
BEGIN:VEVENT
DTSTART;TZID=America/New_York:20270317T090000
DTEND;TZID=America/New_York:20270317T200000
DTSTAMP:20260420T130325
CREATED:20251030T152456Z
LAST-MODIFIED:20251030T152456Z
UID:10131867-1805274000-1805313600@waverlychurch.org
SUMMARY:Guitar Lessons
DESCRIPTION:ian@cainsmusiclessons.com
URL:https://waverlychurch.org/event/guitar-lessons/2027-03-17/
LOCATION:Frog Room
END:VEVENT
END:VCALENDAR