BEGIN:VCALENDAR
VERSION:2.0
PRODID:-//Waverly Presbyterian Church - ECPv6.15.20//NONSGML v1.0//EN
CALSCALE:GREGORIAN
METHOD:PUBLISH
X-ORIGINAL-URL:https://waverlychurch.org
X-WR-CALDESC:Events for Waverly Presbyterian Church
REFRESH-INTERVAL;VALUE=DURATION:PT1H
X-Robots-Tag:noindex
X-PUBLISHED-TTL:PT1H
BEGIN:VTIMEZONE
TZID:America/New_York
BEGIN:DAYLIGHT
TZOFFSETFROM:-0500
TZOFFSETTO:-0400
TZNAME:EDT
DTSTART:20230312T070000
END:DAYLIGHT
BEGIN:STANDARD
TZOFFSETFROM:-0400
TZOFFSETTO:-0500
TZNAME:EST
DTSTART:20231105T060000
END:STANDARD
BEGIN:DAYLIGHT
TZOFFSETFROM:-0500
TZOFFSETTO:-0400
TZNAME:EDT
DTSTART:20240310T070000
END:DAYLIGHT
BEGIN:STANDARD
TZOFFSETFROM:-0400
TZOFFSETTO:-0500
TZNAME:EST
DTSTART:20241103T060000
END:STANDARD
BEGIN:DAYLIGHT
TZOFFSETFROM:-0500
TZOFFSETTO:-0400
TZNAME:EDT
DTSTART:20250309T070000
END:DAYLIGHT
BEGIN:STANDARD
TZOFFSETFROM:-0400
TZOFFSETTO:-0500
TZNAME:EST
DTSTART:20251102T060000
END:STANDARD
END:VTIMEZONE
BEGIN:VTIMEZONE
TZID:UTC
BEGIN:STANDARD
TZOFFSETFROM:+0000
TZOFFSETTO:+0000
TZNAME:UTC
DTSTART:20230101T000000
END:STANDARD
END:VTIMEZONE
BEGIN:VEVENT
DTSTART;TZID=America/New_York:20240215T090000
DTEND;TZID=America/New_York:20240215T100000
DTSTAMP:20260422T184120
CREATED:20231003T204249Z
LAST-MODIFIED:20231128T182218Z
UID:10006793-1707987600-1707991200@waverlychurch.org
SUMMARY:Five Element Qigong Class
DESCRIPTION:Qigong is a practice that encourages the circulation of “qi” or life energy. In this class we will utilize gentle movements and stretching\, acupressure\, breath awareness and visualization to encourage the flow of qi. \nBased in Taoist Five Element Theory\, this style of qigong highlights the dynamic relationship between yin (organizing\, receptive\, cooling) and yang (animating\, expressive\, warming). \nThrough persistent effort we can strengthen our connection to the rhythms of nature and optimize our functionality. \n$40 for a six-week session. This practice requires no props and can be enjoyed standing or seated in a chair. Contact laurakbudde@gmail.com to register.
URL:https://waverlychurch.org/event/five-element-qigong-class-2/2024-02-15/
LOCATION:Social Hall
END:VEVENT
BEGIN:VEVENT
DTSTART;TZID=America/New_York:20240215T103000
DTEND;TZID=America/New_York:20240215T113000
DTSTAMP:20260422T184120
CREATED:20231003T204442Z
LAST-MODIFIED:20231128T182121Z
UID:10006811-1707993000-1707996600@waverlychurch.org
SUMMARY:Yoga
DESCRIPTION:Nurture a meaningful yoga practice that promotes a balanced body and mind. \nClasses incorporate gentle and hatha yoga with strengthening and restorative postures. Sequencing and anatomical awareness is structured to increase enjoyment and accessibility. \nWhether you have an established yoga practice or are interested in trying it out for the first time you will be encouraged to listen to your body\, and make adjustments that speak to your experience. \nThis class requires a yoga mat and a towel or blanket\, with yoga blocks and a strap highly suggested. \n$40 for a six-week session. Contact laurakbudde@gmail.com to register.
URL:https://waverlychurch.org/event/yoga-2/2024-02-15/
LOCATION:Social Hall
END:VEVENT
BEGIN:VEVENT
DTSTART;TZID=America/New_York:20240216T103000
DTEND;TZID=America/New_York:20240216T113000
DTSTAMP:20260422T184120
CREATED:20231023T201450Z
LAST-MODIFIED:20231128T181838Z
UID:10006887-1708079400-1708083000@waverlychurch.org
SUMMARY:Tai Chi for Health Part 2
DESCRIPTION:Learn or return to Tai Chi for Health! This tai chi form focuses on posture and stability while enhancing the connection between the brain and the body. \nNew movements will be added each class as we explore concepts of tai chi practice and enjoy performing this moving meditation. \nThis class requires no props but does require standing.  \nThe full form will be taught over the course of two six-week sessions. Regular attendance and practice at home is necessary to learn and benefit from tai chi. \n$40 for a six-week session. Contact laurakbudde@gmail.com to register.
URL:https://waverlychurch.org/event/tai-chi-for-health/2024-02-16/
LOCATION:Social Hall
END:VEVENT
BEGIN:VEVENT
DTSTART;TZID=America/New_York:20240216T120000
DTEND;TZID=America/New_York:20240216T130000
DTSTAMP:20260422T184120
CREATED:20231128T182022Z
LAST-MODIFIED:20231128T182022Z
UID:10006935-1708084800-1708088400@waverlychurch.org
SUMMARY:Tai Chi for Health Part 1
DESCRIPTION:Learn or return to Tai Chi for Health! This tai chi form focuses on posture and stability while enhancing the connection between the brain and the body. \nNew movements will be added each class as we explore concepts of tai chi practice and enjoy performing this moving meditation. \nThis class requires no props but does require standing.  \nThe full form will be taught over the course of two six-week sessions. Regular attendance and practice at home is necessary to learn and benefit from tai chi. \n$40 for a six-week session. Contact laurakbudde@gmail.com to register.
URL:https://waverlychurch.org/event/tai-chi-for-health-part-1/2024-02-16/
END:VEVENT
BEGIN:VEVENT
DTSTART;TZID=UTC:20240217T090000
DTEND;TZID=UTC:20240217T102000
DTSTAMP:20260422T184120
CREATED:20190310T191142Z
LAST-MODIFIED:20230830T175415Z
UID:10001340-1708160400-1708165200@waverlychurch.org
SUMMARY:Narcotics Anonymous
DESCRIPTION:Narcotics Anonymous is holding in-person meetings in the Social Hall.
URL:https://waverlychurch.org/event/na-2020-03-21-2021-07-10/2024-02-17/
END:VEVENT
BEGIN:VEVENT
DTSTART;TZID=America/New_York:20240218T100000
DTEND;TZID=America/New_York:20240218T105500
DTSTAMP:20260422T184120
CREATED:20230830T170506Z
LAST-MODIFIED:20231113T180304Z
UID:10006004-1708250400-1708253700@waverlychurch.org
SUMMARY:Sunday School
DESCRIPTION:All ages are welcome to join us each week for Sunday School in the following locations: \nChildren up through 1st grade: nursery (downstairs\, right side of front entrance – ring bell to enter) \nChildren in 2nd-5th grade: the “Frog Pond” – room off of our lower floor social hall \nYouth in 6th-12th grade” the “Wonka Room” – room off of our lower floor social hall \nAdults: lounge (upstairs in back of church)
URL:https://waverlychurch.org/event/sunday-school-3/2024-02-18/
END:VEVENT
BEGIN:VEVENT
DTSTART;TZID=America/New_York:20240218T110000
DTEND;TZID=America/New_York:20240218T121500
DTSTAMP:20260422T184120
CREATED:20230830T170132Z
LAST-MODIFIED:20230830T170527Z
UID:10006263-1708254000-1708258500@waverlychurch.org
SUMMARY:Worship Service
DESCRIPTION:We meet on Sundays in our Sanctuary at 11am during the school year and stream services online. \nSunday’s worship service will be live-streamed over our Facebook page on Sunday mornings. \n \nhttps://www.facebook.com/pg/WaverlyChurch/videos/
URL:https://waverlychurch.org/event/worship-2/2024-02-18/
LOCATION:Sanctuary
END:VEVENT
BEGIN:VEVENT
DTSTART;TZID=America/New_York:20240218T121500
DTEND;TZID=America/New_York:20240218T133000
DTSTAMP:20260422T184120
CREATED:20230903T190321Z
LAST-MODIFIED:20231113T180559Z
UID:10006548-1708258500-1708263000@waverlychurch.org
SUMMARY:Coffee Hour
DESCRIPTION:Join us after service weekly for a chance to share fellowship over coffee and snacks
URL:https://waverlychurch.org/event/coffee-hour-3/2024-02-18/
LOCATION:Lounge
END:VEVENT
BEGIN:VEVENT
DTSTART;TZID=America/New_York:20240218T193000
DTEND;TZID=America/New_York:20240218T210000
DTSTAMP:20260422T184120
CREATED:20190310T184702Z
LAST-MODIFIED:20220704T145322Z
UID:10000570-1708284600-1708290000@waverlychurch.org
SUMMARY:Alcoholics Anonymous
DESCRIPTION:The Frick Park Group of Alcoholics Anonymous is holding in-person meetings in the Social Hall. \nAdditional links for AA groups are posted online at the AA Central Office.\nhttps://www.pghaa.org/
URL:https://waverlychurch.org/event/aa-2020-03-22-2021-07-04/2024-02-18/
LOCATION:Social Hall
END:VEVENT
BEGIN:VEVENT
DTSTART;TZID=America/New_York:20240219T190000
DTEND;TZID=America/New_York:20240219T203000
DTSTAMP:20260422T184120
CREATED:20240104T171854Z
LAST-MODIFIED:20240104T172058Z
UID:10005683-1708369200-1708374600@waverlychurch.org
SUMMARY:Free for Good
DESCRIPTION:Join us during the season of Lent for accountability\, vulnerability\, and connection as we seek to free ourselves for good through collective support and personal spiritual growth.
URL:https://waverlychurch.org/event/free-for-good-2-2-2/2024-02-19/
LOCATION:Lounge
END:VEVENT
BEGIN:VEVENT
DTSTART;TZID=America/New_York:20240220T190000
DTEND;TZID=America/New_York:20240220T193000
DTSTAMP:20260422T184120
CREATED:20210711T201005Z
LAST-MODIFIED:20220704T150145Z
UID:10000219-1708455600-1708457400@waverlychurch.org
SUMMARY:Al-Anon [Beginners' Meeting]
DESCRIPTION:The Frick Park Al-Anon group may still be virtual. \nContact frickparkafg85[at]gmail.com with any questions.
URL:https://waverlychurch.org/event/al-anon-beginners-meeting-2022-01-04-2022-04-05/2024-02-20/
LOCATION:Social Hall
END:VEVENT
BEGIN:VEVENT
DTSTART;TZID=UTC:20240220T193000
DTEND;TZID=UTC:20240220T203000
DTSTAMP:20260422T184120
CREATED:20190310T185001Z
LAST-MODIFIED:20220331T225559Z
UID:10002448-1708457400-1708461000@waverlychurch.org
SUMMARY:Al-Anon
DESCRIPTION:The Frick Park Al-Anon is holding in-person meetings in the Social Hall. \nContact frickparkafg85[at]gmail.com with any questions.
URL:https://waverlychurch.org/event/al-anon-2020-03-24-2021-07-06-2021-07-13/2024-02-20/
END:VEVENT
BEGIN:VEVENT
DTSTART;TZID=America/New_York:20240222T090000
DTEND;TZID=America/New_York:20240222T100000
DTSTAMP:20260422T184120
CREATED:20231003T204249Z
LAST-MODIFIED:20231128T182218Z
UID:10006951-1708592400-1708596000@waverlychurch.org
SUMMARY:Five Element Qigong Class
DESCRIPTION:Qigong is a practice that encourages the circulation of “qi” or life energy. In this class we will utilize gentle movements and stretching\, acupressure\, breath awareness and visualization to encourage the flow of qi. \nBased in Taoist Five Element Theory\, this style of qigong highlights the dynamic relationship between yin (organizing\, receptive\, cooling) and yang (animating\, expressive\, warming). \nThrough persistent effort we can strengthen our connection to the rhythms of nature and optimize our functionality. \n$40 for a six-week session. This practice requires no props and can be enjoyed standing or seated in a chair. Contact laurakbudde@gmail.com to register.
URL:https://waverlychurch.org/event/five-element-qigong-class-2/2024-02-22/
LOCATION:Social Hall
END:VEVENT
BEGIN:VEVENT
DTSTART;TZID=America/New_York:20240222T103000
DTEND;TZID=America/New_York:20240222T113000
DTSTAMP:20260422T184120
CREATED:20231003T204442Z
LAST-MODIFIED:20231128T182121Z
UID:10006948-1708597800-1708601400@waverlychurch.org
SUMMARY:Yoga
DESCRIPTION:Nurture a meaningful yoga practice that promotes a balanced body and mind. \nClasses incorporate gentle and hatha yoga with strengthening and restorative postures. Sequencing and anatomical awareness is structured to increase enjoyment and accessibility. \nWhether you have an established yoga practice or are interested in trying it out for the first time you will be encouraged to listen to your body\, and make adjustments that speak to your experience. \nThis class requires a yoga mat and a towel or blanket\, with yoga blocks and a strap highly suggested. \n$40 for a six-week session. Contact laurakbudde@gmail.com to register.
URL:https://waverlychurch.org/event/yoga-2/2024-02-22/
LOCATION:Social Hall
END:VEVENT
BEGIN:VEVENT
DTSTART;TZID=America/New_York:20240223T103000
DTEND;TZID=America/New_York:20240223T113000
DTSTAMP:20260422T184120
CREATED:20231023T201450Z
LAST-MODIFIED:20231128T181838Z
UID:10006927-1708684200-1708687800@waverlychurch.org
SUMMARY:Tai Chi for Health Part 2
DESCRIPTION:Learn or return to Tai Chi for Health! This tai chi form focuses on posture and stability while enhancing the connection between the brain and the body. \nNew movements will be added each class as we explore concepts of tai chi practice and enjoy performing this moving meditation. \nThis class requires no props but does require standing.  \nThe full form will be taught over the course of two six-week sessions. Regular attendance and practice at home is necessary to learn and benefit from tai chi. \n$40 for a six-week session. Contact laurakbudde@gmail.com to register.
URL:https://waverlychurch.org/event/tai-chi-for-health/2024-02-23/
LOCATION:Social Hall
END:VEVENT
BEGIN:VEVENT
DTSTART;TZID=America/New_York:20240223T120000
DTEND;TZID=America/New_York:20240223T130000
DTSTAMP:20260422T184120
CREATED:20231128T182022Z
LAST-MODIFIED:20231128T182022Z
UID:10006936-1708689600-1708693200@waverlychurch.org
SUMMARY:Tai Chi for Health Part 1
DESCRIPTION:Learn or return to Tai Chi for Health! This tai chi form focuses on posture and stability while enhancing the connection between the brain and the body. \nNew movements will be added each class as we explore concepts of tai chi practice and enjoy performing this moving meditation. \nThis class requires no props but does require standing.  \nThe full form will be taught over the course of two six-week sessions. Regular attendance and practice at home is necessary to learn and benefit from tai chi. \n$40 for a six-week session. Contact laurakbudde@gmail.com to register.
URL:https://waverlychurch.org/event/tai-chi-for-health-part-1/2024-02-23/
END:VEVENT
BEGIN:VEVENT
DTSTART;TZID=UTC:20240224T090000
DTEND;TZID=UTC:20240224T102000
DTSTAMP:20260422T184120
CREATED:20190310T191142Z
LAST-MODIFIED:20230830T175415Z
UID:10001341-1708765200-1708770000@waverlychurch.org
SUMMARY:Narcotics Anonymous
DESCRIPTION:Narcotics Anonymous is holding in-person meetings in the Social Hall.
URL:https://waverlychurch.org/event/na-2020-03-21-2021-07-10/2024-02-24/
END:VEVENT
BEGIN:VEVENT
DTSTART;TZID=America/New_York:20240225T100000
DTEND;TZID=America/New_York:20240225T105500
DTSTAMP:20260422T184120
CREATED:20230830T170506Z
LAST-MODIFIED:20231113T180304Z
UID:10006005-1708855200-1708858500@waverlychurch.org
SUMMARY:Sunday School
DESCRIPTION:All ages are welcome to join us each week for Sunday School in the following locations: \nChildren up through 1st grade: nursery (downstairs\, right side of front entrance – ring bell to enter) \nChildren in 2nd-5th grade: the “Frog Pond” – room off of our lower floor social hall \nYouth in 6th-12th grade” the “Wonka Room” – room off of our lower floor social hall \nAdults: lounge (upstairs in back of church)
URL:https://waverlychurch.org/event/sunday-school-3/2024-02-25/
END:VEVENT
BEGIN:VEVENT
DTSTART;TZID=America/New_York:20240225T110000
DTEND;TZID=America/New_York:20240225T121500
DTSTAMP:20260422T184120
CREATED:20230830T170132Z
LAST-MODIFIED:20230830T170527Z
UID:10006264-1708858800-1708863300@waverlychurch.org
SUMMARY:Worship Service
DESCRIPTION:We meet on Sundays in our Sanctuary at 11am during the school year and stream services online. \nSunday’s worship service will be live-streamed over our Facebook page on Sunday mornings. \n \nhttps://www.facebook.com/pg/WaverlyChurch/videos/
URL:https://waverlychurch.org/event/worship-2/2024-02-25/
LOCATION:Sanctuary
END:VEVENT
BEGIN:VEVENT
DTSTART;TZID=America/New_York:20240225T121500
DTEND;TZID=America/New_York:20240225T133000
DTSTAMP:20260422T184120
CREATED:20230903T190321Z
LAST-MODIFIED:20231113T180559Z
UID:10006549-1708863300-1708867800@waverlychurch.org
SUMMARY:Coffee Hour
DESCRIPTION:Join us after service weekly for a chance to share fellowship over coffee and snacks
URL:https://waverlychurch.org/event/coffee-hour-3/2024-02-25/
LOCATION:Lounge
END:VEVENT
BEGIN:VEVENT
DTSTART;TZID=America/New_York:20240225T193000
DTEND;TZID=America/New_York:20240225T210000
DTSTAMP:20260422T184120
CREATED:20190310T184702Z
LAST-MODIFIED:20220704T145322Z
UID:10000571-1708889400-1708894800@waverlychurch.org
SUMMARY:Alcoholics Anonymous
DESCRIPTION:The Frick Park Group of Alcoholics Anonymous is holding in-person meetings in the Social Hall. \nAdditional links for AA groups are posted online at the AA Central Office.\nhttps://www.pghaa.org/
URL:https://waverlychurch.org/event/aa-2020-03-22-2021-07-04/2024-02-25/
LOCATION:Social Hall
END:VEVENT
BEGIN:VEVENT
DTSTART;TZID=America/New_York:20240226T190000
DTEND;TZID=America/New_York:20240226T203000
DTSTAMP:20260422T184120
CREATED:20240104T171854Z
LAST-MODIFIED:20240104T172058Z
UID:10006955-1708974000-1708979400@waverlychurch.org
SUMMARY:Free for Good
DESCRIPTION:Join us during the season of Lent for accountability\, vulnerability\, and connection as we seek to free ourselves for good through collective support and personal spiritual growth.
URL:https://waverlychurch.org/event/free-for-good-2-2-2/2024-02-26/
LOCATION:Lounge
END:VEVENT
BEGIN:VEVENT
DTSTART;TZID=America/New_York:20240227T190000
DTEND;TZID=America/New_York:20240227T193000
DTSTAMP:20260422T184120
CREATED:20210711T201005Z
LAST-MODIFIED:20220704T150145Z
UID:10000220-1709060400-1709062200@waverlychurch.org
SUMMARY:Al-Anon [Beginners' Meeting]
DESCRIPTION:The Frick Park Al-Anon group may still be virtual. \nContact frickparkafg85[at]gmail.com with any questions.
URL:https://waverlychurch.org/event/al-anon-beginners-meeting-2022-01-04-2022-04-05/2024-02-27/
LOCATION:Social Hall
END:VEVENT
BEGIN:VEVENT
DTSTART;TZID=UTC:20240227T193000
DTEND;TZID=UTC:20240227T203000
DTSTAMP:20260422T184121
CREATED:20190310T185001Z
LAST-MODIFIED:20220331T225559Z
UID:10002449-1709062200-1709065800@waverlychurch.org
SUMMARY:Al-Anon
DESCRIPTION:The Frick Park Al-Anon is holding in-person meetings in the Social Hall. \nContact frickparkafg85[at]gmail.com with any questions.
URL:https://waverlychurch.org/event/al-anon-2020-03-24-2021-07-06-2021-07-13/2024-02-27/
END:VEVENT
BEGIN:VEVENT
DTSTART;TZID=America/New_York:20240229T090000
DTEND;TZID=America/New_York:20240229T100000
DTSTAMP:20260422T184121
CREATED:20231003T204249Z
LAST-MODIFIED:20231128T182218Z
UID:10006794-1709197200-1709200800@waverlychurch.org
SUMMARY:Five Element Qigong Class
DESCRIPTION:Qigong is a practice that encourages the circulation of “qi” or life energy. In this class we will utilize gentle movements and stretching\, acupressure\, breath awareness and visualization to encourage the flow of qi. \nBased in Taoist Five Element Theory\, this style of qigong highlights the dynamic relationship between yin (organizing\, receptive\, cooling) and yang (animating\, expressive\, warming). \nThrough persistent effort we can strengthen our connection to the rhythms of nature and optimize our functionality. \n$40 for a six-week session. This practice requires no props and can be enjoyed standing or seated in a chair. Contact laurakbudde@gmail.com to register.
URL:https://waverlychurch.org/event/five-element-qigong-class-2/2024-02-29/
LOCATION:Social Hall
END:VEVENT
BEGIN:VEVENT
DTSTART;TZID=America/New_York:20240229T103000
DTEND;TZID=America/New_York:20240229T113000
DTSTAMP:20260422T184121
CREATED:20231003T204442Z
LAST-MODIFIED:20231128T182121Z
UID:10006813-1709202600-1709206200@waverlychurch.org
SUMMARY:Yoga
DESCRIPTION:Nurture a meaningful yoga practice that promotes a balanced body and mind. \nClasses incorporate gentle and hatha yoga with strengthening and restorative postures. Sequencing and anatomical awareness is structured to increase enjoyment and accessibility. \nWhether you have an established yoga practice or are interested in trying it out for the first time you will be encouraged to listen to your body\, and make adjustments that speak to your experience. \nThis class requires a yoga mat and a towel or blanket\, with yoga blocks and a strap highly suggested. \n$40 for a six-week session. Contact laurakbudde@gmail.com to register.
URL:https://waverlychurch.org/event/yoga-2/2024-02-29/
LOCATION:Social Hall
END:VEVENT
BEGIN:VEVENT
DTSTART;TZID=America/New_York:20240301T103000
DTEND;TZID=America/New_York:20240301T113000
DTSTAMP:20260422T184121
CREATED:20231023T201450Z
LAST-MODIFIED:20231128T181838Z
UID:10006888-1709289000-1709292600@waverlychurch.org
SUMMARY:Tai Chi for Health Part 2
DESCRIPTION:Learn or return to Tai Chi for Health! This tai chi form focuses on posture and stability while enhancing the connection between the brain and the body. \nNew movements will be added each class as we explore concepts of tai chi practice and enjoy performing this moving meditation. \nThis class requires no props but does require standing.  \nThe full form will be taught over the course of two six-week sessions. Regular attendance and practice at home is necessary to learn and benefit from tai chi. \n$40 for a six-week session. Contact laurakbudde@gmail.com to register.
URL:https://waverlychurch.org/event/tai-chi-for-health/2024-03-01/
LOCATION:Social Hall
END:VEVENT
BEGIN:VEVENT
DTSTART;TZID=America/New_York:20240301T120000
DTEND;TZID=America/New_York:20240301T130000
DTSTAMP:20260422T184121
CREATED:20231128T182022Z
LAST-MODIFIED:20231128T182022Z
UID:10006937-1709294400-1709298000@waverlychurch.org
SUMMARY:Tai Chi for Health Part 1
DESCRIPTION:Learn or return to Tai Chi for Health! This tai chi form focuses on posture and stability while enhancing the connection between the brain and the body. \nNew movements will be added each class as we explore concepts of tai chi practice and enjoy performing this moving meditation. \nThis class requires no props but does require standing.  \nThe full form will be taught over the course of two six-week sessions. Regular attendance and practice at home is necessary to learn and benefit from tai chi. \n$40 for a six-week session. Contact laurakbudde@gmail.com to register.
URL:https://waverlychurch.org/event/tai-chi-for-health-part-1/2024-03-01/
END:VEVENT
BEGIN:VEVENT
DTSTART;TZID=UTC:20240302T090000
DTEND;TZID=UTC:20240302T102000
DTSTAMP:20260422T184121
CREATED:20190310T191142Z
LAST-MODIFIED:20230830T175415Z
UID:10001342-1709370000-1709374800@waverlychurch.org
SUMMARY:Narcotics Anonymous
DESCRIPTION:Narcotics Anonymous is holding in-person meetings in the Social Hall.
URL:https://waverlychurch.org/event/na-2020-03-21-2021-07-10/2024-03-02/
END:VEVENT
BEGIN:VEVENT
DTSTART;TZID=America/New_York:20240303T100000
DTEND;TZID=America/New_York:20240303T105500
DTSTAMP:20260422T184121
CREATED:20230830T170506Z
LAST-MODIFIED:20231113T180304Z
UID:10006006-1709460000-1709463300@waverlychurch.org
SUMMARY:Sunday School
DESCRIPTION:All ages are welcome to join us each week for Sunday School in the following locations: \nChildren up through 1st grade: nursery (downstairs\, right side of front entrance – ring bell to enter) \nChildren in 2nd-5th grade: the “Frog Pond” – room off of our lower floor social hall \nYouth in 6th-12th grade” the “Wonka Room” – room off of our lower floor social hall \nAdults: lounge (upstairs in back of church)
URL:https://waverlychurch.org/event/sunday-school-3/2024-03-03/
END:VEVENT
END:VCALENDAR