BEGIN:VCALENDAR
VERSION:2.0
PRODID:-//Waverly Presbyterian Church - ECPv6.15.20//NONSGML v1.0//EN
CALSCALE:GREGORIAN
METHOD:PUBLISH
X-WR-CALNAME:Waverly Presbyterian Church
X-ORIGINAL-URL:https://waverlychurch.org
X-WR-CALDESC:Events for Waverly Presbyterian Church
REFRESH-INTERVAL;VALUE=DURATION:PT1H
X-Robots-Tag:noindex
X-PUBLISHED-TTL:PT1H
BEGIN:VTIMEZONE
TZID:UTC
BEGIN:STANDARD
TZOFFSETFROM:+0000
TZOFFSETTO:+0000
TZNAME:UTC
DTSTART:20210101T000000
END:STANDARD
END:VTIMEZONE
BEGIN:VTIMEZONE
TZID:America/New_York
BEGIN:DAYLIGHT
TZOFFSETFROM:-0500
TZOFFSETTO:-0400
TZNAME:EDT
DTSTART:20210314T070000
END:DAYLIGHT
BEGIN:STANDARD
TZOFFSETFROM:-0400
TZOFFSETTO:-0500
TZNAME:EST
DTSTART:20211107T060000
END:STANDARD
BEGIN:DAYLIGHT
TZOFFSETFROM:-0500
TZOFFSETTO:-0400
TZNAME:EDT
DTSTART:20220313T070000
END:DAYLIGHT
BEGIN:STANDARD
TZOFFSETFROM:-0400
TZOFFSETTO:-0500
TZNAME:EST
DTSTART:20221106T060000
END:STANDARD
BEGIN:DAYLIGHT
TZOFFSETFROM:-0500
TZOFFSETTO:-0400
TZNAME:EDT
DTSTART:20230312T070000
END:DAYLIGHT
BEGIN:STANDARD
TZOFFSETFROM:-0400
TZOFFSETTO:-0500
TZNAME:EST
DTSTART:20231105T060000
END:STANDARD
END:VTIMEZONE
BEGIN:VEVENT
DTSTART;TZID=UTC:20220227T110000
DTEND;TZID=UTC:20220227T120000
DTSTAMP:20260424T214513
CREATED:20210715T194724Z
LAST-MODIFIED:20210715T194934Z
UID:10000813-1645959600-1645963200@waverlychurch.org
SUMMARY:Worship Service
DESCRIPTION:We meet on Sundays in our Sanctuary at 11am (click below for guidelines) and stream services online. \nSunday’s worship service will be live-streamed over our Facebook page at 11:00 on Sunday morning and the scripture and sermon will be on SoundCloud. \nhttps://waverlychurch.org/worship/guidelines-for-in-person-worship/ \nhttps://www.facebook.com/pg/WaverlyChurch/videos/ \n  \n 
URL:https://waverlychurch.org/event/worship-service-3/2022-02-27/
LOCATION:Sanctuary
END:VEVENT
BEGIN:VEVENT
DTSTART;TZID=UTC:20220226T090000
DTEND;TZID=UTC:20220226T102000
DTSTAMP:20260424T214513
CREATED:20190310T191142Z
LAST-MODIFIED:20230830T175415Z
UID:10001237-1645866000-1645870800@waverlychurch.org
SUMMARY:Narcotics Anonymous
DESCRIPTION:Narcotics Anonymous is holding in-person meetings in the Social Hall.
URL:https://waverlychurch.org/event/na-2020-03-21-2021-07-10/2022-02-26/
END:VEVENT
BEGIN:VEVENT
DTSTART;TZID=UTC:20220222T193000
DTEND;TZID=UTC:20220222T210000
DTSTAMP:20260424T214513
CREATED:20190310T185001Z
LAST-MODIFIED:20201211T021356Z
UID:10001651-1645558200-1645563600@waverlychurch.org
SUMMARY:Al-Anon [Virtual Meeting]
DESCRIPTION:Due to COVID-19 precautions\, the Frick Park Al-Anon is meeting virtually. \nContact frickparkafg85[at]gmail.com for the link. \nIn-person meetings will resume when it is safe to do so.
URL:https://waverlychurch.org/event/al-anon-2020-03-24/2022-02-22/
END:VEVENT
BEGIN:VEVENT
DTSTART;TZID=UTC:20220222T193000
DTEND;TZID=UTC:20220222T203000
DTSTAMP:20260424T214513
CREATED:20190310T185001Z
LAST-MODIFIED:20220331T225559Z
UID:10002344-1645558200-1645561800@waverlychurch.org
SUMMARY:Al-Anon
DESCRIPTION:The Frick Park Al-Anon is holding in-person meetings in the Social Hall. \nContact frickparkafg85[at]gmail.com with any questions.
URL:https://waverlychurch.org/event/al-anon-2020-03-24-2021-07-06-2021-07-13/2022-02-22/
END:VEVENT
BEGIN:VEVENT
DTSTART;TZID=America/New_York:20220220T193000
DTEND;TZID=America/New_York:20220220T210000
DTSTAMP:20260424T214513
CREATED:20190310T184702Z
LAST-MODIFIED:20220704T145322Z
UID:10000466-1645385400-1645390800@waverlychurch.org
SUMMARY:Alcoholics Anonymous
DESCRIPTION:The Frick Park Group of Alcoholics Anonymous is holding in-person meetings in the Social Hall. \nAdditional links for AA groups are posted online at the AA Central Office.\nhttps://www.pghaa.org/
URL:https://waverlychurch.org/event/aa-2020-03-22-2021-07-04/2022-02-20/
LOCATION:Social Hall
END:VEVENT
BEGIN:VEVENT
DTSTART;TZID=UTC:20220220T110000
DTEND;TZID=UTC:20220220T120000
DTSTAMP:20260424T214513
CREATED:20210715T194724Z
LAST-MODIFIED:20210715T194934Z
UID:10000812-1645354800-1645358400@waverlychurch.org
SUMMARY:Worship Service
DESCRIPTION:We meet on Sundays in our Sanctuary at 11am (click below for guidelines) and stream services online. \nSunday’s worship service will be live-streamed over our Facebook page at 11:00 on Sunday morning and the scripture and sermon will be on SoundCloud. \nhttps://waverlychurch.org/worship/guidelines-for-in-person-worship/ \nhttps://www.facebook.com/pg/WaverlyChurch/videos/ \n  \n 
URL:https://waverlychurch.org/event/worship-service-3/2022-02-20/
LOCATION:Sanctuary
END:VEVENT
BEGIN:VEVENT
DTSTART;TZID=UTC:20220219T090000
DTEND;TZID=UTC:20220219T102000
DTSTAMP:20260424T214513
CREATED:20190310T191142Z
LAST-MODIFIED:20230830T175415Z
UID:10001236-1645261200-1645266000@waverlychurch.org
SUMMARY:Narcotics Anonymous
DESCRIPTION:Narcotics Anonymous is holding in-person meetings in the Social Hall.
URL:https://waverlychurch.org/event/na-2020-03-21-2021-07-10/2022-02-19/
END:VEVENT
BEGIN:VEVENT
DTSTART;TZID=UTC:20220215T193000
DTEND;TZID=UTC:20220215T210000
DTSTAMP:20260424T214513
CREATED:20190310T185001Z
LAST-MODIFIED:20201211T021356Z
UID:10001650-1644953400-1644958800@waverlychurch.org
SUMMARY:Al-Anon [Virtual Meeting]
DESCRIPTION:Due to COVID-19 precautions\, the Frick Park Al-Anon is meeting virtually. \nContact frickparkafg85[at]gmail.com for the link. \nIn-person meetings will resume when it is safe to do so.
URL:https://waverlychurch.org/event/al-anon-2020-03-24/2022-02-15/
END:VEVENT
BEGIN:VEVENT
DTSTART;TZID=UTC:20220215T193000
DTEND;TZID=UTC:20220215T203000
DTSTAMP:20260424T214513
CREATED:20190310T185001Z
LAST-MODIFIED:20220331T225559Z
UID:10002343-1644953400-1644957000@waverlychurch.org
SUMMARY:Al-Anon
DESCRIPTION:The Frick Park Al-Anon is holding in-person meetings in the Social Hall. \nContact frickparkafg85[at]gmail.com with any questions.
URL:https://waverlychurch.org/event/al-anon-2020-03-24-2021-07-06-2021-07-13/2022-02-15/
END:VEVENT
BEGIN:VEVENT
DTSTART;TZID=America/New_York:20220213T193000
DTEND;TZID=America/New_York:20220213T210000
DTSTAMP:20260424T214513
CREATED:20190310T184702Z
LAST-MODIFIED:20220704T145322Z
UID:10000465-1644780600-1644786000@waverlychurch.org
SUMMARY:Alcoholics Anonymous
DESCRIPTION:The Frick Park Group of Alcoholics Anonymous is holding in-person meetings in the Social Hall. \nAdditional links for AA groups are posted online at the AA Central Office.\nhttps://www.pghaa.org/
URL:https://waverlychurch.org/event/aa-2020-03-22-2021-07-04/2022-02-13/
LOCATION:Social Hall
END:VEVENT
BEGIN:VEVENT
DTSTART;TZID=UTC:20220213T110000
DTEND;TZID=UTC:20220213T120000
DTSTAMP:20260424T214513
CREATED:20210715T194724Z
LAST-MODIFIED:20210715T194934Z
UID:10000811-1644750000-1644753600@waverlychurch.org
SUMMARY:Worship Service
DESCRIPTION:We meet on Sundays in our Sanctuary at 11am (click below for guidelines) and stream services online. \nSunday’s worship service will be live-streamed over our Facebook page at 11:00 on Sunday morning and the scripture and sermon will be on SoundCloud. \nhttps://waverlychurch.org/worship/guidelines-for-in-person-worship/ \nhttps://www.facebook.com/pg/WaverlyChurch/videos/ \n  \n 
URL:https://waverlychurch.org/event/worship-service-3/2022-02-13/
LOCATION:Sanctuary
END:VEVENT
BEGIN:VEVENT
DTSTART;TZID=UTC:20220212T090000
DTEND;TZID=UTC:20220212T102000
DTSTAMP:20260424T214513
CREATED:20190310T191142Z
LAST-MODIFIED:20230830T175415Z
UID:10001235-1644656400-1644661200@waverlychurch.org
SUMMARY:Narcotics Anonymous
DESCRIPTION:Narcotics Anonymous is holding in-person meetings in the Social Hall.
URL:https://waverlychurch.org/event/na-2020-03-21-2021-07-10/2022-02-12/
END:VEVENT
BEGIN:VEVENT
DTSTART;TZID=UTC:20220208T193000
DTEND;TZID=UTC:20220208T210000
DTSTAMP:20260424T214513
CREATED:20190310T185001Z
LAST-MODIFIED:20201211T021356Z
UID:10001649-1644348600-1644354000@waverlychurch.org
SUMMARY:Al-Anon [Virtual Meeting]
DESCRIPTION:Due to COVID-19 precautions\, the Frick Park Al-Anon is meeting virtually. \nContact frickparkafg85[at]gmail.com for the link. \nIn-person meetings will resume when it is safe to do so.
URL:https://waverlychurch.org/event/al-anon-2020-03-24/2022-02-08/
END:VEVENT
BEGIN:VEVENT
DTSTART;TZID=UTC:20220208T193000
DTEND;TZID=UTC:20220208T203000
DTSTAMP:20260424T214513
CREATED:20190310T185001Z
LAST-MODIFIED:20220331T225559Z
UID:10002342-1644348600-1644352200@waverlychurch.org
SUMMARY:Al-Anon
DESCRIPTION:The Frick Park Al-Anon is holding in-person meetings in the Social Hall. \nContact frickparkafg85[at]gmail.com with any questions.
URL:https://waverlychurch.org/event/al-anon-2020-03-24-2021-07-06-2021-07-13/2022-02-08/
END:VEVENT
BEGIN:VEVENT
DTSTART;TZID=America/New_York:20220206T193000
DTEND;TZID=America/New_York:20220206T210000
DTSTAMP:20260424T214513
CREATED:20190310T184702Z
LAST-MODIFIED:20220704T145322Z
UID:10000464-1644175800-1644181200@waverlychurch.org
SUMMARY:Alcoholics Anonymous
DESCRIPTION:The Frick Park Group of Alcoholics Anonymous is holding in-person meetings in the Social Hall. \nAdditional links for AA groups are posted online at the AA Central Office.\nhttps://www.pghaa.org/
URL:https://waverlychurch.org/event/aa-2020-03-22-2021-07-04/2022-02-06/
LOCATION:Social Hall
END:VEVENT
BEGIN:VEVENT
DTSTART;TZID=UTC:20220206T110000
DTEND;TZID=UTC:20220206T120000
DTSTAMP:20260424T214513
CREATED:20210715T194724Z
LAST-MODIFIED:20210715T194934Z
UID:10000810-1644145200-1644148800@waverlychurch.org
SUMMARY:Worship Service
DESCRIPTION:We meet on Sundays in our Sanctuary at 11am (click below for guidelines) and stream services online. \nSunday’s worship service will be live-streamed over our Facebook page at 11:00 on Sunday morning and the scripture and sermon will be on SoundCloud. \nhttps://waverlychurch.org/worship/guidelines-for-in-person-worship/ \nhttps://www.facebook.com/pg/WaverlyChurch/videos/ \n  \n 
URL:https://waverlychurch.org/event/worship-service-3/2022-02-06/
LOCATION:Sanctuary
END:VEVENT
BEGIN:VEVENT
DTSTART;TZID=UTC:20220205T090000
DTEND;TZID=UTC:20220205T102000
DTSTAMP:20260424T214513
CREATED:20190310T191142Z
LAST-MODIFIED:20230830T175415Z
UID:10001234-1644051600-1644056400@waverlychurch.org
SUMMARY:Narcotics Anonymous
DESCRIPTION:Narcotics Anonymous is holding in-person meetings in the Social Hall.
URL:https://waverlychurch.org/event/na-2020-03-21-2021-07-10/2022-02-05/
END:VEVENT
BEGIN:VEVENT
DTSTART;TZID=UTC:20220201T193000
DTEND;TZID=UTC:20220201T210000
DTSTAMP:20260424T214513
CREATED:20190310T185001Z
LAST-MODIFIED:20201211T021356Z
UID:10001648-1643743800-1643749200@waverlychurch.org
SUMMARY:Al-Anon [Virtual Meeting]
DESCRIPTION:Due to COVID-19 precautions\, the Frick Park Al-Anon is meeting virtually. \nContact frickparkafg85[at]gmail.com for the link. \nIn-person meetings will resume when it is safe to do so.
URL:https://waverlychurch.org/event/al-anon-2020-03-24/2022-02-01/
END:VEVENT
BEGIN:VEVENT
DTSTART;TZID=UTC:20220201T193000
DTEND;TZID=UTC:20220201T203000
DTSTAMP:20260424T214513
CREATED:20190310T185001Z
LAST-MODIFIED:20220331T225559Z
UID:10002341-1643743800-1643747400@waverlychurch.org
SUMMARY:Al-Anon
DESCRIPTION:The Frick Park Al-Anon is holding in-person meetings in the Social Hall. \nContact frickparkafg85[at]gmail.com with any questions.
URL:https://waverlychurch.org/event/al-anon-2020-03-24-2021-07-06-2021-07-13/2022-02-01/
END:VEVENT
BEGIN:VEVENT
DTSTART;TZID=UTC:20220201T190000
DTEND;TZID=UTC:20220201T200000
DTSTAMP:20260424T214513
CREATED:20210722T164636Z
LAST-MODIFIED:20210722T164638Z
UID:10003512-1643742000-1643745600@waverlychurch.org
SUMMARY:Creative Arts Ministry
DESCRIPTION:Join us the first Tuesday of the month at 7pm in the lounge to study scripture and plan for its creative expression in worship.
URL:https://waverlychurch.org/event/creative-arts-ministry/2022-02-01/
LOCATION:Lounge
END:VEVENT
BEGIN:VEVENT
DTSTART;TZID=America/New_York:20220130T193000
DTEND;TZID=America/New_York:20220130T210000
DTSTAMP:20260424T214513
CREATED:20190310T184702Z
LAST-MODIFIED:20220704T145322Z
UID:10000463-1643571000-1643576400@waverlychurch.org
SUMMARY:Alcoholics Anonymous
DESCRIPTION:The Frick Park Group of Alcoholics Anonymous is holding in-person meetings in the Social Hall. \nAdditional links for AA groups are posted online at the AA Central Office.\nhttps://www.pghaa.org/
URL:https://waverlychurch.org/event/aa-2020-03-22-2021-07-04/2022-01-30/
LOCATION:Social Hall
END:VEVENT
BEGIN:VEVENT
DTSTART;TZID=UTC:20220130T110000
DTEND;TZID=UTC:20220130T120000
DTSTAMP:20260424T214513
CREATED:20210715T194724Z
LAST-MODIFIED:20210715T194934Z
UID:10000809-1643540400-1643544000@waverlychurch.org
SUMMARY:Worship Service
DESCRIPTION:We meet on Sundays in our Sanctuary at 11am (click below for guidelines) and stream services online. \nSunday’s worship service will be live-streamed over our Facebook page at 11:00 on Sunday morning and the scripture and sermon will be on SoundCloud. \nhttps://waverlychurch.org/worship/guidelines-for-in-person-worship/ \nhttps://www.facebook.com/pg/WaverlyChurch/videos/ \n  \n 
URL:https://waverlychurch.org/event/worship-service-3/2022-01-30/
LOCATION:Sanctuary
END:VEVENT
BEGIN:VEVENT
DTSTART;TZID=UTC:20220129T090000
DTEND;TZID=UTC:20220129T102000
DTSTAMP:20260424T214513
CREATED:20190310T191142Z
LAST-MODIFIED:20230830T175415Z
UID:10001233-1643446800-1643451600@waverlychurch.org
SUMMARY:Narcotics Anonymous
DESCRIPTION:Narcotics Anonymous is holding in-person meetings in the Social Hall.
URL:https://waverlychurch.org/event/na-2020-03-21-2021-07-10/2022-01-29/
END:VEVENT
BEGIN:VEVENT
DTSTART;TZID=UTC:20220125T193000
DTEND;TZID=UTC:20220125T210000
DTSTAMP:20260424T214513
CREATED:20190310T185001Z
LAST-MODIFIED:20201211T021356Z
UID:10001647-1643139000-1643144400@waverlychurch.org
SUMMARY:Al-Anon [Virtual Meeting]
DESCRIPTION:Due to COVID-19 precautions\, the Frick Park Al-Anon is meeting virtually. \nContact frickparkafg85[at]gmail.com for the link. \nIn-person meetings will resume when it is safe to do so.
URL:https://waverlychurch.org/event/al-anon-2020-03-24/2022-01-25/
END:VEVENT
BEGIN:VEVENT
DTSTART;TZID=UTC:20220125T193000
DTEND;TZID=UTC:20220125T203000
DTSTAMP:20260424T214513
CREATED:20190310T185001Z
LAST-MODIFIED:20220331T225559Z
UID:10002340-1643139000-1643142600@waverlychurch.org
SUMMARY:Al-Anon
DESCRIPTION:The Frick Park Al-Anon is holding in-person meetings in the Social Hall. \nContact frickparkafg85[at]gmail.com with any questions.
URL:https://waverlychurch.org/event/al-anon-2020-03-24-2021-07-06-2021-07-13/2022-01-25/
END:VEVENT
BEGIN:VEVENT
DTSTART;TZID=America/New_York:20220123T193000
DTEND;TZID=America/New_York:20220123T210000
DTSTAMP:20260424T214513
CREATED:20190310T184702Z
LAST-MODIFIED:20220704T145322Z
UID:10000462-1642966200-1642971600@waverlychurch.org
SUMMARY:Alcoholics Anonymous
DESCRIPTION:The Frick Park Group of Alcoholics Anonymous is holding in-person meetings in the Social Hall. \nAdditional links for AA groups are posted online at the AA Central Office.\nhttps://www.pghaa.org/
URL:https://waverlychurch.org/event/aa-2020-03-22-2021-07-04/2022-01-23/
LOCATION:Social Hall
END:VEVENT
BEGIN:VEVENT
DTSTART;TZID=UTC:20220123T110000
DTEND;TZID=UTC:20220123T120000
DTSTAMP:20260424T214513
CREATED:20210715T194724Z
LAST-MODIFIED:20210715T194934Z
UID:10000808-1642935600-1642939200@waverlychurch.org
SUMMARY:Worship Service
DESCRIPTION:We meet on Sundays in our Sanctuary at 11am (click below for guidelines) and stream services online. \nSunday’s worship service will be live-streamed over our Facebook page at 11:00 on Sunday morning and the scripture and sermon will be on SoundCloud. \nhttps://waverlychurch.org/worship/guidelines-for-in-person-worship/ \nhttps://www.facebook.com/pg/WaverlyChurch/videos/ \n  \n 
URL:https://waverlychurch.org/event/worship-service-3/2022-01-23/
LOCATION:Sanctuary
END:VEVENT
BEGIN:VEVENT
DTSTART;TZID=UTC:20220122T090000
DTEND;TZID=UTC:20220122T102000
DTSTAMP:20260424T214513
CREATED:20190310T191142Z
LAST-MODIFIED:20230830T175415Z
UID:10001232-1642842000-1642846800@waverlychurch.org
SUMMARY:Narcotics Anonymous
DESCRIPTION:Narcotics Anonymous is holding in-person meetings in the Social Hall.
URL:https://waverlychurch.org/event/na-2020-03-21-2021-07-10/2022-01-22/
END:VEVENT
BEGIN:VEVENT
DTSTART;TZID=UTC:20220118T193000
DTEND;TZID=UTC:20220118T210000
DTSTAMP:20260424T214513
CREATED:20190310T185001Z
LAST-MODIFIED:20201211T021356Z
UID:10001646-1642534200-1642539600@waverlychurch.org
SUMMARY:Al-Anon [Virtual Meeting]
DESCRIPTION:Due to COVID-19 precautions\, the Frick Park Al-Anon is meeting virtually. \nContact frickparkafg85[at]gmail.com for the link. \nIn-person meetings will resume when it is safe to do so.
URL:https://waverlychurch.org/event/al-anon-2020-03-24/2022-01-18/
END:VEVENT
BEGIN:VEVENT
DTSTART;TZID=UTC:20220118T193000
DTEND;TZID=UTC:20220118T203000
DTSTAMP:20260424T214513
CREATED:20190310T185001Z
LAST-MODIFIED:20220331T225559Z
UID:10002339-1642534200-1642537800@waverlychurch.org
SUMMARY:Al-Anon
DESCRIPTION:The Frick Park Al-Anon is holding in-person meetings in the Social Hall. \nContact frickparkafg85[at]gmail.com with any questions.
URL:https://waverlychurch.org/event/al-anon-2020-03-24-2021-07-06-2021-07-13/2022-01-18/
END:VEVENT
END:VCALENDAR