BEGIN:VCALENDAR
VERSION:2.0
PRODID:-//Waverly Presbyterian Church - ECPv6.15.20//NONSGML v1.0//EN
CALSCALE:GREGORIAN
METHOD:PUBLISH
X-ORIGINAL-URL:https://waverlychurch.org
X-WR-CALDESC:Events for Waverly Presbyterian Church
REFRESH-INTERVAL;VALUE=DURATION:PT1H
X-Robots-Tag:noindex
X-PUBLISHED-TTL:PT1H
BEGIN:VTIMEZONE
TZID:America/New_York
BEGIN:DAYLIGHT
TZOFFSETFROM:-0500
TZOFFSETTO:-0400
TZNAME:EDT
DTSTART:20270314T070000
END:DAYLIGHT
BEGIN:STANDARD
TZOFFSETFROM:-0400
TZOFFSETTO:-0500
TZNAME:EST
DTSTART:20271107T060000
END:STANDARD
BEGIN:DAYLIGHT
TZOFFSETFROM:-0500
TZOFFSETTO:-0400
TZNAME:EDT
DTSTART:20280312T070000
END:DAYLIGHT
BEGIN:STANDARD
TZOFFSETFROM:-0400
TZOFFSETTO:-0500
TZNAME:EST
DTSTART:20281105T060000
END:STANDARD
BEGIN:DAYLIGHT
TZOFFSETFROM:-0500
TZOFFSETTO:-0400
TZNAME:EDT
DTSTART:20290311T070000
END:DAYLIGHT
BEGIN:STANDARD
TZOFFSETFROM:-0400
TZOFFSETTO:-0500
TZNAME:EST
DTSTART:20291104T060000
END:STANDARD
END:VTIMEZONE
BEGIN:VEVENT
DTSTART;TZID=America/New_York:20280907T190000
DTEND;TZID=America/New_York:20280907T203000
DTSTAMP:20260422T190110
CREATED:20251125T183555Z
LAST-MODIFIED:20251125T183747Z
UID:10132478-1851966000-1851971400@waverlychurch.org
SUMMARY:Choir Rehearsal in Lounge
DESCRIPTION:
URL:https://waverlychurch.org/event/choir-rehearsal-in-lounge/2028-09-07/
LOCATION:Lounge
END:VEVENT
BEGIN:VEVENT
DTSTART;TZID=America/New_York:20280910T093000
DTEND;TZID=America/New_York:20280910T100000
DTSTAMP:20260422T190110
CREATED:20251125T184126Z
LAST-MODIFIED:20251125T184126Z
UID:10132739-1852191000-1852192800@waverlychurch.org
SUMMARY:Choir Rehearsal in Sanctuary
DESCRIPTION:
URL:https://waverlychurch.org/event/choir-rehearsal-in-sanctuary/2028-09-10/
END:VEVENT
BEGIN:VEVENT
DTSTART;TZID=America/New_York:20280910T100000
DTEND;TZID=America/New_York:20280910T105500
DTSTAMP:20260422T190110
CREATED:20260305T170350Z
LAST-MODIFIED:20260305T170351Z
UID:10007302-1852192800-1852196100@waverlychurch.org
SUMMARY:Sunday School
DESCRIPTION:All ages are welcome to join us each week for Sunday School in the following locations: \nChildren up through 1st grade: nursery (downstairs\, right side of front entrance – ring bell to enter) \nChildren and Youth 2nd grade through 12th grade in the “Wonka Room” – room off of our lower floor Social Hall. \nAdults: lounge (upstairs in back of church)
URL:https://waverlychurch.org/event/sunday-school-3-2-2-2-2-2-2-2/2028-09-10/
END:VEVENT
BEGIN:VEVENT
DTSTART;TZID=America/New_York:20280910T110000
DTEND;TZID=America/New_York:20280910T121500
DTSTAMP:20260422T190110
CREATED:20250923T171614Z
LAST-MODIFIED:20250923T171615Z
UID:10007870-1852196400-1852200900@waverlychurch.org
SUMMARY:Worship Service
DESCRIPTION:We meet on Sundays in our Sanctuary at 11am during the school year and stream services online. \nSunday’s worship service will be live-streamed over our Facebook page on Sunday mornings. \n \nhttps://www.facebook.com/pg/WaverlyChurch/videos/
URL:https://waverlychurch.org/event/worship-service-5-2-2/2028-09-10/
END:VEVENT
BEGIN:VEVENT
DTSTART;TZID=America/New_York:20280910T121500
DTEND;TZID=America/New_York:20280910T133000
DTSTAMP:20260422T190110
CREATED:20260305T165302Z
LAST-MODIFIED:20260305T170242Z
UID:10006912-1852200900-1852205400@waverlychurch.org
SUMMARY:Coffee Hour
DESCRIPTION:Join us after service weekly for a chance to share fellowship over coffee and snacks
URL:https://waverlychurch.org/event/coffee-hour-3-2-2-2-2-2/2028-09-10/
LOCATION:Lounge
END:VEVENT
BEGIN:VEVENT
DTSTART;TZID=America/New_York:20280911T090000
DTEND;TZID=America/New_York:20280911T200000
DTSTAMP:20260422T190110
CREATED:20251030T152456Z
LAST-MODIFIED:20251030T152456Z
UID:10132022-1852275600-1852315200@waverlychurch.org
SUMMARY:Guitar Lessons
DESCRIPTION:ian@cainsmusiclessons.com
URL:https://waverlychurch.org/event/guitar-lessons/2028-09-11/
LOCATION:Frog Room
END:VEVENT
BEGIN:VEVENT
DTSTART;TZID=America/New_York:20280911T190000
DTEND;TZID=America/New_York:20280911T203000
DTSTAMP:20260422T190110
CREATED:20251125T185647Z
LAST-MODIFIED:20251125T185647Z
UID:10132948-1852311600-1852317000@waverlychurch.org
SUMMARY:Amnesty Meeting-Social Hall
DESCRIPTION:
URL:https://waverlychurch.org/event/amnesty-meeting-social-hall/2028-09-11/
END:VEVENT
BEGIN:VEVENT
DTSTART;TZID=America/New_York:20280913T090000
DTEND;TZID=America/New_York:20280913T200000
DTSTAMP:20260422T190110
CREATED:20251030T152456Z
LAST-MODIFIED:20251030T152456Z
UID:10132023-1852448400-1852488000@waverlychurch.org
SUMMARY:Guitar Lessons
DESCRIPTION:ian@cainsmusiclessons.com
URL:https://waverlychurch.org/event/guitar-lessons/2028-09-13/
LOCATION:Frog Room
END:VEVENT
BEGIN:VEVENT
DTSTART;TZID=America/New_York:20280914T190000
DTEND;TZID=America/New_York:20280914T203000
DTSTAMP:20260422T190110
CREATED:20251125T183555Z
LAST-MODIFIED:20251125T183747Z
UID:10132479-1852570800-1852576200@waverlychurch.org
SUMMARY:Choir Rehearsal in Lounge
DESCRIPTION:
URL:https://waverlychurch.org/event/choir-rehearsal-in-lounge/2028-09-14/
LOCATION:Lounge
END:VEVENT
BEGIN:VEVENT
DTSTART;TZID=America/New_York:20280917T093000
DTEND;TZID=America/New_York:20280917T100000
DTSTAMP:20260422T190110
CREATED:20251125T184126Z
LAST-MODIFIED:20251125T184126Z
UID:10132740-1852795800-1852797600@waverlychurch.org
SUMMARY:Choir Rehearsal in Sanctuary
DESCRIPTION:
URL:https://waverlychurch.org/event/choir-rehearsal-in-sanctuary/2028-09-17/
END:VEVENT
BEGIN:VEVENT
DTSTART;TZID=America/New_York:20280917T100000
DTEND;TZID=America/New_York:20280917T105500
DTSTAMP:20260422T190110
CREATED:20260305T170350Z
LAST-MODIFIED:20260305T170351Z
UID:10007303-1852797600-1852800900@waverlychurch.org
SUMMARY:Sunday School
DESCRIPTION:All ages are welcome to join us each week for Sunday School in the following locations: \nChildren up through 1st grade: nursery (downstairs\, right side of front entrance – ring bell to enter) \nChildren and Youth 2nd grade through 12th grade in the “Wonka Room” – room off of our lower floor Social Hall. \nAdults: lounge (upstairs in back of church)
URL:https://waverlychurch.org/event/sunday-school-3-2-2-2-2-2-2-2/2028-09-17/
END:VEVENT
BEGIN:VEVENT
DTSTART;TZID=America/New_York:20280917T110000
DTEND;TZID=America/New_York:20280917T121500
DTSTAMP:20260422T190110
CREATED:20250923T171614Z
LAST-MODIFIED:20250923T171615Z
UID:10007871-1852801200-1852805700@waverlychurch.org
SUMMARY:Worship Service
DESCRIPTION:We meet on Sundays in our Sanctuary at 11am during the school year and stream services online. \nSunday’s worship service will be live-streamed over our Facebook page on Sunday mornings. \n \nhttps://www.facebook.com/pg/WaverlyChurch/videos/
URL:https://waverlychurch.org/event/worship-service-5-2-2/2028-09-17/
END:VEVENT
BEGIN:VEVENT
DTSTART;TZID=America/New_York:20280917T121500
DTEND;TZID=America/New_York:20280917T133000
DTSTAMP:20260422T190110
CREATED:20260305T165302Z
LAST-MODIFIED:20260305T170242Z
UID:10006913-1852805700-1852810200@waverlychurch.org
SUMMARY:Coffee Hour
DESCRIPTION:Join us after service weekly for a chance to share fellowship over coffee and snacks
URL:https://waverlychurch.org/event/coffee-hour-3-2-2-2-2-2/2028-09-17/
LOCATION:Lounge
END:VEVENT
BEGIN:VEVENT
DTSTART;TZID=America/New_York:20280918T090000
DTEND;TZID=America/New_York:20280918T200000
DTSTAMP:20260422T190110
CREATED:20251030T152456Z
LAST-MODIFIED:20251030T152456Z
UID:10132024-1852880400-1852920000@waverlychurch.org
SUMMARY:Guitar Lessons
DESCRIPTION:ian@cainsmusiclessons.com
URL:https://waverlychurch.org/event/guitar-lessons/2028-09-18/
LOCATION:Frog Room
END:VEVENT
BEGIN:VEVENT
DTSTART;TZID=America/New_York:20280920T090000
DTEND;TZID=America/New_York:20280920T200000
DTSTAMP:20260422T190110
CREATED:20251030T152456Z
LAST-MODIFIED:20251030T152456Z
UID:10132025-1853053200-1853092800@waverlychurch.org
SUMMARY:Guitar Lessons
DESCRIPTION:ian@cainsmusiclessons.com
URL:https://waverlychurch.org/event/guitar-lessons/2028-09-20/
LOCATION:Frog Room
END:VEVENT
BEGIN:VEVENT
DTSTART;TZID=America/New_York:20280921T190000
DTEND;TZID=America/New_York:20280921T203000
DTSTAMP:20260422T190110
CREATED:20251125T183555Z
LAST-MODIFIED:20251125T183747Z
UID:10132480-1853175600-1853181000@waverlychurch.org
SUMMARY:Choir Rehearsal in Lounge
DESCRIPTION:
URL:https://waverlychurch.org/event/choir-rehearsal-in-lounge/2028-09-21/
LOCATION:Lounge
END:VEVENT
BEGIN:VEVENT
DTSTART;TZID=America/New_York:20280924T093000
DTEND;TZID=America/New_York:20280924T100000
DTSTAMP:20260422T190110
CREATED:20251125T184126Z
LAST-MODIFIED:20251125T184126Z
UID:10132741-1853400600-1853402400@waverlychurch.org
SUMMARY:Choir Rehearsal in Sanctuary
DESCRIPTION:
URL:https://waverlychurch.org/event/choir-rehearsal-in-sanctuary/2028-09-24/
END:VEVENT
BEGIN:VEVENT
DTSTART;TZID=America/New_York:20280924T100000
DTEND;TZID=America/New_York:20280924T105500
DTSTAMP:20260422T190110
CREATED:20260305T170350Z
LAST-MODIFIED:20260305T170351Z
UID:10007304-1853402400-1853405700@waverlychurch.org
SUMMARY:Sunday School
DESCRIPTION:All ages are welcome to join us each week for Sunday School in the following locations: \nChildren up through 1st grade: nursery (downstairs\, right side of front entrance – ring bell to enter) \nChildren and Youth 2nd grade through 12th grade in the “Wonka Room” – room off of our lower floor Social Hall. \nAdults: lounge (upstairs in back of church)
URL:https://waverlychurch.org/event/sunday-school-3-2-2-2-2-2-2-2/2028-09-24/
END:VEVENT
BEGIN:VEVENT
DTSTART;TZID=America/New_York:20280924T110000
DTEND;TZID=America/New_York:20280924T121500
DTSTAMP:20260422T190110
CREATED:20250923T171614Z
LAST-MODIFIED:20250923T171615Z
UID:10007872-1853406000-1853410500@waverlychurch.org
SUMMARY:Worship Service
DESCRIPTION:We meet on Sundays in our Sanctuary at 11am during the school year and stream services online. \nSunday’s worship service will be live-streamed over our Facebook page on Sunday mornings. \n \nhttps://www.facebook.com/pg/WaverlyChurch/videos/
URL:https://waverlychurch.org/event/worship-service-5-2-2/2028-09-24/
END:VEVENT
BEGIN:VEVENT
DTSTART;TZID=America/New_York:20280924T121500
DTEND;TZID=America/New_York:20280924T133000
DTSTAMP:20260422T190110
CREATED:20260305T165302Z
LAST-MODIFIED:20260305T170242Z
UID:10006914-1853410500-1853415000@waverlychurch.org
SUMMARY:Coffee Hour
DESCRIPTION:Join us after service weekly for a chance to share fellowship over coffee and snacks
URL:https://waverlychurch.org/event/coffee-hour-3-2-2-2-2-2/2028-09-24/
LOCATION:Lounge
END:VEVENT
BEGIN:VEVENT
DTSTART;TZID=America/New_York:20280925T090000
DTEND;TZID=America/New_York:20280925T200000
DTSTAMP:20260422T190110
CREATED:20251030T152456Z
LAST-MODIFIED:20251030T152456Z
UID:10132026-1853485200-1853524800@waverlychurch.org
SUMMARY:Guitar Lessons
DESCRIPTION:ian@cainsmusiclessons.com
URL:https://waverlychurch.org/event/guitar-lessons/2028-09-25/
LOCATION:Frog Room
END:VEVENT
BEGIN:VEVENT
DTSTART;TZID=America/New_York:20280927T090000
DTEND;TZID=America/New_York:20280927T200000
DTSTAMP:20260422T190111
CREATED:20251030T152456Z
LAST-MODIFIED:20251030T152456Z
UID:10132027-1853658000-1853697600@waverlychurch.org
SUMMARY:Guitar Lessons
DESCRIPTION:ian@cainsmusiclessons.com
URL:https://waverlychurch.org/event/guitar-lessons/2028-09-27/
LOCATION:Frog Room
END:VEVENT
BEGIN:VEVENT
DTSTART;TZID=America/New_York:20280928T103000
DTEND;TZID=America/New_York:20280928T140000
DTSTAMP:20260422T190111
CREATED:20260324T153601Z
LAST-MODIFIED:20260324T153603Z
UID:10133096-1853749800-1853762400@waverlychurch.org
SUMMARY:Reiki with Bob Dove and Ross Marshall
DESCRIPTION:
URL:https://waverlychurch.org/event/reiki-with-bob-dove-and-ross-marshall-2-2/2028-09-28/
LOCATION:Social Hall
END:VEVENT
BEGIN:VEVENT
DTSTART;TZID=America/New_York:20280928T190000
DTEND;TZID=America/New_York:20280928T203000
DTSTAMP:20260422T190111
CREATED:20251125T183555Z
LAST-MODIFIED:20251125T183747Z
UID:10132481-1853780400-1853785800@waverlychurch.org
SUMMARY:Choir Rehearsal in Lounge
DESCRIPTION:
URL:https://waverlychurch.org/event/choir-rehearsal-in-lounge/2028-09-28/
LOCATION:Lounge
END:VEVENT
BEGIN:VEVENT
DTSTART;TZID=America/New_York:20281001T093000
DTEND;TZID=America/New_York:20281001T100000
DTSTAMP:20260422T190111
CREATED:20251125T184126Z
LAST-MODIFIED:20251125T184126Z
UID:10132742-1854005400-1854007200@waverlychurch.org
SUMMARY:Choir Rehearsal in Sanctuary
DESCRIPTION:
URL:https://waverlychurch.org/event/choir-rehearsal-in-sanctuary/2028-10-01/
END:VEVENT
BEGIN:VEVENT
DTSTART;TZID=America/New_York:20281001T100000
DTEND;TZID=America/New_York:20281001T105500
DTSTAMP:20260422T190111
CREATED:20260305T170350Z
LAST-MODIFIED:20260305T170351Z
UID:10007305-1854007200-1854010500@waverlychurch.org
SUMMARY:Sunday School
DESCRIPTION:All ages are welcome to join us each week for Sunday School in the following locations: \nChildren up through 1st grade: nursery (downstairs\, right side of front entrance – ring bell to enter) \nChildren and Youth 2nd grade through 12th grade in the “Wonka Room” – room off of our lower floor Social Hall. \nAdults: lounge (upstairs in back of church)
URL:https://waverlychurch.org/event/sunday-school-3-2-2-2-2-2-2-2/2028-10-01/
END:VEVENT
BEGIN:VEVENT
DTSTART;TZID=America/New_York:20281001T110000
DTEND;TZID=America/New_York:20281001T121500
DTSTAMP:20260422T190111
CREATED:20250923T171614Z
LAST-MODIFIED:20250923T171615Z
UID:10007873-1854010800-1854015300@waverlychurch.org
SUMMARY:Worship Service
DESCRIPTION:We meet on Sundays in our Sanctuary at 11am during the school year and stream services online. \nSunday’s worship service will be live-streamed over our Facebook page on Sunday mornings. \n \nhttps://www.facebook.com/pg/WaverlyChurch/videos/
URL:https://waverlychurch.org/event/worship-service-5-2-2/2028-10-01/
END:VEVENT
BEGIN:VEVENT
DTSTART;TZID=America/New_York:20281001T121500
DTEND;TZID=America/New_York:20281001T133000
DTSTAMP:20260422T190111
CREATED:20260305T165302Z
LAST-MODIFIED:20260305T170242Z
UID:10006915-1854015300-1854019800@waverlychurch.org
SUMMARY:Coffee Hour
DESCRIPTION:Join us after service weekly for a chance to share fellowship over coffee and snacks
URL:https://waverlychurch.org/event/coffee-hour-3-2-2-2-2-2/2028-10-01/
LOCATION:Lounge
END:VEVENT
BEGIN:VEVENT
DTSTART;TZID=America/New_York:20281002T090000
DTEND;TZID=America/New_York:20281002T200000
DTSTAMP:20260422T190111
CREATED:20251030T152456Z
LAST-MODIFIED:20251030T152456Z
UID:10132028-1854090000-1854129600@waverlychurch.org
SUMMARY:Guitar Lessons
DESCRIPTION:ian@cainsmusiclessons.com
URL:https://waverlychurch.org/event/guitar-lessons/2028-10-02/
LOCATION:Frog Room
END:VEVENT
BEGIN:VEVENT
DTSTART;TZID=America/New_York:20281004T090000
DTEND;TZID=America/New_York:20281004T200000
DTSTAMP:20260422T190111
CREATED:20251030T152456Z
LAST-MODIFIED:20251030T152456Z
UID:10132029-1854262800-1854302400@waverlychurch.org
SUMMARY:Guitar Lessons
DESCRIPTION:ian@cainsmusiclessons.com
URL:https://waverlychurch.org/event/guitar-lessons/2028-10-04/
LOCATION:Frog Room
END:VEVENT
END:VCALENDAR