BEGIN:VCALENDAR
VERSION:2.0
PRODID:-//Waverly Presbyterian Church - ECPv6.15.20//NONSGML v1.0//EN
CALSCALE:GREGORIAN
METHOD:PUBLISH
X-WR-CALNAME:Waverly Presbyterian Church
X-ORIGINAL-URL:https://waverlychurch.org
X-WR-CALDESC:Events for Waverly Presbyterian Church
REFRESH-INTERVAL;VALUE=DURATION:PT1H
X-Robots-Tag:noindex
X-PUBLISHED-TTL:PT1H
BEGIN:VTIMEZONE
TZID:America/New_York
BEGIN:DAYLIGHT
TZOFFSETFROM:-0500
TZOFFSETTO:-0400
TZNAME:EDT
DTSTART:20280312T070000
END:DAYLIGHT
BEGIN:STANDARD
TZOFFSETFROM:-0400
TZOFFSETTO:-0500
TZNAME:EST
DTSTART:20281105T060000
END:STANDARD
BEGIN:DAYLIGHT
TZOFFSETFROM:-0500
TZOFFSETTO:-0400
TZNAME:EDT
DTSTART:20290311T070000
END:DAYLIGHT
BEGIN:STANDARD
TZOFFSETFROM:-0400
TZOFFSETTO:-0500
TZNAME:EST
DTSTART:20291104T060000
END:STANDARD
BEGIN:DAYLIGHT
TZOFFSETFROM:-0500
TZOFFSETTO:-0400
TZNAME:EDT
DTSTART:20300310T070000
END:DAYLIGHT
BEGIN:STANDARD
TZOFFSETFROM:-0400
TZOFFSETTO:-0500
TZNAME:EST
DTSTART:20301103T060000
END:STANDARD
END:VTIMEZONE
BEGIN:VEVENT
DTSTART;TZID=America/New_York:20290909T121500
DTEND;TZID=America/New_York:20290909T133000
DTSTAMP:20260424T011747
CREATED:20260305T165302Z
LAST-MODIFIED:20260423T181455Z
UID:10009000-1883650500-1883655000@waverlychurch.org
SUMMARY:Coffee Hour
DESCRIPTION:Join us after service weekly for a chance to share fellowship over coffee and snacks
URL:https://waverlychurch.org/event/coffee-hour-3-2-2-2-2-2/2029-09-09/
LOCATION:Lounge
END:VEVENT
BEGIN:VEVENT
DTSTART;TZID=America/New_York:20290910T090000
DTEND;TZID=America/New_York:20290910T200000
DTSTAMP:20260424T011747
CREATED:20251030T152456Z
LAST-MODIFIED:20251030T152456Z
UID:10132126-1883725200-1883764800@waverlychurch.org
SUMMARY:Guitar Lessons
DESCRIPTION:ian@cainsmusiclessons.com
URL:https://waverlychurch.org/event/guitar-lessons/2029-09-10/
LOCATION:Frog Room
END:VEVENT
BEGIN:VEVENT
DTSTART;TZID=America/New_York:20290910T190000
DTEND;TZID=America/New_York:20290910T203000
DTSTAMP:20260424T011747
CREATED:20251125T185647Z
LAST-MODIFIED:20251125T185647Z
UID:10132960-1883761200-1883766600@waverlychurch.org
SUMMARY:Amnesty Meeting-Social Hall
DESCRIPTION:
URL:https://waverlychurch.org/event/amnesty-meeting-social-hall/2029-09-10/
END:VEVENT
BEGIN:VEVENT
DTSTART;TZID=America/New_York:20290912T090000
DTEND;TZID=America/New_York:20290912T200000
DTSTAMP:20260424T011747
CREATED:20251030T152456Z
LAST-MODIFIED:20251030T152456Z
UID:10132127-1883898000-1883937600@waverlychurch.org
SUMMARY:Guitar Lessons
DESCRIPTION:ian@cainsmusiclessons.com
URL:https://waverlychurch.org/event/guitar-lessons/2029-09-12/
LOCATION:Frog Room
END:VEVENT
BEGIN:VEVENT
DTSTART;TZID=America/New_York:20290913T190000
DTEND;TZID=America/New_York:20290913T203000
DTSTAMP:20260424T011747
CREATED:20251125T183555Z
LAST-MODIFIED:20251125T183747Z
UID:10132531-1884020400-1884025800@waverlychurch.org
SUMMARY:Choir Rehearsal in Lounge
DESCRIPTION:
URL:https://waverlychurch.org/event/choir-rehearsal-in-lounge/2029-09-13/
LOCATION:Lounge
END:VEVENT
BEGIN:VEVENT
DTSTART;TZID=America/New_York:20290916T093000
DTEND;TZID=America/New_York:20290916T100000
DTSTAMP:20260424T011747
CREATED:20251125T184126Z
LAST-MODIFIED:20251125T184126Z
UID:10132792-1884245400-1884247200@waverlychurch.org
SUMMARY:Choir Rehearsal in Sanctuary
DESCRIPTION:
URL:https://waverlychurch.org/event/choir-rehearsal-in-sanctuary/2029-09-16/
END:VEVENT
BEGIN:VEVENT
DTSTART;TZID=America/New_York:20290916T100000
DTEND;TZID=America/New_York:20290916T105500
DTSTAMP:20260424T011747
CREATED:20260305T170350Z
LAST-MODIFIED:20260305T170351Z
UID:10008726-1884247200-1884250500@waverlychurch.org
SUMMARY:Sunday School
DESCRIPTION:All ages are welcome to join us each week for Sunday School in the following locations: \nChildren up through 1st grade: nursery (downstairs\, right side of front entrance – ring bell to enter) \nChildren and Youth 2nd grade through 12th grade in the “Wonka Room” – room off of our lower floor Social Hall. \nAdults: lounge (upstairs in back of church)
URL:https://waverlychurch.org/event/sunday-school-3-2-2-2-2-2-2-2/2029-09-16/
END:VEVENT
BEGIN:VEVENT
DTSTART;TZID=America/New_York:20290916T110000
DTEND;TZID=America/New_York:20290916T121500
DTSTAMP:20260424T011747
CREATED:20250923T171614Z
LAST-MODIFIED:20250923T171615Z
UID:10129116-1884250800-1884255300@waverlychurch.org
SUMMARY:Worship Service
DESCRIPTION:We meet on Sundays in our Sanctuary at 11am during the school year and stream services online. \nSunday’s worship service will be live-streamed over our Facebook page on Sunday mornings. \n \nhttps://www.facebook.com/pg/WaverlyChurch/videos/
URL:https://waverlychurch.org/event/worship-service-5-2-2/2029-09-16/
END:VEVENT
BEGIN:VEVENT
DTSTART;TZID=America/New_York:20290916T121500
DTEND;TZID=America/New_York:20290916T133000
DTSTAMP:20260424T011747
CREATED:20260305T165302Z
LAST-MODIFIED:20260423T181455Z
UID:10009001-1884255300-1884259800@waverlychurch.org
SUMMARY:Coffee Hour
DESCRIPTION:Join us after service weekly for a chance to share fellowship over coffee and snacks
URL:https://waverlychurch.org/event/coffee-hour-3-2-2-2-2-2/2029-09-16/
LOCATION:Lounge
END:VEVENT
BEGIN:VEVENT
DTSTART;TZID=America/New_York:20290917T090000
DTEND;TZID=America/New_York:20290917T200000
DTSTAMP:20260424T011747
CREATED:20251030T152456Z
LAST-MODIFIED:20251030T152456Z
UID:10132128-1884330000-1884369600@waverlychurch.org
SUMMARY:Guitar Lessons
DESCRIPTION:ian@cainsmusiclessons.com
URL:https://waverlychurch.org/event/guitar-lessons/2029-09-17/
LOCATION:Frog Room
END:VEVENT
BEGIN:VEVENT
DTSTART;TZID=America/New_York:20290919T090000
DTEND;TZID=America/New_York:20290919T200000
DTSTAMP:20260424T011747
CREATED:20251030T152456Z
LAST-MODIFIED:20251030T152456Z
UID:10132129-1884502800-1884542400@waverlychurch.org
SUMMARY:Guitar Lessons
DESCRIPTION:ian@cainsmusiclessons.com
URL:https://waverlychurch.org/event/guitar-lessons/2029-09-19/
LOCATION:Frog Room
END:VEVENT
BEGIN:VEVENT
DTSTART;TZID=America/New_York:20290920T190000
DTEND;TZID=America/New_York:20290920T203000
DTSTAMP:20260424T011747
CREATED:20251125T183555Z
LAST-MODIFIED:20251125T183747Z
UID:10132532-1884625200-1884630600@waverlychurch.org
SUMMARY:Choir Rehearsal in Lounge
DESCRIPTION:
URL:https://waverlychurch.org/event/choir-rehearsal-in-lounge/2029-09-20/
LOCATION:Lounge
END:VEVENT
BEGIN:VEVENT
DTSTART;TZID=America/New_York:20290923T093000
DTEND;TZID=America/New_York:20290923T100000
DTSTAMP:20260424T011747
CREATED:20251125T184126Z
LAST-MODIFIED:20251125T184126Z
UID:10132793-1884850200-1884852000@waverlychurch.org
SUMMARY:Choir Rehearsal in Sanctuary
DESCRIPTION:
URL:https://waverlychurch.org/event/choir-rehearsal-in-sanctuary/2029-09-23/
END:VEVENT
BEGIN:VEVENT
DTSTART;TZID=America/New_York:20290923T100000
DTEND;TZID=America/New_York:20290923T105500
DTSTAMP:20260424T011747
CREATED:20260305T170350Z
LAST-MODIFIED:20260305T170351Z
UID:10008727-1884852000-1884855300@waverlychurch.org
SUMMARY:Sunday School
DESCRIPTION:All ages are welcome to join us each week for Sunday School in the following locations: \nChildren up through 1st grade: nursery (downstairs\, right side of front entrance – ring bell to enter) \nChildren and Youth 2nd grade through 12th grade in the “Wonka Room” – room off of our lower floor Social Hall. \nAdults: lounge (upstairs in back of church)
URL:https://waverlychurch.org/event/sunday-school-3-2-2-2-2-2-2-2/2029-09-23/
END:VEVENT
BEGIN:VEVENT
DTSTART;TZID=America/New_York:20290923T110000
DTEND;TZID=America/New_York:20290923T121500
DTSTAMP:20260424T011747
CREATED:20250923T171614Z
LAST-MODIFIED:20250923T171615Z
UID:10129117-1884855600-1884860100@waverlychurch.org
SUMMARY:Worship Service
DESCRIPTION:We meet on Sundays in our Sanctuary at 11am during the school year and stream services online. \nSunday’s worship service will be live-streamed over our Facebook page on Sunday mornings. \n \nhttps://www.facebook.com/pg/WaverlyChurch/videos/
URL:https://waverlychurch.org/event/worship-service-5-2-2/2029-09-23/
END:VEVENT
BEGIN:VEVENT
DTSTART;TZID=America/New_York:20290923T121500
DTEND;TZID=America/New_York:20290923T133000
DTSTAMP:20260424T011747
CREATED:20260305T165302Z
LAST-MODIFIED:20260423T181455Z
UID:10009002-1884860100-1884864600@waverlychurch.org
SUMMARY:Coffee Hour
DESCRIPTION:Join us after service weekly for a chance to share fellowship over coffee and snacks
URL:https://waverlychurch.org/event/coffee-hour-3-2-2-2-2-2/2029-09-23/
LOCATION:Lounge
END:VEVENT
BEGIN:VEVENT
DTSTART;TZID=America/New_York:20290924T090000
DTEND;TZID=America/New_York:20290924T200000
DTSTAMP:20260424T011747
CREATED:20251030T152456Z
LAST-MODIFIED:20251030T152456Z
UID:10132130-1884934800-1884974400@waverlychurch.org
SUMMARY:Guitar Lessons
DESCRIPTION:ian@cainsmusiclessons.com
URL:https://waverlychurch.org/event/guitar-lessons/2029-09-24/
LOCATION:Frog Room
END:VEVENT
BEGIN:VEVENT
DTSTART;TZID=America/New_York:20290926T090000
DTEND;TZID=America/New_York:20290926T200000
DTSTAMP:20260424T011747
CREATED:20251030T152456Z
LAST-MODIFIED:20251030T152456Z
UID:10132131-1885107600-1885147200@waverlychurch.org
SUMMARY:Guitar Lessons
DESCRIPTION:ian@cainsmusiclessons.com
URL:https://waverlychurch.org/event/guitar-lessons/2029-09-26/
LOCATION:Frog Room
END:VEVENT
BEGIN:VEVENT
DTSTART;TZID=America/New_York:20290927T103000
DTEND;TZID=America/New_York:20290927T140000
DTSTAMP:20260424T011747
CREATED:20260324T153601Z
LAST-MODIFIED:20260324T153603Z
UID:10133108-1885199400-1885212000@waverlychurch.org
SUMMARY:Reiki with Bob Dove and Ross Marshall
DESCRIPTION:
URL:https://waverlychurch.org/event/reiki-with-bob-dove-and-ross-marshall-2-2/2029-09-27/
LOCATION:Social Hall
END:VEVENT
BEGIN:VEVENT
DTSTART;TZID=America/New_York:20290927T190000
DTEND;TZID=America/New_York:20290927T203000
DTSTAMP:20260424T011747
CREATED:20251125T183555Z
LAST-MODIFIED:20251125T183747Z
UID:10132533-1885230000-1885235400@waverlychurch.org
SUMMARY:Choir Rehearsal in Lounge
DESCRIPTION:
URL:https://waverlychurch.org/event/choir-rehearsal-in-lounge/2029-09-27/
LOCATION:Lounge
END:VEVENT
BEGIN:VEVENT
DTSTART;TZID=America/New_York:20290930T093000
DTEND;TZID=America/New_York:20290930T100000
DTSTAMP:20260424T011747
CREATED:20251125T184126Z
LAST-MODIFIED:20251125T184126Z
UID:10132794-1885455000-1885456800@waverlychurch.org
SUMMARY:Choir Rehearsal in Sanctuary
DESCRIPTION:
URL:https://waverlychurch.org/event/choir-rehearsal-in-sanctuary/2029-09-30/
END:VEVENT
BEGIN:VEVENT
DTSTART;TZID=America/New_York:20290930T100000
DTEND;TZID=America/New_York:20290930T105500
DTSTAMP:20260424T011747
CREATED:20260305T170350Z
LAST-MODIFIED:20260305T170351Z
UID:10008728-1885456800-1885460100@waverlychurch.org
SUMMARY:Sunday School
DESCRIPTION:All ages are welcome to join us each week for Sunday School in the following locations: \nChildren up through 1st grade: nursery (downstairs\, right side of front entrance – ring bell to enter) \nChildren and Youth 2nd grade through 12th grade in the “Wonka Room” – room off of our lower floor Social Hall. \nAdults: lounge (upstairs in back of church)
URL:https://waverlychurch.org/event/sunday-school-3-2-2-2-2-2-2-2/2029-09-30/
END:VEVENT
BEGIN:VEVENT
DTSTART;TZID=America/New_York:20290930T110000
DTEND;TZID=America/New_York:20290930T121500
DTSTAMP:20260424T011747
CREATED:20250923T171614Z
LAST-MODIFIED:20250923T171615Z
UID:10129118-1885460400-1885464900@waverlychurch.org
SUMMARY:Worship Service
DESCRIPTION:We meet on Sundays in our Sanctuary at 11am during the school year and stream services online. \nSunday’s worship service will be live-streamed over our Facebook page on Sunday mornings. \n \nhttps://www.facebook.com/pg/WaverlyChurch/videos/
URL:https://waverlychurch.org/event/worship-service-5-2-2/2029-09-30/
END:VEVENT
BEGIN:VEVENT
DTSTART;TZID=America/New_York:20290930T121500
DTEND;TZID=America/New_York:20290930T133000
DTSTAMP:20260424T011747
CREATED:20260305T165302Z
LAST-MODIFIED:20260423T181455Z
UID:10009003-1885464900-1885469400@waverlychurch.org
SUMMARY:Coffee Hour
DESCRIPTION:Join us after service weekly for a chance to share fellowship over coffee and snacks
URL:https://waverlychurch.org/event/coffee-hour-3-2-2-2-2-2/2029-09-30/
LOCATION:Lounge
END:VEVENT
BEGIN:VEVENT
DTSTART;TZID=America/New_York:20291001T090000
DTEND;TZID=America/New_York:20291001T200000
DTSTAMP:20260424T011747
CREATED:20251030T152456Z
LAST-MODIFIED:20251030T152456Z
UID:10132132-1885539600-1885579200@waverlychurch.org
SUMMARY:Guitar Lessons
DESCRIPTION:ian@cainsmusiclessons.com
URL:https://waverlychurch.org/event/guitar-lessons/2029-10-01/
LOCATION:Frog Room
END:VEVENT
BEGIN:VEVENT
DTSTART;TZID=America/New_York:20291003T090000
DTEND;TZID=America/New_York:20291003T200000
DTSTAMP:20260424T011747
CREATED:20251030T152456Z
LAST-MODIFIED:20251030T152456Z
UID:10132133-1885712400-1885752000@waverlychurch.org
SUMMARY:Guitar Lessons
DESCRIPTION:ian@cainsmusiclessons.com
URL:https://waverlychurch.org/event/guitar-lessons/2029-10-03/
LOCATION:Frog Room
END:VEVENT
BEGIN:VEVENT
DTSTART;TZID=America/New_York:20291004T190000
DTEND;TZID=America/New_York:20291004T203000
DTSTAMP:20260424T011747
CREATED:20251125T183555Z
LAST-MODIFIED:20251125T183747Z
UID:10132534-1885834800-1885840200@waverlychurch.org
SUMMARY:Choir Rehearsal in Lounge
DESCRIPTION:
URL:https://waverlychurch.org/event/choir-rehearsal-in-lounge/2029-10-04/
LOCATION:Lounge
END:VEVENT
BEGIN:VEVENT
DTSTART;TZID=America/New_York:20291006T110000
DTEND;TZID=America/New_York:20291006T143000
DTSTAMP:20260424T011747
CREATED:20251125T184526Z
LAST-MODIFIED:20251125T184526Z
UID:10132901-1885978800-1885991400@waverlychurch.org
SUMMARY:East End N.A. Business Meeting/Social Hall
DESCRIPTION:
URL:https://waverlychurch.org/event/east-end-n-a-business-meeting-social-hall/2029-10-06/
END:VEVENT
BEGIN:VEVENT
DTSTART;TZID=America/New_York:20291007T093000
DTEND;TZID=America/New_York:20291007T100000
DTSTAMP:20260424T011747
CREATED:20251125T184126Z
LAST-MODIFIED:20251125T184126Z
UID:10132795-1886059800-1886061600@waverlychurch.org
SUMMARY:Choir Rehearsal in Sanctuary
DESCRIPTION:
URL:https://waverlychurch.org/event/choir-rehearsal-in-sanctuary/2029-10-07/
END:VEVENT
BEGIN:VEVENT
DTSTART;TZID=America/New_York:20291007T100000
DTEND;TZID=America/New_York:20291007T105500
DTSTAMP:20260424T011747
CREATED:20260305T170350Z
LAST-MODIFIED:20260305T170351Z
UID:10008729-1886061600-1886064900@waverlychurch.org
SUMMARY:Sunday School
DESCRIPTION:All ages are welcome to join us each week for Sunday School in the following locations: \nChildren up through 1st grade: nursery (downstairs\, right side of front entrance – ring bell to enter) \nChildren and Youth 2nd grade through 12th grade in the “Wonka Room” – room off of our lower floor Social Hall. \nAdults: lounge (upstairs in back of church)
URL:https://waverlychurch.org/event/sunday-school-3-2-2-2-2-2-2-2/2029-10-07/
END:VEVENT
END:VCALENDAR