BEGIN:VCALENDAR
VERSION:2.0
PRODID:-//Waverly Presbyterian Church - ECPv6.15.20//NONSGML v1.0//EN
CALSCALE:GREGORIAN
METHOD:PUBLISH
X-ORIGINAL-URL:https://waverlychurch.org
X-WR-CALDESC:Events for Waverly Presbyterian Church
REFRESH-INTERVAL;VALUE=DURATION:PT1H
X-Robots-Tag:noindex
X-PUBLISHED-TTL:PT1H
BEGIN:VTIMEZONE
TZID:UTC
BEGIN:STANDARD
TZOFFSETFROM:+0000
TZOFFSETTO:+0000
TZNAME:UTC
DTSTART:20260101T000000
END:STANDARD
END:VTIMEZONE
BEGIN:VTIMEZONE
TZID:America/New_York
BEGIN:DAYLIGHT
TZOFFSETFROM:-0500
TZOFFSETTO:-0400
TZNAME:EDT
DTSTART:20260308T070000
END:DAYLIGHT
BEGIN:STANDARD
TZOFFSETFROM:-0400
TZOFFSETTO:-0500
TZNAME:EST
DTSTART:20261101T060000
END:STANDARD
BEGIN:DAYLIGHT
TZOFFSETFROM:-0500
TZOFFSETTO:-0400
TZNAME:EDT
DTSTART:20270314T070000
END:DAYLIGHT
BEGIN:STANDARD
TZOFFSETFROM:-0400
TZOFFSETTO:-0500
TZNAME:EST
DTSTART:20271107T060000
END:STANDARD
BEGIN:DAYLIGHT
TZOFFSETFROM:-0500
TZOFFSETTO:-0400
TZNAME:EDT
DTSTART:20280312T070000
END:DAYLIGHT
BEGIN:STANDARD
TZOFFSETFROM:-0400
TZOFFSETTO:-0500
TZNAME:EST
DTSTART:20281105T060000
END:STANDARD
END:VTIMEZONE
BEGIN:VEVENT
DTSTART;TZID=UTC:20270330T193000
DTEND;TZID=UTC:20270330T203000
DTSTAMP:20260421T013316
CREATED:20190310T185001Z
LAST-MODIFIED:20220331T225559Z
UID:10002610-1806435000-1806438600@waverlychurch.org
SUMMARY:Al-Anon
DESCRIPTION:The Frick Park Al-Anon is holding in-person meetings in the Social Hall. \nContact frickparkafg85[at]gmail.com with any questions.
URL:https://waverlychurch.org/event/al-anon-2020-03-24-2021-07-06-2021-07-13/2027-03-30/
END:VEVENT
BEGIN:VEVENT
DTSTART;TZID=America/New_York:20270331T090000
DTEND;TZID=America/New_York:20270331T200000
DTSTAMP:20260421T013316
CREATED:20251030T152456Z
LAST-MODIFIED:20251030T152456Z
UID:10131871-1806483600-1806523200@waverlychurch.org
SUMMARY:Guitar Lessons
DESCRIPTION:ian@cainsmusiclessons.com
URL:https://waverlychurch.org/event/guitar-lessons/2027-03-31/
LOCATION:Frog Room
END:VEVENT
BEGIN:VEVENT
DTSTART;TZID=America/New_York:20270401T190000
DTEND;TZID=America/New_York:20270401T203000
DTSTAMP:20260421T013316
CREATED:20251125T183555Z
LAST-MODIFIED:20251125T183747Z
UID:10132403-1806606000-1806611400@waverlychurch.org
SUMMARY:Choir Rehearsal in Lounge
DESCRIPTION:
URL:https://waverlychurch.org/event/choir-rehearsal-in-lounge/2027-04-01/
LOCATION:Lounge
END:VEVENT
BEGIN:VEVENT
DTSTART;TZID=America/New_York:20270403T110000
DTEND;TZID=America/New_York:20270403T143000
DTSTAMP:20260421T013316
CREATED:20251125T184526Z
LAST-MODIFIED:20251125T184526Z
UID:10132871-1806750000-1806762600@waverlychurch.org
SUMMARY:East End N.A. Business Meeting/Social Hall
DESCRIPTION:
URL:https://waverlychurch.org/event/east-end-n-a-business-meeting-social-hall/2027-04-03/
END:VEVENT
BEGIN:VEVENT
DTSTART;TZID=America/New_York:20270404T093000
DTEND;TZID=America/New_York:20270404T100000
DTSTAMP:20260421T013316
CREATED:20251125T184126Z
LAST-MODIFIED:20251125T184126Z
UID:10132664-1806831000-1806832800@waverlychurch.org
SUMMARY:Choir Rehearsal in Sanctuary
DESCRIPTION:
URL:https://waverlychurch.org/event/choir-rehearsal-in-sanctuary/2027-04-04/
END:VEVENT
BEGIN:VEVENT
DTSTART;TZID=America/New_York:20270404T100000
DTEND;TZID=America/New_York:20270404T105500
DTSTAMP:20260421T013316
CREATED:20260305T170350Z
LAST-MODIFIED:20260305T170351Z
UID:10007227-1806832800-1806836100@waverlychurch.org
SUMMARY:Sunday School
DESCRIPTION:All ages are welcome to join us each week for Sunday School in the following locations: \nChildren up through 1st grade: nursery (downstairs\, right side of front entrance – ring bell to enter) \nChildren and Youth 2nd grade through 12th grade in the “Wonka Room” – room off of our lower floor Social Hall. \nAdults: lounge (upstairs in back of church)
URL:https://waverlychurch.org/event/sunday-school-3-2-2-2-2-2-2-2/2027-04-04/
END:VEVENT
BEGIN:VEVENT
DTSTART;TZID=America/New_York:20270404T110000
DTEND;TZID=America/New_York:20270404T121500
DTSTAMP:20260421T013316
CREATED:20250923T171614Z
LAST-MODIFIED:20250923T171615Z
UID:10007795-1806836400-1806840900@waverlychurch.org
SUMMARY:Worship Service
DESCRIPTION:We meet on Sundays in our Sanctuary at 11am during the school year and stream services online. \nSunday’s worship service will be live-streamed over our Facebook page on Sunday mornings. \n \nhttps://www.facebook.com/pg/WaverlyChurch/videos/
URL:https://waverlychurch.org/event/worship-service-5-2-2/2027-04-04/
END:VEVENT
BEGIN:VEVENT
DTSTART;TZID=America/New_York:20270404T121500
DTEND;TZID=America/New_York:20270404T133000
DTSTAMP:20260421T013316
CREATED:20260305T165302Z
LAST-MODIFIED:20260305T170242Z
UID:10006711-1806840900-1806845400@waverlychurch.org
SUMMARY:Coffee Hour
DESCRIPTION:Join us after service weekly for a chance to share fellowship over coffee and snacks
URL:https://waverlychurch.org/event/coffee-hour-3-2-2-2-2-2/2027-04-04/
LOCATION:Lounge
END:VEVENT
BEGIN:VEVENT
DTSTART;TZID=America/New_York:20270404T193000
DTEND;TZID=America/New_York:20270404T210000
DTSTAMP:20260421T013316
CREATED:20190310T184702Z
LAST-MODIFIED:20220704T145322Z
UID:10000733-1806867000-1806872400@waverlychurch.org
SUMMARY:Alcoholics Anonymous
DESCRIPTION:The Frick Park Group of Alcoholics Anonymous is holding in-person meetings in the Social Hall. \nAdditional links for AA groups are posted online at the AA Central Office.\nhttps://www.pghaa.org/
URL:https://waverlychurch.org/event/aa-2020-03-22-2021-07-04/2027-04-04/
LOCATION:Social Hall
END:VEVENT
BEGIN:VEVENT
DTSTART;TZID=America/New_York:20270405T090000
DTEND;TZID=America/New_York:20270405T200000
DTSTAMP:20260421T013316
CREATED:20251030T152456Z
LAST-MODIFIED:20251030T152456Z
UID:10131872-1806915600-1806955200@waverlychurch.org
SUMMARY:Guitar Lessons
DESCRIPTION:ian@cainsmusiclessons.com
URL:https://waverlychurch.org/event/guitar-lessons/2027-04-05/
LOCATION:Frog Room
END:VEVENT
BEGIN:VEVENT
DTSTART;TZID=America/New_York:20270406T190000
DTEND;TZID=America/New_York:20270406T193000
DTSTAMP:20260421T013316
CREATED:20210711T201005Z
LAST-MODIFIED:20220704T150145Z
UID:10000382-1807038000-1807039800@waverlychurch.org
SUMMARY:Al-Anon [Beginners' Meeting]
DESCRIPTION:The Frick Park Al-Anon group may still be virtual. \nContact frickparkafg85[at]gmail.com with any questions.
URL:https://waverlychurch.org/event/al-anon-beginners-meeting-2022-01-04-2022-04-05/2027-04-06/
LOCATION:Social Hall
END:VEVENT
BEGIN:VEVENT
DTSTART;TZID=UTC:20270406T193000
DTEND;TZID=UTC:20270406T203000
DTSTAMP:20260421T013316
CREATED:20190310T185001Z
LAST-MODIFIED:20220331T225559Z
UID:10002611-1807039800-1807043400@waverlychurch.org
SUMMARY:Al-Anon
DESCRIPTION:The Frick Park Al-Anon is holding in-person meetings in the Social Hall. \nContact frickparkafg85[at]gmail.com with any questions.
URL:https://waverlychurch.org/event/al-anon-2020-03-24-2021-07-06-2021-07-13/2027-04-06/
END:VEVENT
BEGIN:VEVENT
DTSTART;TZID=America/New_York:20270407T090000
DTEND;TZID=America/New_York:20270407T200000
DTSTAMP:20260421T013316
CREATED:20251030T152456Z
LAST-MODIFIED:20251030T152456Z
UID:10131873-1807088400-1807128000@waverlychurch.org
SUMMARY:Guitar Lessons
DESCRIPTION:ian@cainsmusiclessons.com
URL:https://waverlychurch.org/event/guitar-lessons/2027-04-07/
LOCATION:Frog Room
END:VEVENT
BEGIN:VEVENT
DTSTART;TZID=America/New_York:20270408T190000
DTEND;TZID=America/New_York:20270408T203000
DTSTAMP:20260421T013316
CREATED:20251125T183555Z
LAST-MODIFIED:20251125T183747Z
UID:10132404-1807210800-1807216200@waverlychurch.org
SUMMARY:Choir Rehearsal in Lounge
DESCRIPTION:
URL:https://waverlychurch.org/event/choir-rehearsal-in-lounge/2027-04-08/
LOCATION:Lounge
END:VEVENT
BEGIN:VEVENT
DTSTART;TZID=America/New_York:20270411T093000
DTEND;TZID=America/New_York:20270411T100000
DTSTAMP:20260421T013316
CREATED:20251125T184126Z
LAST-MODIFIED:20251125T184126Z
UID:10132665-1807435800-1807437600@waverlychurch.org
SUMMARY:Choir Rehearsal in Sanctuary
DESCRIPTION:
URL:https://waverlychurch.org/event/choir-rehearsal-in-sanctuary/2027-04-11/
END:VEVENT
BEGIN:VEVENT
DTSTART;TZID=America/New_York:20270411T100000
DTEND;TZID=America/New_York:20270411T105500
DTSTAMP:20260421T013316
CREATED:20260305T170350Z
LAST-MODIFIED:20260305T170351Z
UID:10007228-1807437600-1807440900@waverlychurch.org
SUMMARY:Sunday School
DESCRIPTION:All ages are welcome to join us each week for Sunday School in the following locations: \nChildren up through 1st grade: nursery (downstairs\, right side of front entrance – ring bell to enter) \nChildren and Youth 2nd grade through 12th grade in the “Wonka Room” – room off of our lower floor Social Hall. \nAdults: lounge (upstairs in back of church)
URL:https://waverlychurch.org/event/sunday-school-3-2-2-2-2-2-2-2/2027-04-11/
END:VEVENT
BEGIN:VEVENT
DTSTART;TZID=America/New_York:20270411T110000
DTEND;TZID=America/New_York:20270411T121500
DTSTAMP:20260421T013317
CREATED:20250923T171614Z
LAST-MODIFIED:20250923T171615Z
UID:10007796-1807441200-1807445700@waverlychurch.org
SUMMARY:Worship Service
DESCRIPTION:We meet on Sundays in our Sanctuary at 11am during the school year and stream services online. \nSunday’s worship service will be live-streamed over our Facebook page on Sunday mornings. \n \nhttps://www.facebook.com/pg/WaverlyChurch/videos/
URL:https://waverlychurch.org/event/worship-service-5-2-2/2027-04-11/
END:VEVENT
BEGIN:VEVENT
DTSTART;TZID=America/New_York:20270411T121500
DTEND;TZID=America/New_York:20270411T133000
DTSTAMP:20260421T013317
CREATED:20260305T165302Z
LAST-MODIFIED:20260305T170242Z
UID:10006712-1807445700-1807450200@waverlychurch.org
SUMMARY:Coffee Hour
DESCRIPTION:Join us after service weekly for a chance to share fellowship over coffee and snacks
URL:https://waverlychurch.org/event/coffee-hour-3-2-2-2-2-2/2027-04-11/
LOCATION:Lounge
END:VEVENT
BEGIN:VEVENT
DTSTART;TZID=America/New_York:20270411T193000
DTEND;TZID=America/New_York:20270411T210000
DTSTAMP:20260421T013317
CREATED:20190310T184702Z
LAST-MODIFIED:20220704T145322Z
UID:10000734-1807471800-1807477200@waverlychurch.org
SUMMARY:Alcoholics Anonymous
DESCRIPTION:The Frick Park Group of Alcoholics Anonymous is holding in-person meetings in the Social Hall. \nAdditional links for AA groups are posted online at the AA Central Office.\nhttps://www.pghaa.org/
URL:https://waverlychurch.org/event/aa-2020-03-22-2021-07-04/2027-04-11/
LOCATION:Social Hall
END:VEVENT
BEGIN:VEVENT
DTSTART;TZID=America/New_York:20270412T090000
DTEND;TZID=America/New_York:20270412T200000
DTSTAMP:20260421T013317
CREATED:20251030T152456Z
LAST-MODIFIED:20251030T152456Z
UID:10131874-1807520400-1807560000@waverlychurch.org
SUMMARY:Guitar Lessons
DESCRIPTION:ian@cainsmusiclessons.com
URL:https://waverlychurch.org/event/guitar-lessons/2027-04-12/
LOCATION:Frog Room
END:VEVENT
BEGIN:VEVENT
DTSTART;TZID=America/New_York:20270412T190000
DTEND;TZID=America/New_York:20270412T203000
DTSTAMP:20260421T013317
CREATED:20251125T185647Z
LAST-MODIFIED:20251125T185647Z
UID:10132931-1807556400-1807561800@waverlychurch.org
SUMMARY:Amnesty Meeting-Social Hall
DESCRIPTION:
URL:https://waverlychurch.org/event/amnesty-meeting-social-hall/2027-04-12/
END:VEVENT
BEGIN:VEVENT
DTSTART;TZID=America/New_York:20270413T190000
DTEND;TZID=America/New_York:20270413T193000
DTSTAMP:20260421T013317
CREATED:20210711T201005Z
LAST-MODIFIED:20220704T150145Z
UID:10000383-1807642800-1807644600@waverlychurch.org
SUMMARY:Al-Anon [Beginners' Meeting]
DESCRIPTION:The Frick Park Al-Anon group may still be virtual. \nContact frickparkafg85[at]gmail.com with any questions.
URL:https://waverlychurch.org/event/al-anon-beginners-meeting-2022-01-04-2022-04-05/2027-04-13/
LOCATION:Social Hall
END:VEVENT
BEGIN:VEVENT
DTSTART;TZID=UTC:20270413T193000
DTEND;TZID=UTC:20270413T203000
DTSTAMP:20260421T013317
CREATED:20190310T185001Z
LAST-MODIFIED:20220331T225559Z
UID:10002612-1807644600-1807648200@waverlychurch.org
SUMMARY:Al-Anon
DESCRIPTION:The Frick Park Al-Anon is holding in-person meetings in the Social Hall. \nContact frickparkafg85[at]gmail.com with any questions.
URL:https://waverlychurch.org/event/al-anon-2020-03-24-2021-07-06-2021-07-13/2027-04-13/
END:VEVENT
BEGIN:VEVENT
DTSTART;TZID=America/New_York:20270414T090000
DTEND;TZID=America/New_York:20270414T200000
DTSTAMP:20260421T013317
CREATED:20251030T152456Z
LAST-MODIFIED:20251030T152456Z
UID:10131875-1807693200-1807732800@waverlychurch.org
SUMMARY:Guitar Lessons
DESCRIPTION:ian@cainsmusiclessons.com
URL:https://waverlychurch.org/event/guitar-lessons/2027-04-14/
LOCATION:Frog Room
END:VEVENT
BEGIN:VEVENT
DTSTART;TZID=America/New_York:20270415T190000
DTEND;TZID=America/New_York:20270415T203000
DTSTAMP:20260421T013317
CREATED:20251125T183555Z
LAST-MODIFIED:20251125T183747Z
UID:10132405-1807815600-1807821000@waverlychurch.org
SUMMARY:Choir Rehearsal in Lounge
DESCRIPTION:
URL:https://waverlychurch.org/event/choir-rehearsal-in-lounge/2027-04-15/
LOCATION:Lounge
END:VEVENT
BEGIN:VEVENT
DTSTART;TZID=America/New_York:20270418T093000
DTEND;TZID=America/New_York:20270418T100000
DTSTAMP:20260421T013317
CREATED:20251125T184126Z
LAST-MODIFIED:20251125T184126Z
UID:10132666-1808040600-1808042400@waverlychurch.org
SUMMARY:Choir Rehearsal in Sanctuary
DESCRIPTION:
URL:https://waverlychurch.org/event/choir-rehearsal-in-sanctuary/2027-04-18/
END:VEVENT
BEGIN:VEVENT
DTSTART;TZID=America/New_York:20270418T100000
DTEND;TZID=America/New_York:20270418T105500
DTSTAMP:20260421T013317
CREATED:20260305T170350Z
LAST-MODIFIED:20260305T170351Z
UID:10007229-1808042400-1808045700@waverlychurch.org
SUMMARY:Sunday School
DESCRIPTION:All ages are welcome to join us each week for Sunday School in the following locations: \nChildren up through 1st grade: nursery (downstairs\, right side of front entrance – ring bell to enter) \nChildren and Youth 2nd grade through 12th grade in the “Wonka Room” – room off of our lower floor Social Hall. \nAdults: lounge (upstairs in back of church)
URL:https://waverlychurch.org/event/sunday-school-3-2-2-2-2-2-2-2/2027-04-18/
END:VEVENT
BEGIN:VEVENT
DTSTART;TZID=America/New_York:20270418T110000
DTEND;TZID=America/New_York:20270418T121500
DTSTAMP:20260421T013317
CREATED:20250923T171614Z
LAST-MODIFIED:20250923T171615Z
UID:10007797-1808046000-1808050500@waverlychurch.org
SUMMARY:Worship Service
DESCRIPTION:We meet on Sundays in our Sanctuary at 11am during the school year and stream services online. \nSunday’s worship service will be live-streamed over our Facebook page on Sunday mornings. \n \nhttps://www.facebook.com/pg/WaverlyChurch/videos/
URL:https://waverlychurch.org/event/worship-service-5-2-2/2027-04-18/
END:VEVENT
BEGIN:VEVENT
DTSTART;TZID=America/New_York:20270418T121500
DTEND;TZID=America/New_York:20270418T133000
DTSTAMP:20260421T013317
CREATED:20260305T165302Z
LAST-MODIFIED:20260305T170242Z
UID:10006713-1808050500-1808055000@waverlychurch.org
SUMMARY:Coffee Hour
DESCRIPTION:Join us after service weekly for a chance to share fellowship over coffee and snacks
URL:https://waverlychurch.org/event/coffee-hour-3-2-2-2-2-2/2027-04-18/
LOCATION:Lounge
END:VEVENT
BEGIN:VEVENT
DTSTART;TZID=America/New_York:20270418T193000
DTEND;TZID=America/New_York:20270418T210000
DTSTAMP:20260421T013317
CREATED:20190310T184702Z
LAST-MODIFIED:20220704T145322Z
UID:10000735-1808076600-1808082000@waverlychurch.org
SUMMARY:Alcoholics Anonymous
DESCRIPTION:The Frick Park Group of Alcoholics Anonymous is holding in-person meetings in the Social Hall. \nAdditional links for AA groups are posted online at the AA Central Office.\nhttps://www.pghaa.org/
URL:https://waverlychurch.org/event/aa-2020-03-22-2021-07-04/2027-04-18/
LOCATION:Social Hall
END:VEVENT
END:VCALENDAR