BEGIN:VCALENDAR
VERSION:2.0
PRODID:-//Waverly Presbyterian Church - ECPv6.15.20//NONSGML v1.0//EN
CALSCALE:GREGORIAN
METHOD:PUBLISH
X-WR-CALNAME:Waverly Presbyterian Church
X-ORIGINAL-URL:https://waverlychurch.org
X-WR-CALDESC:Events for Waverly Presbyterian Church
REFRESH-INTERVAL;VALUE=DURATION:PT1H
X-Robots-Tag:noindex
X-PUBLISHED-TTL:PT1H
BEGIN:VTIMEZONE
TZID:America/New_York
BEGIN:DAYLIGHT
TZOFFSETFROM:-0500
TZOFFSETTO:-0400
TZNAME:EDT
DTSTART:20220313T070000
END:DAYLIGHT
BEGIN:STANDARD
TZOFFSETFROM:-0400
TZOFFSETTO:-0500
TZNAME:EST
DTSTART:20221106T060000
END:STANDARD
BEGIN:DAYLIGHT
TZOFFSETFROM:-0500
TZOFFSETTO:-0400
TZNAME:EDT
DTSTART:20230312T070000
END:DAYLIGHT
BEGIN:STANDARD
TZOFFSETFROM:-0400
TZOFFSETTO:-0500
TZNAME:EST
DTSTART:20231105T060000
END:STANDARD
BEGIN:DAYLIGHT
TZOFFSETFROM:-0500
TZOFFSETTO:-0400
TZNAME:EDT
DTSTART:20240310T070000
END:DAYLIGHT
BEGIN:STANDARD
TZOFFSETFROM:-0400
TZOFFSETTO:-0500
TZNAME:EST
DTSTART:20241103T060000
END:STANDARD
END:VTIMEZONE
BEGIN:VTIMEZONE
TZID:UTC
BEGIN:STANDARD
TZOFFSETFROM:+0000
TZOFFSETTO:+0000
TZNAME:UTC
DTSTART:20220101T000000
END:STANDARD
END:VTIMEZONE
BEGIN:VEVENT
DTSTART;TZID=America/New_York:20230402T110000
DTEND;TZID=America/New_York:20230402T120000
DTSTAMP:20260423T154420
CREATED:20230109T224512Z
LAST-MODIFIED:20230109T224513Z
UID:10005361-1680433200-1680436800@waverlychurch.org
SUMMARY:Palm Sunday Unity Service at Pittsburgh Theological Seminary (No worship at Waverly)
DESCRIPTION:Palm Sunday Unity Service at Pittsburgh Theological Seminary (No worship at Waverly)
URL:https://waverlychurch.org/event/palm-sunday-unity-service-at-pittsburgh-theological-seminary-no-worship-at-waverly/
LOCATION:Pittsburgh Theological Seminary\, 616 N Highland Ave\, Pittsburgh\, PA\, 15206
END:VEVENT
BEGIN:VEVENT
DTSTART;TZID=America/New_York:20230402T193000
DTEND;TZID=America/New_York:20230402T210000
DTSTAMP:20260423T154420
CREATED:20190310T184702Z
LAST-MODIFIED:20220704T145322Z
UID:10000524-1680463800-1680469200@waverlychurch.org
SUMMARY:Alcoholics Anonymous
DESCRIPTION:The Frick Park Group of Alcoholics Anonymous is holding in-person meetings in the Social Hall. \nAdditional links for AA groups are posted online at the AA Central Office.\nhttps://www.pghaa.org/
URL:https://waverlychurch.org/event/aa-2020-03-22-2021-07-04/2023-04-02/
LOCATION:Social Hall
END:VEVENT
BEGIN:VEVENT
DTSTART;TZID=America/New_York:20230403T190000
DTEND;TZID=America/New_York:20230403T200000
DTSTAMP:20260423T154420
CREATED:20230109T224328Z
LAST-MODIFIED:20230109T224328Z
UID:10005359-1680548400-1680552000@waverlychurch.org
SUMMARY:Free for Good
DESCRIPTION:Free for Good is a recovery-style group for anyone looking to live freely in faith. Mondays Feb 27 – April 3\, 7pm in the lounge
URL:https://waverlychurch.org/event/free-for-good/2023-04-03/
LOCATION:Lounge
END:VEVENT
BEGIN:VEVENT
DTSTART;TZID=America/New_York:20230404T190000
DTEND;TZID=America/New_York:20230404T193000
DTSTAMP:20260423T154420
CREATED:20210711T201005Z
LAST-MODIFIED:20220704T150145Z
UID:10000173-1680634800-1680636600@waverlychurch.org
SUMMARY:Al-Anon [Beginners' Meeting]
DESCRIPTION:The Frick Park Al-Anon group may still be virtual. \nContact frickparkafg85[at]gmail.com with any questions.
URL:https://waverlychurch.org/event/al-anon-beginners-meeting-2022-01-04-2022-04-05/2023-04-04/
LOCATION:Social Hall
END:VEVENT
BEGIN:VEVENT
DTSTART;TZID=UTC:20230404T193000
DTEND;TZID=UTC:20230404T203000
DTSTAMP:20260423T154420
CREATED:20190310T185001Z
LAST-MODIFIED:20220331T225559Z
UID:10002402-1680636600-1680640200@waverlychurch.org
SUMMARY:Al-Anon
DESCRIPTION:The Frick Park Al-Anon is holding in-person meetings in the Social Hall. \nContact frickparkafg85[at]gmail.com with any questions.
URL:https://waverlychurch.org/event/al-anon-2020-03-24-2021-07-06-2021-07-13/2023-04-04/
END:VEVENT
BEGIN:VEVENT
DTSTART;TZID=America/New_York:20230406T180000
DTEND;TZID=America/New_York:20230406T193000
DTSTAMP:20260423T154420
CREATED:20230404T234321Z
LAST-MODIFIED:20230405T173038Z
UID:10005569-1680804000-1680809400@waverlychurch.org
SUMMARY:Maundy Thursday Service
DESCRIPTION:Potluck and prayer service with communion and optional foot washing in the lounge
URL:https://waverlychurch.org/event/maundy-thursday-service/
END:VEVENT
BEGIN:VEVENT
DTSTART;TZID=America/New_York:20230407T114500
DTEND;TZID=America/New_York:20230407T130000
DTSTAMP:20260423T154420
CREATED:20230404T234119Z
LAST-MODIFIED:20230404T234154Z
UID:10005568-1680867900-1680872400@waverlychurch.org
SUMMARY:Stations of the Cross Walk
DESCRIPTION:Meeting at Wilkinsburg Community Ministry and walking throughout Wilkinsburg\, ending at Waverly Church
URL:https://waverlychurch.org/event/stations-of-the-cross-walk/
END:VEVENT
BEGIN:VEVENT
DTSTART;TZID=America/New_York:20230407T190000
DTEND;TZID=America/New_York:20230407T200000
DTSTAMP:20260423T154420
CREATED:20230404T233959Z
LAST-MODIFIED:20230404T233959Z
UID:10005567-1680894000-1680897600@waverlychurch.org
SUMMARY:Good Friday Tenebrae Service
DESCRIPTION:In the sanctuary
URL:https://waverlychurch.org/event/good-friday-tenebrae-service/
END:VEVENT
BEGIN:VEVENT
DTSTART;TZID=UTC:20230408T090000
DTEND;TZID=UTC:20230408T102000
DTSTAMP:20260423T154420
CREATED:20190310T191142Z
LAST-MODIFIED:20230830T175415Z
UID:10001295-1680944400-1680949200@waverlychurch.org
SUMMARY:Narcotics Anonymous
DESCRIPTION:Narcotics Anonymous is holding in-person meetings in the Social Hall.
URL:https://waverlychurch.org/event/na-2020-03-21-2021-07-10/2023-04-08/
END:VEVENT
BEGIN:VEVENT
DTSTART;TZID=America/New_York:20230409T110000
DTEND;TZID=America/New_York:20230409T120000
DTSTAMP:20260423T154420
CREATED:20210715T194724Z
LAST-MODIFIED:20230529T213105Z
UID:10000869-1681038000-1681041600@waverlychurch.org
SUMMARY:Worship Service
DESCRIPTION:We meet on Sundays in our Sanctuary at 11am and stream services online. \nSunday’s worship service will be live-streamed over our Facebook page on Sunday morning and the scripture and sermon will be on SoundCloud. \nhttps://waverlychurch.org/worship/guidelines-for-in-person-worship/ \nhttps://www.facebook.com/pg/WaverlyChurch/videos/ \n  \n 
URL:https://waverlychurch.org/event/worship-service-3-2022-06-05-2022-08-07-2022-09-11/2023-04-09/
LOCATION:Sanctuary
END:VEVENT
BEGIN:VEVENT
DTSTART;TZID=America/New_York:20230409T120000
DTEND;TZID=America/New_York:20230409T123000
DTSTAMP:20260423T154420
CREATED:20220623T210815Z
LAST-MODIFIED:20220623T210831Z
UID:10005075-1681041600-1681043400@waverlychurch.org
SUMMARY:Coffee Hour
DESCRIPTION:Immediately following the service\, we hope you can stay to enjoy fellowship with the Waverly community.
URL:https://waverlychurch.org/event/coffee-hour-2/2023-04-09/
LOCATION:Social Hall
END:VEVENT
BEGIN:VEVENT
DTSTART;TZID=America/New_York:20230409T193000
DTEND;TZID=America/New_York:20230409T210000
DTSTAMP:20260423T154420
CREATED:20190310T184702Z
LAST-MODIFIED:20220704T145322Z
UID:10000525-1681068600-1681074000@waverlychurch.org
SUMMARY:Alcoholics Anonymous
DESCRIPTION:The Frick Park Group of Alcoholics Anonymous is holding in-person meetings in the Social Hall. \nAdditional links for AA groups are posted online at the AA Central Office.\nhttps://www.pghaa.org/
URL:https://waverlychurch.org/event/aa-2020-03-22-2021-07-04/2023-04-09/
LOCATION:Social Hall
END:VEVENT
BEGIN:VEVENT
DTSTART;TZID=America/New_York:20230411T190000
DTEND;TZID=America/New_York:20230411T193000
DTSTAMP:20260423T154420
CREATED:20210711T201005Z
LAST-MODIFIED:20220704T150145Z
UID:10000174-1681239600-1681241400@waverlychurch.org
SUMMARY:Al-Anon [Beginners' Meeting]
DESCRIPTION:The Frick Park Al-Anon group may still be virtual. \nContact frickparkafg85[at]gmail.com with any questions.
URL:https://waverlychurch.org/event/al-anon-beginners-meeting-2022-01-04-2022-04-05/2023-04-11/
LOCATION:Social Hall
END:VEVENT
BEGIN:VEVENT
DTSTART;TZID=UTC:20230411T193000
DTEND;TZID=UTC:20230411T203000
DTSTAMP:20260423T154420
CREATED:20190310T185001Z
LAST-MODIFIED:20220331T225559Z
UID:10002403-1681241400-1681245000@waverlychurch.org
SUMMARY:Al-Anon
DESCRIPTION:The Frick Park Al-Anon is holding in-person meetings in the Social Hall. \nContact frickparkafg85[at]gmail.com with any questions.
URL:https://waverlychurch.org/event/al-anon-2020-03-24-2021-07-06-2021-07-13/2023-04-11/
END:VEVENT
BEGIN:VEVENT
DTSTART;TZID=UTC:20230415T090000
DTEND;TZID=UTC:20230415T102000
DTSTAMP:20260423T154420
CREATED:20190310T191142Z
LAST-MODIFIED:20230830T175415Z
UID:10001296-1681549200-1681554000@waverlychurch.org
SUMMARY:Narcotics Anonymous
DESCRIPTION:Narcotics Anonymous is holding in-person meetings in the Social Hall.
URL:https://waverlychurch.org/event/na-2020-03-21-2021-07-10/2023-04-15/
END:VEVENT
BEGIN:VEVENT
DTSTART;TZID=America/New_York:20230416T110000
DTEND;TZID=America/New_York:20230416T120000
DTSTAMP:20260423T154420
CREATED:20210715T194724Z
LAST-MODIFIED:20230529T213105Z
UID:10000870-1681642800-1681646400@waverlychurch.org
SUMMARY:Worship Service
DESCRIPTION:We meet on Sundays in our Sanctuary at 11am and stream services online. \nSunday’s worship service will be live-streamed over our Facebook page on Sunday morning and the scripture and sermon will be on SoundCloud. \nhttps://waverlychurch.org/worship/guidelines-for-in-person-worship/ \nhttps://www.facebook.com/pg/WaverlyChurch/videos/ \n  \n 
URL:https://waverlychurch.org/event/worship-service-3-2022-06-05-2022-08-07-2022-09-11/2023-04-16/
LOCATION:Sanctuary
END:VEVENT
BEGIN:VEVENT
DTSTART;TZID=America/New_York:20230416T120000
DTEND;TZID=America/New_York:20230416T123000
DTSTAMP:20260423T154420
CREATED:20220623T210815Z
LAST-MODIFIED:20220623T210831Z
UID:10005076-1681646400-1681648200@waverlychurch.org
SUMMARY:Coffee Hour
DESCRIPTION:Immediately following the service\, we hope you can stay to enjoy fellowship with the Waverly community.
URL:https://waverlychurch.org/event/coffee-hour-2/2023-04-16/
LOCATION:Social Hall
END:VEVENT
BEGIN:VEVENT
DTSTART;TZID=America/New_York:20230416T193000
DTEND;TZID=America/New_York:20230416T210000
DTSTAMP:20260423T154420
CREATED:20190310T184702Z
LAST-MODIFIED:20220704T145322Z
UID:10000526-1681673400-1681678800@waverlychurch.org
SUMMARY:Alcoholics Anonymous
DESCRIPTION:The Frick Park Group of Alcoholics Anonymous is holding in-person meetings in the Social Hall. \nAdditional links for AA groups are posted online at the AA Central Office.\nhttps://www.pghaa.org/
URL:https://waverlychurch.org/event/aa-2020-03-22-2021-07-04/2023-04-16/
LOCATION:Social Hall
END:VEVENT
BEGIN:VEVENT
DTSTART;TZID=America/New_York:20230418T190000
DTEND;TZID=America/New_York:20230418T193000
DTSTAMP:20260423T154420
CREATED:20210711T201005Z
LAST-MODIFIED:20220704T150145Z
UID:10000175-1681844400-1681846200@waverlychurch.org
SUMMARY:Al-Anon [Beginners' Meeting]
DESCRIPTION:The Frick Park Al-Anon group may still be virtual. \nContact frickparkafg85[at]gmail.com with any questions.
URL:https://waverlychurch.org/event/al-anon-beginners-meeting-2022-01-04-2022-04-05/2023-04-18/
LOCATION:Social Hall
END:VEVENT
BEGIN:VEVENT
DTSTART;TZID=UTC:20230418T193000
DTEND;TZID=UTC:20230418T203000
DTSTAMP:20260423T154420
CREATED:20190310T185001Z
LAST-MODIFIED:20220331T225559Z
UID:10002404-1681846200-1681849800@waverlychurch.org
SUMMARY:Al-Anon
DESCRIPTION:The Frick Park Al-Anon is holding in-person meetings in the Social Hall. \nContact frickparkafg85[at]gmail.com with any questions.
URL:https://waverlychurch.org/event/al-anon-2020-03-24-2021-07-06-2021-07-13/2023-04-18/
END:VEVENT
BEGIN:VEVENT
DTSTART;TZID=UTC:20230422T090000
DTEND;TZID=UTC:20230422T102000
DTSTAMP:20260423T154420
CREATED:20190310T191142Z
LAST-MODIFIED:20230830T175415Z
UID:10001297-1682154000-1682158800@waverlychurch.org
SUMMARY:Narcotics Anonymous
DESCRIPTION:Narcotics Anonymous is holding in-person meetings in the Social Hall.
URL:https://waverlychurch.org/event/na-2020-03-21-2021-07-10/2023-04-22/
END:VEVENT
BEGIN:VEVENT
DTSTART;TZID=America/New_York:20230422T190000
DTEND;TZID=America/New_York:20230422T210000
DTSTAMP:20260423T154420
CREATED:20230302T194857Z
LAST-MODIFIED:20230302T194858Z
UID:10005366-1682190000-1682197200@waverlychurch.org
SUMMARY:Game Night
DESCRIPTION:Join us for Game Night in the social hall!
URL:https://waverlychurch.org/event/game-night-3/
END:VEVENT
BEGIN:VEVENT
DTSTART;TZID=America/New_York:20230423T110000
DTEND;TZID=America/New_York:20230423T120000
DTSTAMP:20260423T154420
CREATED:20210715T194724Z
LAST-MODIFIED:20230529T213105Z
UID:10000871-1682247600-1682251200@waverlychurch.org
SUMMARY:Worship Service
DESCRIPTION:We meet on Sundays in our Sanctuary at 11am and stream services online. \nSunday’s worship service will be live-streamed over our Facebook page on Sunday morning and the scripture and sermon will be on SoundCloud. \nhttps://waverlychurch.org/worship/guidelines-for-in-person-worship/ \nhttps://www.facebook.com/pg/WaverlyChurch/videos/ \n  \n 
URL:https://waverlychurch.org/event/worship-service-3-2022-06-05-2022-08-07-2022-09-11/2023-04-23/
LOCATION:Sanctuary
END:VEVENT
BEGIN:VEVENT
DTSTART;TZID=America/New_York:20230423T120000
DTEND;TZID=America/New_York:20230423T123000
DTSTAMP:20260423T154420
CREATED:20220623T210815Z
LAST-MODIFIED:20220623T210831Z
UID:10005077-1682251200-1682253000@waverlychurch.org
SUMMARY:Coffee Hour
DESCRIPTION:Immediately following the service\, we hope you can stay to enjoy fellowship with the Waverly community.
URL:https://waverlychurch.org/event/coffee-hour-2/2023-04-23/
LOCATION:Social Hall
END:VEVENT
BEGIN:VEVENT
DTSTART;TZID=America/New_York:20230423T193000
DTEND;TZID=America/New_York:20230423T210000
DTSTAMP:20260423T154420
CREATED:20190310T184702Z
LAST-MODIFIED:20220704T145322Z
UID:10000527-1682278200-1682283600@waverlychurch.org
SUMMARY:Alcoholics Anonymous
DESCRIPTION:The Frick Park Group of Alcoholics Anonymous is holding in-person meetings in the Social Hall. \nAdditional links for AA groups are posted online at the AA Central Office.\nhttps://www.pghaa.org/
URL:https://waverlychurch.org/event/aa-2020-03-22-2021-07-04/2023-04-23/
LOCATION:Social Hall
END:VEVENT
BEGIN:VEVENT
DTSTART;TZID=America/New_York:20230425T190000
DTEND;TZID=America/New_York:20230425T193000
DTSTAMP:20260423T154420
CREATED:20210711T201005Z
LAST-MODIFIED:20220704T150145Z
UID:10000176-1682449200-1682451000@waverlychurch.org
SUMMARY:Al-Anon [Beginners' Meeting]
DESCRIPTION:The Frick Park Al-Anon group may still be virtual. \nContact frickparkafg85[at]gmail.com with any questions.
URL:https://waverlychurch.org/event/al-anon-beginners-meeting-2022-01-04-2022-04-05/2023-04-25/
LOCATION:Social Hall
END:VEVENT
BEGIN:VEVENT
DTSTART;TZID=UTC:20230425T193000
DTEND;TZID=UTC:20230425T203000
DTSTAMP:20260423T154420
CREATED:20190310T185001Z
LAST-MODIFIED:20220331T225559Z
UID:10002405-1682451000-1682454600@waverlychurch.org
SUMMARY:Al-Anon
DESCRIPTION:The Frick Park Al-Anon is holding in-person meetings in the Social Hall. \nContact frickparkafg85[at]gmail.com with any questions.
URL:https://waverlychurch.org/event/al-anon-2020-03-24-2021-07-06-2021-07-13/2023-04-25/
END:VEVENT
BEGIN:VEVENT
DTSTART;TZID=America/New_York:20230426T190000
DTEND;TZID=America/New_York:20230426T200000
DTSTAMP:20260423T154420
CREATED:20230302T194941Z
LAST-MODIFIED:20230302T194941Z
UID:10005367-1682535600-1682539200@waverlychurch.org
SUMMARY:Edith and Kurt Leuchter: A Story of Love and Resilience
DESCRIPTION:Edith and Kurt Leuchter: A Story of Love and Resilience in the social hall
URL:https://waverlychurch.org/event/edith-and-kurt-leuchter-a-story-of-love-and-resilience/
LOCATION:Social Hall
END:VEVENT
BEGIN:VEVENT
DTSTART;TZID=UTC:20230429T090000
DTEND;TZID=UTC:20230429T102000
DTSTAMP:20260423T154420
CREATED:20190310T191142Z
LAST-MODIFIED:20230830T175415Z
UID:10001298-1682758800-1682763600@waverlychurch.org
SUMMARY:Narcotics Anonymous
DESCRIPTION:Narcotics Anonymous is holding in-person meetings in the Social Hall.
URL:https://waverlychurch.org/event/na-2020-03-21-2021-07-10/2023-04-29/
END:VEVENT
BEGIN:VEVENT
DTSTART;TZID=America/New_York:20230429T090000
DTEND;TZID=America/New_York:20230429T130000
DTSTAMP:20260423T154420
CREATED:20230302T195040Z
LAST-MODIFIED:20230302T195040Z
UID:10005368-1682758800-1682773200@waverlychurch.org
SUMMARY:Work Day
DESCRIPTION:Join us for the seasonal Work Day!
URL:https://waverlychurch.org/event/work-day/
LOCATION:Front Lawn
END:VEVENT
END:VCALENDAR