BEGIN:VCALENDAR
VERSION:2.0
PRODID:-//Waverly Presbyterian Church - ECPv6.15.20//NONSGML v1.0//EN
CALSCALE:GREGORIAN
METHOD:PUBLISH
X-WR-CALNAME:Waverly Presbyterian Church
X-ORIGINAL-URL:https://waverlychurch.org
X-WR-CALDESC:Events for Waverly Presbyterian Church
REFRESH-INTERVAL;VALUE=DURATION:PT1H
X-Robots-Tag:noindex
X-PUBLISHED-TTL:PT1H
BEGIN:VTIMEZONE
TZID:UTC
BEGIN:STANDARD
TZOFFSETFROM:+0000
TZOFFSETTO:+0000
TZNAME:UTC
DTSTART:20230101T000000
END:STANDARD
END:VTIMEZONE
BEGIN:VTIMEZONE
TZID:America/New_York
BEGIN:DAYLIGHT
TZOFFSETFROM:-0500
TZOFFSETTO:-0400
TZNAME:EDT
DTSTART:20230312T070000
END:DAYLIGHT
BEGIN:STANDARD
TZOFFSETFROM:-0400
TZOFFSETTO:-0500
TZNAME:EST
DTSTART:20231105T060000
END:STANDARD
BEGIN:DAYLIGHT
TZOFFSETFROM:-0500
TZOFFSETTO:-0400
TZNAME:EDT
DTSTART:20240310T070000
END:DAYLIGHT
BEGIN:STANDARD
TZOFFSETFROM:-0400
TZOFFSETTO:-0500
TZNAME:EST
DTSTART:20241103T060000
END:STANDARD
BEGIN:DAYLIGHT
TZOFFSETFROM:-0500
TZOFFSETTO:-0400
TZNAME:EDT
DTSTART:20250309T070000
END:DAYLIGHT
BEGIN:STANDARD
TZOFFSETFROM:-0400
TZOFFSETTO:-0500
TZNAME:EST
DTSTART:20251102T060000
END:STANDARD
END:VTIMEZONE
BEGIN:VEVENT
DTSTART;TZID=UTC:20240518T090000
DTEND;TZID=UTC:20240518T102000
DTSTAMP:20260421T215234
CREATED:20190310T191142Z
LAST-MODIFIED:20230830T175415Z
UID:10001353-1716022800-1716027600@waverlychurch.org
SUMMARY:Narcotics Anonymous
DESCRIPTION:Narcotics Anonymous is holding in-person meetings in the Social Hall.
URL:https://waverlychurch.org/event/na-2020-03-21-2021-07-10/2024-05-18/
END:VEVENT
BEGIN:VEVENT
DTSTART;TZID=America/New_York:20240519T100000
DTEND;TZID=America/New_York:20240519T105500
DTSTAMP:20260421T215234
CREATED:20230830T170506Z
LAST-MODIFIED:20231113T180304Z
UID:10006017-1716112800-1716116100@waverlychurch.org
SUMMARY:Sunday School
DESCRIPTION:All ages are welcome to join us each week for Sunday School in the following locations: \nChildren up through 1st grade: nursery (downstairs\, right side of front entrance – ring bell to enter) \nChildren in 2nd-5th grade: the “Frog Pond” – room off of our lower floor social hall \nYouth in 6th-12th grade” the “Wonka Room” – room off of our lower floor social hall \nAdults: lounge (upstairs in back of church)
URL:https://waverlychurch.org/event/sunday-school-3/2024-05-19/
END:VEVENT
BEGIN:VEVENT
DTSTART;TZID=America/New_York:20240519T110000
DTEND;TZID=America/New_York:20240519T121500
DTSTAMP:20260421T215234
CREATED:20230830T170132Z
LAST-MODIFIED:20230830T170527Z
UID:10006276-1716116400-1716120900@waverlychurch.org
SUMMARY:Worship Service
DESCRIPTION:We meet on Sundays in our Sanctuary at 11am during the school year and stream services online. \nSunday’s worship service will be live-streamed over our Facebook page on Sunday mornings. \n \nhttps://www.facebook.com/pg/WaverlyChurch/videos/
URL:https://waverlychurch.org/event/worship-2/2024-05-19/
LOCATION:Sanctuary
END:VEVENT
BEGIN:VEVENT
DTSTART;TZID=America/New_York:20240519T121500
DTEND;TZID=America/New_York:20240519T133000
DTSTAMP:20260421T215234
CREATED:20230903T190321Z
LAST-MODIFIED:20231113T180559Z
UID:10006561-1716120900-1716125400@waverlychurch.org
SUMMARY:Coffee Hour
DESCRIPTION:Join us after service weekly for a chance to share fellowship over coffee and snacks
URL:https://waverlychurch.org/event/coffee-hour-3/2024-05-19/
LOCATION:Lounge
END:VEVENT
BEGIN:VEVENT
DTSTART;TZID=America/New_York:20240519T193000
DTEND;TZID=America/New_York:20240519T210000
DTSTAMP:20260421T215234
CREATED:20190310T184702Z
LAST-MODIFIED:20220704T145322Z
UID:10000583-1716147000-1716152400@waverlychurch.org
SUMMARY:Alcoholics Anonymous
DESCRIPTION:The Frick Park Group of Alcoholics Anonymous is holding in-person meetings in the Social Hall. \nAdditional links for AA groups are posted online at the AA Central Office.\nhttps://www.pghaa.org/
URL:https://waverlychurch.org/event/aa-2020-03-22-2021-07-04/2024-05-19/
LOCATION:Social Hall
END:VEVENT
BEGIN:VEVENT
DTSTART;TZID=America/New_York:20240521T190000
DTEND;TZID=America/New_York:20240521T193000
DTSTAMP:20260421T215234
CREATED:20210711T201005Z
LAST-MODIFIED:20220704T150145Z
UID:10000232-1716318000-1716319800@waverlychurch.org
SUMMARY:Al-Anon [Beginners' Meeting]
DESCRIPTION:The Frick Park Al-Anon group may still be virtual. \nContact frickparkafg85[at]gmail.com with any questions.
URL:https://waverlychurch.org/event/al-anon-beginners-meeting-2022-01-04-2022-04-05/2024-05-21/
LOCATION:Social Hall
END:VEVENT
BEGIN:VEVENT
DTSTART;TZID=UTC:20240521T193000
DTEND;TZID=UTC:20240521T203000
DTSTAMP:20260421T215234
CREATED:20190310T185001Z
LAST-MODIFIED:20220331T225559Z
UID:10002461-1716319800-1716323400@waverlychurch.org
SUMMARY:Al-Anon
DESCRIPTION:The Frick Park Al-Anon is holding in-person meetings in the Social Hall. \nContact frickparkafg85[at]gmail.com with any questions.
URL:https://waverlychurch.org/event/al-anon-2020-03-24-2021-07-06-2021-07-13/2024-05-21/
END:VEVENT
BEGIN:VEVENT
DTSTART;TZID=America/New_York:20240522T190000
DTEND;TZID=America/New_York:20240522T203000
DTSTAMP:20260421T215234
CREATED:20240514T164257Z
LAST-MODIFIED:20240514T164257Z
UID:10007958-1716404400-1716409800@waverlychurch.org
SUMMARY:EastShore Chorale Concert
DESCRIPTION:EastShore Chorale (now featuring our very own Bill Vandivier!) will again hold a performance titled “Space and Time” in our Sanctuary on Wednesday\, May 22nd at 7pm. There is no fee for attendance\, but donations are accepted for the chorale.
URL:https://waverlychurch.org/event/eastshore-chorale-concert/
LOCATION:Sanctuary
END:VEVENT
BEGIN:VEVENT
DTSTART;TZID=UTC:20240525T090000
DTEND;TZID=UTC:20240525T102000
DTSTAMP:20260421T215234
CREATED:20190310T191142Z
LAST-MODIFIED:20230830T175415Z
UID:10001354-1716627600-1716632400@waverlychurch.org
SUMMARY:Narcotics Anonymous
DESCRIPTION:Narcotics Anonymous is holding in-person meetings in the Social Hall.
URL:https://waverlychurch.org/event/na-2020-03-21-2021-07-10/2024-05-25/
END:VEVENT
BEGIN:VEVENT
DTSTART;TZID=America/New_York:20240526T100000
DTEND;TZID=America/New_York:20240526T105500
DTSTAMP:20260421T215234
CREATED:20230830T170506Z
LAST-MODIFIED:20231113T180304Z
UID:10006018-1716717600-1716720900@waverlychurch.org
SUMMARY:Sunday School
DESCRIPTION:All ages are welcome to join us each week for Sunday School in the following locations: \nChildren up through 1st grade: nursery (downstairs\, right side of front entrance – ring bell to enter) \nChildren in 2nd-5th grade: the “Frog Pond” – room off of our lower floor social hall \nYouth in 6th-12th grade” the “Wonka Room” – room off of our lower floor social hall \nAdults: lounge (upstairs in back of church)
URL:https://waverlychurch.org/event/sunday-school-3/2024-05-26/
END:VEVENT
BEGIN:VEVENT
DTSTART;TZID=America/New_York:20240526T110000
DTEND;TZID=America/New_York:20240526T121500
DTSTAMP:20260421T215234
CREATED:20230830T170132Z
LAST-MODIFIED:20230830T170527Z
UID:10006277-1716721200-1716725700@waverlychurch.org
SUMMARY:Worship Service
DESCRIPTION:We meet on Sundays in our Sanctuary at 11am during the school year and stream services online. \nSunday’s worship service will be live-streamed over our Facebook page on Sunday mornings. \n \nhttps://www.facebook.com/pg/WaverlyChurch/videos/
URL:https://waverlychurch.org/event/worship-2/2024-05-26/
LOCATION:Sanctuary
END:VEVENT
BEGIN:VEVENT
DTSTART;TZID=America/New_York:20240526T121500
DTEND;TZID=America/New_York:20240526T133000
DTSTAMP:20260421T215234
CREATED:20240507T182442Z
LAST-MODIFIED:20250313T173105Z
UID:10006562-1716725700-1716730200@waverlychurch.org
SUMMARY:Coffee Hour
DESCRIPTION:Join us after service weekly for a chance to share fellowship over coffee and snacks
URL:https://waverlychurch.org/event/coffee-hour-3-2/
LOCATION:Lounge
END:VEVENT
BEGIN:VEVENT
DTSTART;TZID=America/New_York:20240526T193000
DTEND;TZID=America/New_York:20240526T210000
DTSTAMP:20260421T215234
CREATED:20190310T184702Z
LAST-MODIFIED:20220704T145322Z
UID:10000584-1716751800-1716757200@waverlychurch.org
SUMMARY:Alcoholics Anonymous
DESCRIPTION:The Frick Park Group of Alcoholics Anonymous is holding in-person meetings in the Social Hall. \nAdditional links for AA groups are posted online at the AA Central Office.\nhttps://www.pghaa.org/
URL:https://waverlychurch.org/event/aa-2020-03-22-2021-07-04/2024-05-26/
LOCATION:Social Hall
END:VEVENT
BEGIN:VEVENT
DTSTART;TZID=America/New_York:20240528T190000
DTEND;TZID=America/New_York:20240528T193000
DTSTAMP:20260421T215234
CREATED:20210711T201005Z
LAST-MODIFIED:20220704T150145Z
UID:10000233-1716922800-1716924600@waverlychurch.org
SUMMARY:Al-Anon [Beginners' Meeting]
DESCRIPTION:The Frick Park Al-Anon group may still be virtual. \nContact frickparkafg85[at]gmail.com with any questions.
URL:https://waverlychurch.org/event/al-anon-beginners-meeting-2022-01-04-2022-04-05/2024-05-28/
LOCATION:Social Hall
END:VEVENT
BEGIN:VEVENT
DTSTART;TZID=UTC:20240528T193000
DTEND;TZID=UTC:20240528T203000
DTSTAMP:20260421T215234
CREATED:20190310T185001Z
LAST-MODIFIED:20220331T225559Z
UID:10002462-1716924600-1716928200@waverlychurch.org
SUMMARY:Al-Anon
DESCRIPTION:The Frick Park Al-Anon is holding in-person meetings in the Social Hall. \nContact frickparkafg85[at]gmail.com with any questions.
URL:https://waverlychurch.org/event/al-anon-2020-03-24-2021-07-06-2021-07-13/2024-05-28/
END:VEVENT
BEGIN:VEVENT
DTSTART;TZID=America/New_York:20240531T100000
DTEND;TZID=America/New_York:20240531T105500
DTSTAMP:20260421T215234
CREATED:20240507T172037Z
LAST-MODIFIED:20240507T173855Z
UID:10007338-1717149600-1717152900@waverlychurch.org
SUMMARY:Sunday School
DESCRIPTION:All ages are welcome to join us each week for Sunday School in the following locations: \nChildren up through 1st grade: nursery (downstairs\, right side of front entrance – ring bell to enter) \nChildren in 2nd-5th grade: the “Frog Pond” – room off of our lower floor social hall \nYouth in 6th-12th grade” the “Wonka Room” – room off of our lower floor social hall \nAdults: lounge (upstairs in back of church)
URL:https://waverlychurch.org/event/sunday-school-3-2/2024-05-31/
END:VEVENT
BEGIN:VEVENT
DTSTART;TZID=UTC:20240601T090000
DTEND;TZID=UTC:20240601T102000
DTSTAMP:20260421T215234
CREATED:20190310T191142Z
LAST-MODIFIED:20230830T175415Z
UID:10001355-1717232400-1717237200@waverlychurch.org
SUMMARY:Narcotics Anonymous
DESCRIPTION:Narcotics Anonymous is holding in-person meetings in the Social Hall.
URL:https://waverlychurch.org/event/na-2020-03-21-2021-07-10/2024-06-01/
END:VEVENT
BEGIN:VEVENT
DTSTART;TZID=America/New_York:20240602T100000
DTEND;TZID=America/New_York:20240602T100000
DTSTAMP:20260421T215234
CREATED:20240507T174300Z
LAST-MODIFIED:20240507T183343Z
UID:10007944-1717322400-1717322400@waverlychurch.org
SUMMARY:Sunday School on Summer Break Until Sept. 8th
DESCRIPTION:
URL:https://waverlychurch.org/event/sunday-school-on-summer-break-until-sept-8th/2024-06-02/
END:VEVENT
BEGIN:VEVENT
DTSTART;TZID=America/New_York:20240602T100000
DTEND;TZID=America/New_York:20240602T111500
DTSTAMP:20260421T215234
CREATED:20240507T180000Z
LAST-MODIFIED:20240507T181448Z
UID:10007610-1717322400-1717326900@waverlychurch.org
SUMMARY:Worship Service - Summer Hours
DESCRIPTION:We meet on Sundays in our Sanctuary. Our Summer Hours are 10am.  From June 2nd-September 1st. Services are streamed online. \nSunday’s worship service will be live-streamed over our Facebook page on Sunday mornings. \n \nhttps://www.facebook.com/pg/WaverlyChurch/videos/ \nWe will resume meeting at 11am on September 8\, 2o24
URL:https://waverlychurch.org/event/worship-service-summer-hours-10am/2024-06-02/
END:VEVENT
BEGIN:VEVENT
DTSTART;TZID=America/New_York:20240602T193000
DTEND;TZID=America/New_York:20240602T210000
DTSTAMP:20260421T215234
CREATED:20190310T184702Z
LAST-MODIFIED:20220704T145322Z
UID:10000585-1717356600-1717362000@waverlychurch.org
SUMMARY:Alcoholics Anonymous
DESCRIPTION:The Frick Park Group of Alcoholics Anonymous is holding in-person meetings in the Social Hall. \nAdditional links for AA groups are posted online at the AA Central Office.\nhttps://www.pghaa.org/
URL:https://waverlychurch.org/event/aa-2020-03-22-2021-07-04/2024-06-02/
LOCATION:Social Hall
END:VEVENT
BEGIN:VEVENT
DTSTART;TZID=America/New_York:20240604T190000
DTEND;TZID=America/New_York:20240604T193000
DTSTAMP:20260421T215234
CREATED:20210711T201005Z
LAST-MODIFIED:20220704T150145Z
UID:10000234-1717527600-1717529400@waverlychurch.org
SUMMARY:Al-Anon [Beginners' Meeting]
DESCRIPTION:The Frick Park Al-Anon group may still be virtual. \nContact frickparkafg85[at]gmail.com with any questions.
URL:https://waverlychurch.org/event/al-anon-beginners-meeting-2022-01-04-2022-04-05/2024-06-04/
LOCATION:Social Hall
END:VEVENT
BEGIN:VEVENT
DTSTART;TZID=UTC:20240604T193000
DTEND;TZID=UTC:20240604T203000
DTSTAMP:20260421T215234
CREATED:20190310T185001Z
LAST-MODIFIED:20220331T225559Z
UID:10002463-1717529400-1717533000@waverlychurch.org
SUMMARY:Al-Anon
DESCRIPTION:The Frick Park Al-Anon is holding in-person meetings in the Social Hall. \nContact frickparkafg85[at]gmail.com with any questions.
URL:https://waverlychurch.org/event/al-anon-2020-03-24-2021-07-06-2021-07-13/2024-06-04/
END:VEVENT
BEGIN:VEVENT
DTSTART;TZID=America/New_York:20240607T100000
DTEND;TZID=America/New_York:20240607T105500
DTSTAMP:20260421T215234
CREATED:20240507T172037Z
LAST-MODIFIED:20240507T173855Z
UID:10007339-1717754400-1717757700@waverlychurch.org
SUMMARY:Sunday School
DESCRIPTION:All ages are welcome to join us each week for Sunday School in the following locations: \nChildren up through 1st grade: nursery (downstairs\, right side of front entrance – ring bell to enter) \nChildren in 2nd-5th grade: the “Frog Pond” – room off of our lower floor social hall \nYouth in 6th-12th grade” the “Wonka Room” – room off of our lower floor social hall \nAdults: lounge (upstairs in back of church)
URL:https://waverlychurch.org/event/sunday-school-3-2/2024-06-07/
END:VEVENT
BEGIN:VEVENT
DTSTART;TZID=UTC:20240608T090000
DTEND;TZID=UTC:20240608T102000
DTSTAMP:20260421T215234
CREATED:20190310T191142Z
LAST-MODIFIED:20230830T175415Z
UID:10001356-1717837200-1717842000@waverlychurch.org
SUMMARY:Narcotics Anonymous
DESCRIPTION:Narcotics Anonymous is holding in-person meetings in the Social Hall.
URL:https://waverlychurch.org/event/na-2020-03-21-2021-07-10/2024-06-08/
END:VEVENT
BEGIN:VEVENT
DTSTART;TZID=America/New_York:20240609T100000
DTEND;TZID=America/New_York:20240609T100000
DTSTAMP:20260421T215234
CREATED:20240507T174300Z
LAST-MODIFIED:20240507T183343Z
UID:10007945-1717927200-1717927200@waverlychurch.org
SUMMARY:Sunday School on Summer Break Until Sept. 8th
DESCRIPTION:
URL:https://waverlychurch.org/event/sunday-school-on-summer-break-until-sept-8th/2024-06-09/
END:VEVENT
BEGIN:VEVENT
DTSTART;TZID=America/New_York:20240609T100000
DTEND;TZID=America/New_York:20240609T111500
DTSTAMP:20260421T215234
CREATED:20240507T180000Z
LAST-MODIFIED:20240507T181448Z
UID:10007611-1717927200-1717931700@waverlychurch.org
SUMMARY:Worship Service - Summer Hours
DESCRIPTION:We meet on Sundays in our Sanctuary. Our Summer Hours are 10am.  From June 2nd-September 1st. Services are streamed online. \nSunday’s worship service will be live-streamed over our Facebook page on Sunday mornings. \n \nhttps://www.facebook.com/pg/WaverlyChurch/videos/ \nWe will resume meeting at 11am on September 8\, 2o24
URL:https://waverlychurch.org/event/worship-service-summer-hours-10am/2024-06-09/
END:VEVENT
BEGIN:VEVENT
DTSTART;TZID=America/New_York:20240609T193000
DTEND;TZID=America/New_York:20240609T210000
DTSTAMP:20260421T215234
CREATED:20190310T184702Z
LAST-MODIFIED:20220704T145322Z
UID:10000586-1717961400-1717966800@waverlychurch.org
SUMMARY:Alcoholics Anonymous
DESCRIPTION:The Frick Park Group of Alcoholics Anonymous is holding in-person meetings in the Social Hall. \nAdditional links for AA groups are posted online at the AA Central Office.\nhttps://www.pghaa.org/
URL:https://waverlychurch.org/event/aa-2020-03-22-2021-07-04/2024-06-09/
LOCATION:Social Hall
END:VEVENT
BEGIN:VEVENT
DTSTART;TZID=America/New_York:20240611T190000
DTEND;TZID=America/New_York:20240611T193000
DTSTAMP:20260421T215234
CREATED:20210711T201005Z
LAST-MODIFIED:20220704T150145Z
UID:10000235-1718132400-1718134200@waverlychurch.org
SUMMARY:Al-Anon [Beginners' Meeting]
DESCRIPTION:The Frick Park Al-Anon group may still be virtual. \nContact frickparkafg85[at]gmail.com with any questions.
URL:https://waverlychurch.org/event/al-anon-beginners-meeting-2022-01-04-2022-04-05/2024-06-11/
LOCATION:Social Hall
END:VEVENT
BEGIN:VEVENT
DTSTART;TZID=UTC:20240611T193000
DTEND;TZID=UTC:20240611T203000
DTSTAMP:20260421T215234
CREATED:20190310T185001Z
LAST-MODIFIED:20220331T225559Z
UID:10002464-1718134200-1718137800@waverlychurch.org
SUMMARY:Al-Anon
DESCRIPTION:The Frick Park Al-Anon is holding in-person meetings in the Social Hall. \nContact frickparkafg85[at]gmail.com with any questions.
URL:https://waverlychurch.org/event/al-anon-2020-03-24-2021-07-06-2021-07-13/2024-06-11/
END:VEVENT
BEGIN:VEVENT
DTSTART;TZID=America/New_York:20240613T090000
DTEND;TZID=America/New_York:20240613T100000
DTSTAMP:20260421T215234
CREATED:20240208T175904Z
LAST-MODIFIED:20240208T180649Z
UID:10006961-1718269200-1718272800@waverlychurch.org
SUMMARY:Five Element Qigong Class-Summer Mini Session#1
DESCRIPTION:Qigong is a practice that encourages the circulation of “qi” or life energy. In this class we will utilize gentle movements and stretching\, acupressure\, breath awareness and visualization to encourage the flow of qi. \nBased in Taoist Five Element Theory\, this style of qigong highlights the dynamic relationship between yin (organizing\, receptive\, cooling) and yang (animating\, expressive\, warming). \nThrough persistent effort we can strengthen our connection to the rhythms of nature and optimize our functionality. \n$40 for a six-week session. This practice requires no props and can be enjoyed standing or seated in a chair. Contact laurakbudde@gmail.com to register.
URL:https://waverlychurch.org/event/five-element-qigong-class-summer-mini-session1/2024-06-13/
LOCATION:Social Hall
END:VEVENT
END:VCALENDAR