BEGIN:VCALENDAR
VERSION:2.0
PRODID:-//Waverly Presbyterian Church - ECPv6.15.20//NONSGML v1.0//EN
CALSCALE:GREGORIAN
METHOD:PUBLISH
X-WR-CALNAME:Waverly Presbyterian Church
X-ORIGINAL-URL:https://waverlychurch.org
X-WR-CALDESC:Events for Waverly Presbyterian Church
REFRESH-INTERVAL;VALUE=DURATION:PT1H
X-Robots-Tag:noindex
X-PUBLISHED-TTL:PT1H
BEGIN:VTIMEZONE
TZID:America/New_York
BEGIN:DAYLIGHT
TZOFFSETFROM:-0500
TZOFFSETTO:-0400
TZNAME:EDT
DTSTART:20240310T070000
END:DAYLIGHT
BEGIN:STANDARD
TZOFFSETFROM:-0400
TZOFFSETTO:-0500
TZNAME:EST
DTSTART:20241103T060000
END:STANDARD
BEGIN:DAYLIGHT
TZOFFSETFROM:-0500
TZOFFSETTO:-0400
TZNAME:EDT
DTSTART:20250309T070000
END:DAYLIGHT
BEGIN:STANDARD
TZOFFSETFROM:-0400
TZOFFSETTO:-0500
TZNAME:EST
DTSTART:20251102T060000
END:STANDARD
BEGIN:DAYLIGHT
TZOFFSETFROM:-0500
TZOFFSETTO:-0400
TZNAME:EDT
DTSTART:20260308T070000
END:DAYLIGHT
BEGIN:STANDARD
TZOFFSETFROM:-0400
TZOFFSETTO:-0500
TZNAME:EST
DTSTART:20261101T060000
END:STANDARD
END:VTIMEZONE
BEGIN:VTIMEZONE
TZID:UTC
BEGIN:STANDARD
TZOFFSETFROM:+0000
TZOFFSETTO:+0000
TZNAME:UTC
DTSTART:20240101T000000
END:STANDARD
END:VTIMEZONE
BEGIN:VEVENT
DTSTART;TZID=America/New_York:20250601T100000
DTEND;TZID=America/New_York:20250601T105500
DTSTAMP:20260422T183931
CREATED:20250313T172933Z
LAST-MODIFIED:20250313T172934Z
UID:10007131-1748772000-1748775300@waverlychurch.org
SUMMARY:Sunday School
DESCRIPTION:All ages are welcome to join us each week for Sunday School in the following locations: \nChildren up through 1st grade: nursery (downstairs\, right side of front entrance – ring bell to enter) \nChildren and Youth 2nd grade through 12th grade in the “Wonka Room” – room off of our lower floor Social Hall. \nAdults: lounge (upstairs in back of church)
URL:https://waverlychurch.org/event/sunday-school-3-2-2-2-2/2025-06-01/
END:VEVENT
BEGIN:VEVENT
DTSTART;TZID=America/New_York:20250601T110000
DTEND;TZID=America/New_York:20250601T121500
DTSTAMP:20260422T183931
CREATED:20240507T182308Z
LAST-MODIFIED:20240507T182315Z
UID:10007699-1748775600-1748780100@waverlychurch.org
SUMMARY:Worship Service
DESCRIPTION:We meet on Sundays in our Sanctuary at 11am during the school year and stream services online. \nSunday’s worship service will be live-streamed over our Facebook page on Sunday mornings. \n \nhttps://www.facebook.com/pg/WaverlyChurch/videos/
URL:https://waverlychurch.org/event/worship-service-5/2025-06-01/
END:VEVENT
BEGIN:VEVENT
DTSTART;TZID=America/New_York:20250601T121500
DTEND;TZID=America/New_York:20250601T133000
DTSTAMP:20260422T183931
CREATED:20250313T173302Z
LAST-MODIFIED:20250313T173951Z
UID:10006615-1748780100-1748784600@waverlychurch.org
SUMMARY:Coffee Hour
DESCRIPTION:Join us after service weekly for a chance to share fellowship over coffee and snacks
URL:https://waverlychurch.org/event/coffee-hour-3-2-2/2025-06-01/
LOCATION:Lounge
END:VEVENT
BEGIN:VEVENT
DTSTART;TZID=America/New_York:20250601T193000
DTEND;TZID=America/New_York:20250601T210000
DTSTAMP:20260422T183931
CREATED:20190310T184702Z
LAST-MODIFIED:20220704T145322Z
UID:10000637-1748806200-1748811600@waverlychurch.org
SUMMARY:Alcoholics Anonymous
DESCRIPTION:The Frick Park Group of Alcoholics Anonymous is holding in-person meetings in the Social Hall. \nAdditional links for AA groups are posted online at the AA Central Office.\nhttps://www.pghaa.org/
URL:https://waverlychurch.org/event/aa-2020-03-22-2021-07-04/2025-06-01/
LOCATION:Social Hall
END:VEVENT
BEGIN:VEVENT
DTSTART;TZID=America/New_York:20250602T170000
DTEND;TZID=America/New_York:20250602T180000
DTSTAMP:20260422T183931
CREATED:20240827T181303Z
LAST-MODIFIED:20260309T184828Z
UID:10008264-1748883600-1748887200@waverlychurch.org
SUMMARY:Drawing Closer - Meeting on Zoom
DESCRIPTION:This time of contemplative prayer and exploration of poetry is different every week and open to all\, no matter your beliefs. \nClick here for the Zoom link or call by phone:\n929-436-2866\nMeeting ID: 829 0407 0235\nPasscode: 056654
URL:https://waverlychurch.org/event/drawing-closer/2025-06-02/
LOCATION:https://waverlychurch.org/event/drawing-closer/2025-06-02/
END:VEVENT
BEGIN:VEVENT
DTSTART;TZID=America/New_York:20250602T190000
DTEND;TZID=America/New_York:20250602T200000
DTSTAMP:20260422T183931
CREATED:20250304T173559Z
LAST-MODIFIED:20250304T173559Z
UID:10008983-1748890800-1748894400@waverlychurch.org
SUMMARY:Book Study via Zoom on "The Tears of Things" by Richard Rohr
DESCRIPTION:Contact Pastor Caitlin at pastor@waverlychurch.org to join.
URL:https://waverlychurch.org/event/book-study-via-zoom-on-the-tears-of-things-by-richard-rohr/2025-06-02/
END:VEVENT
BEGIN:VEVENT
DTSTART;TZID=America/New_York:20250603T190000
DTEND;TZID=America/New_York:20250603T193000
DTSTAMP:20260422T183931
CREATED:20210711T201005Z
LAST-MODIFIED:20220704T150145Z
UID:10000286-1748977200-1748979000@waverlychurch.org
SUMMARY:Al-Anon [Beginners' Meeting]
DESCRIPTION:The Frick Park Al-Anon group may still be virtual. \nContact frickparkafg85[at]gmail.com with any questions.
URL:https://waverlychurch.org/event/al-anon-beginners-meeting-2022-01-04-2022-04-05/2025-06-03/
LOCATION:Social Hall
END:VEVENT
BEGIN:VEVENT
DTSTART;TZID=UTC:20250603T193000
DTEND;TZID=UTC:20250603T203000
DTSTAMP:20260422T183931
CREATED:20190310T185001Z
LAST-MODIFIED:20220331T225559Z
UID:10002515-1748979000-1748982600@waverlychurch.org
SUMMARY:Al-Anon
DESCRIPTION:The Frick Park Al-Anon is holding in-person meetings in the Social Hall. \nContact frickparkafg85[at]gmail.com with any questions.
URL:https://waverlychurch.org/event/al-anon-2020-03-24-2021-07-06-2021-07-13/2025-06-03/
END:VEVENT
BEGIN:VEVENT
DTSTART;TZID=America/New_York:20250606T100000
DTEND;TZID=America/New_York:20250606T104500
DTSTAMP:20260422T183931
CREATED:20250401T150233Z
LAST-MODIFIED:20250529T160130Z
UID:10009039-1749204000-1749206700@waverlychurch.org
SUMMARY:Five Elements Qigong Summer Session 1 (Drop-ins Welcome)
DESCRIPTION:Contact Laura at laurakbudde@gmail.com or 618-210-3672.
URL:https://waverlychurch.org/event/five-elements-qigong-drop-ins-welcome/2025-06-06/
LOCATION:Social Hall
END:VEVENT
BEGIN:VEVENT
DTSTART;TZID=America/New_York:20250606T110000
DTEND;TZID=America/New_York:20250606T120000
DTSTAMP:20260422T183931
CREATED:20250401T150500Z
LAST-MODIFIED:20250529T160233Z
UID:10009045-1749207600-1749211200@waverlychurch.org
SUMMARY:Sun 73 Tai Chi (Advanced) Summer Session 1
DESCRIPTION:Contact Laura at laurakbudde@gmail.com or 618-210-3672. \nExperience necessary for this form.
URL:https://waverlychurch.org/event/sun-73-tai-chi-advanced/2025-06-06/
LOCATION:Social Hall
END:VEVENT
BEGIN:VEVENT
DTSTART;TZID=America/New_York:20250608T100000
DTEND;TZID=America/New_York:20250608T105500
DTSTAMP:20260422T183931
CREATED:20250313T172933Z
LAST-MODIFIED:20250313T172934Z
UID:10007132-1749376800-1749380100@waverlychurch.org
SUMMARY:Sunday School
DESCRIPTION:All ages are welcome to join us each week for Sunday School in the following locations: \nChildren up through 1st grade: nursery (downstairs\, right side of front entrance – ring bell to enter) \nChildren and Youth 2nd grade through 12th grade in the “Wonka Room” – room off of our lower floor Social Hall. \nAdults: lounge (upstairs in back of church)
URL:https://waverlychurch.org/event/sunday-school-3-2-2-2-2/2025-06-08/
END:VEVENT
BEGIN:VEVENT
DTSTART;TZID=America/New_York:20250608T110000
DTEND;TZID=America/New_York:20250608T121500
DTSTAMP:20260422T183931
CREATED:20240507T182308Z
LAST-MODIFIED:20240507T182315Z
UID:10007700-1749380400-1749384900@waverlychurch.org
SUMMARY:Worship Service
DESCRIPTION:We meet on Sundays in our Sanctuary at 11am during the school year and stream services online. \nSunday’s worship service will be live-streamed over our Facebook page on Sunday mornings. \n \nhttps://www.facebook.com/pg/WaverlyChurch/videos/
URL:https://waverlychurch.org/event/worship-service-5/2025-06-08/
END:VEVENT
BEGIN:VEVENT
DTSTART;TZID=America/New_York:20250608T121500
DTEND;TZID=America/New_York:20250608T133000
DTSTAMP:20260422T183931
CREATED:20250313T173302Z
LAST-MODIFIED:20250313T173951Z
UID:10006616-1749384900-1749389400@waverlychurch.org
SUMMARY:Coffee Hour
DESCRIPTION:Join us after service weekly for a chance to share fellowship over coffee and snacks
URL:https://waverlychurch.org/event/coffee-hour-3-2-2/2025-06-08/
LOCATION:Lounge
END:VEVENT
BEGIN:VEVENT
DTSTART;TZID=America/New_York:20250608T193000
DTEND;TZID=America/New_York:20250608T210000
DTSTAMP:20260422T183931
CREATED:20190310T184702Z
LAST-MODIFIED:20220704T145322Z
UID:10000638-1749411000-1749416400@waverlychurch.org
SUMMARY:Alcoholics Anonymous
DESCRIPTION:The Frick Park Group of Alcoholics Anonymous is holding in-person meetings in the Social Hall. \nAdditional links for AA groups are posted online at the AA Central Office.\nhttps://www.pghaa.org/
URL:https://waverlychurch.org/event/aa-2020-03-22-2021-07-04/2025-06-08/
LOCATION:Social Hall
END:VEVENT
BEGIN:VEVENT
DTSTART;TZID=America/New_York:20250609T170000
DTEND;TZID=America/New_York:20250609T180000
DTSTAMP:20260422T183931
CREATED:20240827T181303Z
LAST-MODIFIED:20260309T184828Z
UID:10008265-1749488400-1749492000@waverlychurch.org
SUMMARY:Drawing Closer - Meeting on Zoom
DESCRIPTION:This time of contemplative prayer and exploration of poetry is different every week and open to all\, no matter your beliefs. \nClick here for the Zoom link or call by phone:\n929-436-2866\nMeeting ID: 829 0407 0235\nPasscode: 056654
URL:https://waverlychurch.org/event/drawing-closer/2025-06-09/
LOCATION:https://waverlychurch.org/event/drawing-closer/2025-06-09/
END:VEVENT
BEGIN:VEVENT
DTSTART;TZID=America/New_York:20250609T190000
DTEND;TZID=America/New_York:20250609T200000
DTSTAMP:20260422T183931
CREATED:20250304T173559Z
LAST-MODIFIED:20250304T173559Z
UID:10008984-1749495600-1749499200@waverlychurch.org
SUMMARY:Book Study via Zoom on "The Tears of Things" by Richard Rohr
DESCRIPTION:Contact Pastor Caitlin at pastor@waverlychurch.org to join.
URL:https://waverlychurch.org/event/book-study-via-zoom-on-the-tears-of-things-by-richard-rohr/2025-06-09/
END:VEVENT
BEGIN:VEVENT
DTSTART;TZID=America/New_York:20250610T190000
DTEND;TZID=America/New_York:20250610T193000
DTSTAMP:20260422T183931
CREATED:20210711T201005Z
LAST-MODIFIED:20220704T150145Z
UID:10000287-1749582000-1749583800@waverlychurch.org
SUMMARY:Al-Anon [Beginners' Meeting]
DESCRIPTION:The Frick Park Al-Anon group may still be virtual. \nContact frickparkafg85[at]gmail.com with any questions.
URL:https://waverlychurch.org/event/al-anon-beginners-meeting-2022-01-04-2022-04-05/2025-06-10/
LOCATION:Social Hall
END:VEVENT
BEGIN:VEVENT
DTSTART;TZID=UTC:20250610T193000
DTEND;TZID=UTC:20250610T203000
DTSTAMP:20260422T183931
CREATED:20190310T185001Z
LAST-MODIFIED:20220331T225559Z
UID:10002516-1749583800-1749587400@waverlychurch.org
SUMMARY:Al-Anon
DESCRIPTION:The Frick Park Al-Anon is holding in-person meetings in the Social Hall. \nContact frickparkafg85[at]gmail.com with any questions.
URL:https://waverlychurch.org/event/al-anon-2020-03-24-2021-07-06-2021-07-13/2025-06-10/
END:VEVENT
BEGIN:VEVENT
DTSTART;TZID=America/New_York:20250613T100000
DTEND;TZID=America/New_York:20250613T104500
DTSTAMP:20260422T183931
CREATED:20250401T150233Z
LAST-MODIFIED:20250529T160130Z
UID:10009040-1749808800-1749811500@waverlychurch.org
SUMMARY:Five Elements Qigong Summer Session 1 (Drop-ins Welcome)
DESCRIPTION:Contact Laura at laurakbudde@gmail.com or 618-210-3672.
URL:https://waverlychurch.org/event/five-elements-qigong-drop-ins-welcome/2025-06-13/
LOCATION:Social Hall
END:VEVENT
BEGIN:VEVENT
DTSTART;TZID=America/New_York:20250613T110000
DTEND;TZID=America/New_York:20250613T120000
DTSTAMP:20260422T183931
CREATED:20250401T150500Z
LAST-MODIFIED:20250529T160233Z
UID:10009046-1749812400-1749816000@waverlychurch.org
SUMMARY:Sun 73 Tai Chi (Advanced) Summer Session 1
DESCRIPTION:Contact Laura at laurakbudde@gmail.com or 618-210-3672. \nExperience necessary for this form.
URL:https://waverlychurch.org/event/sun-73-tai-chi-advanced/2025-06-13/
LOCATION:Social Hall
END:VEVENT
BEGIN:VEVENT
DTSTART;TZID=America/New_York:20250615T100000
DTEND;TZID=America/New_York:20250615T105500
DTSTAMP:20260422T183931
CREATED:20250313T172933Z
LAST-MODIFIED:20250313T172934Z
UID:10007133-1749981600-1749984900@waverlychurch.org
SUMMARY:Sunday School
DESCRIPTION:All ages are welcome to join us each week for Sunday School in the following locations: \nChildren up through 1st grade: nursery (downstairs\, right side of front entrance – ring bell to enter) \nChildren and Youth 2nd grade through 12th grade in the “Wonka Room” – room off of our lower floor Social Hall. \nAdults: lounge (upstairs in back of church)
URL:https://waverlychurch.org/event/sunday-school-3-2-2-2-2/2025-06-15/
END:VEVENT
BEGIN:VEVENT
DTSTART;TZID=America/New_York:20250615T110000
DTEND;TZID=America/New_York:20250615T121500
DTSTAMP:20260422T183931
CREATED:20240507T182308Z
LAST-MODIFIED:20240507T182315Z
UID:10007701-1749985200-1749989700@waverlychurch.org
SUMMARY:Worship Service
DESCRIPTION:We meet on Sundays in our Sanctuary at 11am during the school year and stream services online. \nSunday’s worship service will be live-streamed over our Facebook page on Sunday mornings. \n \nhttps://www.facebook.com/pg/WaverlyChurch/videos/
URL:https://waverlychurch.org/event/worship-service-5/2025-06-15/
END:VEVENT
BEGIN:VEVENT
DTSTART;TZID=America/New_York:20250615T121500
DTEND;TZID=America/New_York:20250615T133000
DTSTAMP:20260422T183931
CREATED:20250313T173302Z
LAST-MODIFIED:20250313T173951Z
UID:10006617-1749989700-1749994200@waverlychurch.org
SUMMARY:Coffee Hour
DESCRIPTION:Join us after service weekly for a chance to share fellowship over coffee and snacks
URL:https://waverlychurch.org/event/coffee-hour-3-2-2/2025-06-15/
LOCATION:Lounge
END:VEVENT
BEGIN:VEVENT
DTSTART;TZID=America/New_York:20250615T193000
DTEND;TZID=America/New_York:20250615T210000
DTSTAMP:20260422T183931
CREATED:20190310T184702Z
LAST-MODIFIED:20220704T145322Z
UID:10000639-1750015800-1750021200@waverlychurch.org
SUMMARY:Alcoholics Anonymous
DESCRIPTION:The Frick Park Group of Alcoholics Anonymous is holding in-person meetings in the Social Hall. \nAdditional links for AA groups are posted online at the AA Central Office.\nhttps://www.pghaa.org/
URL:https://waverlychurch.org/event/aa-2020-03-22-2021-07-04/2025-06-15/
LOCATION:Social Hall
END:VEVENT
BEGIN:VEVENT
DTSTART;TZID=America/New_York:20250616T170000
DTEND;TZID=America/New_York:20250616T180000
DTSTAMP:20260422T183931
CREATED:20240827T181303Z
LAST-MODIFIED:20260309T184828Z
UID:10008266-1750093200-1750096800@waverlychurch.org
SUMMARY:Drawing Closer - Meeting on Zoom
DESCRIPTION:This time of contemplative prayer and exploration of poetry is different every week and open to all\, no matter your beliefs. \nClick here for the Zoom link or call by phone:\n929-436-2866\nMeeting ID: 829 0407 0235\nPasscode: 056654
URL:https://waverlychurch.org/event/drawing-closer/2025-06-16/
LOCATION:https://waverlychurch.org/event/drawing-closer/2025-06-16/
END:VEVENT
BEGIN:VEVENT
DTSTART;TZID=America/New_York:20250616T190000
DTEND;TZID=America/New_York:20250616T200000
DTSTAMP:20260422T183931
CREATED:20250304T173559Z
LAST-MODIFIED:20250304T173559Z
UID:10008985-1750100400-1750104000@waverlychurch.org
SUMMARY:Book Study via Zoom on "The Tears of Things" by Richard Rohr
DESCRIPTION:Contact Pastor Caitlin at pastor@waverlychurch.org to join.
URL:https://waverlychurch.org/event/book-study-via-zoom-on-the-tears-of-things-by-richard-rohr/2025-06-16/
END:VEVENT
BEGIN:VEVENT
DTSTART;TZID=America/New_York:20250617T190000
DTEND;TZID=America/New_York:20250617T193000
DTSTAMP:20260422T183931
CREATED:20210711T201005Z
LAST-MODIFIED:20220704T150145Z
UID:10000288-1750186800-1750188600@waverlychurch.org
SUMMARY:Al-Anon [Beginners' Meeting]
DESCRIPTION:The Frick Park Al-Anon group may still be virtual. \nContact frickparkafg85[at]gmail.com with any questions.
URL:https://waverlychurch.org/event/al-anon-beginners-meeting-2022-01-04-2022-04-05/2025-06-17/
LOCATION:Social Hall
END:VEVENT
BEGIN:VEVENT
DTSTART;TZID=UTC:20250617T193000
DTEND;TZID=UTC:20250617T203000
DTSTAMP:20260422T183931
CREATED:20190310T185001Z
LAST-MODIFIED:20220331T225559Z
UID:10002517-1750188600-1750192200@waverlychurch.org
SUMMARY:Al-Anon
DESCRIPTION:The Frick Park Al-Anon is holding in-person meetings in the Social Hall. \nContact frickparkafg85[at]gmail.com with any questions.
URL:https://waverlychurch.org/event/al-anon-2020-03-24-2021-07-06-2021-07-13/2025-06-17/
END:VEVENT
BEGIN:VEVENT
DTSTART;TZID=America/New_York:20250619T103000
DTEND;TZID=America/New_York:20250619T140000
DTSTAMP:20260422T183931
CREATED:20241211T164945Z
LAST-MODIFIED:20241211T164945Z
UID:10008596-1750329000-1750341600@waverlychurch.org
SUMMARY:Reiki with Bob Dove and Ross Marshall
DESCRIPTION:
URL:https://waverlychurch.org/event/reiki-with-bob-dove-and-ross-marshall-2/2025-06-19/
LOCATION:Social Hall
END:VEVENT
BEGIN:VEVENT
DTSTART;TZID=America/New_York:20250620T100000
DTEND;TZID=America/New_York:20250620T104500
DTSTAMP:20260422T183931
CREATED:20250401T150233Z
LAST-MODIFIED:20250529T160130Z
UID:10009041-1750413600-1750416300@waverlychurch.org
SUMMARY:Five Elements Qigong Summer Session 1 (Drop-ins Welcome)
DESCRIPTION:Contact Laura at laurakbudde@gmail.com or 618-210-3672.
URL:https://waverlychurch.org/event/five-elements-qigong-drop-ins-welcome/2025-06-20/
LOCATION:Social Hall
END:VEVENT
END:VCALENDAR