BEGIN:VCALENDAR
VERSION:2.0
PRODID:-//Waverly Presbyterian Church - ECPv6.15.20//NONSGML v1.0//EN
CALSCALE:GREGORIAN
METHOD:PUBLISH
X-ORIGINAL-URL:https://waverlychurch.org
X-WR-CALDESC:Events for Waverly Presbyterian Church
REFRESH-INTERVAL;VALUE=DURATION:PT1H
X-Robots-Tag:noindex
X-PUBLISHED-TTL:PT1H
BEGIN:VTIMEZONE
TZID:America/New_York
BEGIN:DAYLIGHT
TZOFFSETFROM:-0500
TZOFFSETTO:-0400
TZNAME:EDT
DTSTART:20220313T070000
END:DAYLIGHT
BEGIN:STANDARD
TZOFFSETFROM:-0400
TZOFFSETTO:-0500
TZNAME:EST
DTSTART:20221106T060000
END:STANDARD
BEGIN:DAYLIGHT
TZOFFSETFROM:-0500
TZOFFSETTO:-0400
TZNAME:EDT
DTSTART:20230312T070000
END:DAYLIGHT
BEGIN:STANDARD
TZOFFSETFROM:-0400
TZOFFSETTO:-0500
TZNAME:EST
DTSTART:20231105T060000
END:STANDARD
BEGIN:DAYLIGHT
TZOFFSETFROM:-0500
TZOFFSETTO:-0400
TZNAME:EDT
DTSTART:20240310T070000
END:DAYLIGHT
BEGIN:STANDARD
TZOFFSETFROM:-0400
TZOFFSETTO:-0500
TZNAME:EST
DTSTART:20241103T060000
END:STANDARD
END:VTIMEZONE
BEGIN:VTIMEZONE
TZID:UTC
BEGIN:STANDARD
TZOFFSETFROM:+0000
TZOFFSETTO:+0000
TZNAME:UTC
DTSTART:20220101T000000
END:STANDARD
END:VTIMEZONE
BEGIN:VEVENT
DTSTART;TZID=America/New_York:20230202T120000
DTEND;TZID=America/New_York:20230202T170000
DTSTAMP:20260423T185256
CREATED:20220512T233651Z
LAST-MODIFIED:20220623T205155Z
UID:10003240-1675339200-1675357200@waverlychurch.org
SUMMARY:Foundation of HOPE Aftercare Program
DESCRIPTION:Aftercare support for anyone who was previously incarcerated by appointment only – Tuesdays from 9am – 2pm and Thursdays from 12pm – 5pm – call 412-321-3343 to schedule; www.foundationofhope.org for more information.
URL:https://waverlychurch.org/event/foundation-of-hope-aftercare-program-2/2023-02-02/
LOCATION:Social Hall
END:VEVENT
BEGIN:VEVENT
DTSTART;TZID=UTC:20230204T090000
DTEND;TZID=UTC:20230204T102000
DTSTAMP:20260423T185256
CREATED:20190310T191142Z
LAST-MODIFIED:20230830T175415Z
UID:10001286-1675501200-1675506000@waverlychurch.org
SUMMARY:Narcotics Anonymous
DESCRIPTION:Narcotics Anonymous is holding in-person meetings in the Social Hall.
URL:https://waverlychurch.org/event/na-2020-03-21-2021-07-10/2023-02-04/
END:VEVENT
BEGIN:VEVENT
DTSTART;TZID=America/New_York:20230205T110000
DTEND;TZID=America/New_York:20230205T120000
DTSTAMP:20260423T185256
CREATED:20210715T194724Z
LAST-MODIFIED:20230529T213105Z
UID:10000861-1675594800-1675598400@waverlychurch.org
SUMMARY:Worship Service
DESCRIPTION:We meet on Sundays in our Sanctuary at 11am and stream services online. \nSunday’s worship service will be live-streamed over our Facebook page on Sunday morning and the scripture and sermon will be on SoundCloud. \nhttps://waverlychurch.org/worship/guidelines-for-in-person-worship/ \nhttps://www.facebook.com/pg/WaverlyChurch/videos/ \n  \n 
URL:https://waverlychurch.org/event/worship-service-3-2022-06-05-2022-08-07-2022-09-11/2023-02-05/
LOCATION:Sanctuary
END:VEVENT
BEGIN:VEVENT
DTSTART;TZID=America/New_York:20230205T120000
DTEND;TZID=America/New_York:20230205T123000
DTSTAMP:20260423T185256
CREATED:20220623T210815Z
LAST-MODIFIED:20220623T210831Z
UID:10005067-1675598400-1675600200@waverlychurch.org
SUMMARY:Coffee Hour
DESCRIPTION:Immediately following the service\, we hope you can stay to enjoy fellowship with the Waverly community.
URL:https://waverlychurch.org/event/coffee-hour-2/2023-02-05/
LOCATION:Social Hall
END:VEVENT
BEGIN:VEVENT
DTSTART;TZID=America/New_York:20230205T193000
DTEND;TZID=America/New_York:20230205T210000
DTSTAMP:20260423T185256
CREATED:20190310T184702Z
LAST-MODIFIED:20220704T145322Z
UID:10000516-1675625400-1675630800@waverlychurch.org
SUMMARY:Alcoholics Anonymous
DESCRIPTION:The Frick Park Group of Alcoholics Anonymous is holding in-person meetings in the Social Hall. \nAdditional links for AA groups are posted online at the AA Central Office.\nhttps://www.pghaa.org/
URL:https://waverlychurch.org/event/aa-2020-03-22-2021-07-04/2023-02-05/
LOCATION:Social Hall
END:VEVENT
BEGIN:VEVENT
DTSTART;TZID=America/New_York:20230207T090000
DTEND;TZID=America/New_York:20230207T140000
DTSTAMP:20260423T185256
CREATED:20220512T233522Z
LAST-MODIFIED:20220704T145940Z
UID:10003576-1675760400-1675778400@waverlychurch.org
SUMMARY:Foundation of HOPE Aftercare Program
DESCRIPTION:Aftercare support for anyone who was previously incarcerated by appointment only – Tuesdays from 9am – 2pm and Thursdays from 12pm – 5pm – call 412-321-3343 to schedule; www.foundationofhope.org for more information.
URL:https://waverlychurch.org/event/foundation-of-hope-aftercare-program/2023-02-07/
LOCATION:Social Hall
END:VEVENT
BEGIN:VEVENT
DTSTART;TZID=America/New_York:20230207T190000
DTEND;TZID=America/New_York:20230207T193000
DTSTAMP:20260423T185256
CREATED:20210711T201005Z
LAST-MODIFIED:20220704T150145Z
UID:10000165-1675796400-1675798200@waverlychurch.org
SUMMARY:Al-Anon [Beginners' Meeting]
DESCRIPTION:The Frick Park Al-Anon group may still be virtual. \nContact frickparkafg85[at]gmail.com with any questions.
URL:https://waverlychurch.org/event/al-anon-beginners-meeting-2022-01-04-2022-04-05/2023-02-07/
LOCATION:Social Hall
END:VEVENT
BEGIN:VEVENT
DTSTART;TZID=UTC:20230207T190000
DTEND;TZID=UTC:20230207T200000
DTSTAMP:20260423T185256
CREATED:20210722T164636Z
LAST-MODIFIED:20210722T164638Z
UID:10003524-1675796400-1675800000@waverlychurch.org
SUMMARY:Creative Arts Ministry
DESCRIPTION:Join us the first Tuesday of the month at 7pm in the lounge to study scripture and plan for its creative expression in worship.
URL:https://waverlychurch.org/event/creative-arts-ministry/2023-02-07/
LOCATION:Lounge
END:VEVENT
BEGIN:VEVENT
DTSTART;TZID=UTC:20230207T193000
DTEND;TZID=UTC:20230207T203000
DTSTAMP:20260423T185256
CREATED:20190310T185001Z
LAST-MODIFIED:20220331T225559Z
UID:10002394-1675798200-1675801800@waverlychurch.org
SUMMARY:Al-Anon
DESCRIPTION:The Frick Park Al-Anon is holding in-person meetings in the Social Hall. \nContact frickparkafg85[at]gmail.com with any questions.
URL:https://waverlychurch.org/event/al-anon-2020-03-24-2021-07-06-2021-07-13/2023-02-07/
END:VEVENT
BEGIN:VEVENT
DTSTART;TZID=America/New_York:20230207T193000
DTEND;TZID=America/New_York:20230207T203000
DTSTAMP:20260423T185256
CREATED:20190310T185001Z
LAST-MODIFIED:20220704T150031Z
UID:10004154-1675798200-1675801800@waverlychurch.org
SUMMARY:Al-Anon
DESCRIPTION:The Frick Park Al-Anon group may still be virtual. \nContact frickparkafg85[at]gmail.com with any questions.
URL:https://waverlychurch.org/event/al-anon-2020-03-24-2021-07-06-2021-07-20-2022-01-04-2022-04-05/2023-02-07/
END:VEVENT
BEGIN:VEVENT
DTSTART;TZID=UTC:20230207T193000
DTEND;TZID=UTC:20230207T210000
DTSTAMP:20260423T185256
CREATED:20190310T185001Z
LAST-MODIFIED:20201211T021356Z
UID:10001701-1675798200-1675803600@waverlychurch.org
SUMMARY:Al-Anon [Virtual Meeting]
DESCRIPTION:Due to COVID-19 precautions\, the Frick Park Al-Anon is meeting virtually. \nContact frickparkafg85[at]gmail.com for the link. \nIn-person meetings will resume when it is safe to do so.
URL:https://waverlychurch.org/event/al-anon-2020-03-24/2023-02-07/
END:VEVENT
BEGIN:VEVENT
DTSTART;TZID=America/New_York:20230209T120000
DTEND;TZID=America/New_York:20230209T170000
DTSTAMP:20260423T185256
CREATED:20220512T233651Z
LAST-MODIFIED:20220623T205155Z
UID:10003241-1675944000-1675962000@waverlychurch.org
SUMMARY:Foundation of HOPE Aftercare Program
DESCRIPTION:Aftercare support for anyone who was previously incarcerated by appointment only – Tuesdays from 9am – 2pm and Thursdays from 12pm – 5pm – call 412-321-3343 to schedule; www.foundationofhope.org for more information.
URL:https://waverlychurch.org/event/foundation-of-hope-aftercare-program-2/2023-02-09/
LOCATION:Social Hall
END:VEVENT
BEGIN:VEVENT
DTSTART;TZID=UTC:20230211T090000
DTEND;TZID=UTC:20230211T102000
DTSTAMP:20260423T185256
CREATED:20190310T191142Z
LAST-MODIFIED:20230830T175415Z
UID:10001287-1676106000-1676110800@waverlychurch.org
SUMMARY:Narcotics Anonymous
DESCRIPTION:Narcotics Anonymous is holding in-person meetings in the Social Hall.
URL:https://waverlychurch.org/event/na-2020-03-21-2021-07-10/2023-02-11/
END:VEVENT
BEGIN:VEVENT
DTSTART;TZID=America/New_York:20230212T110000
DTEND;TZID=America/New_York:20230212T120000
DTSTAMP:20260423T185256
CREATED:20210715T194724Z
LAST-MODIFIED:20230529T213105Z
UID:10000862-1676199600-1676203200@waverlychurch.org
SUMMARY:Worship Service
DESCRIPTION:We meet on Sundays in our Sanctuary at 11am and stream services online. \nSunday’s worship service will be live-streamed over our Facebook page on Sunday morning and the scripture and sermon will be on SoundCloud. \nhttps://waverlychurch.org/worship/guidelines-for-in-person-worship/ \nhttps://www.facebook.com/pg/WaverlyChurch/videos/ \n  \n 
URL:https://waverlychurch.org/event/worship-service-3-2022-06-05-2022-08-07-2022-09-11/2023-02-12/
LOCATION:Sanctuary
END:VEVENT
BEGIN:VEVENT
DTSTART;TZID=America/New_York:20230212T120000
DTEND;TZID=America/New_York:20230212T123000
DTSTAMP:20260423T185256
CREATED:20220623T210815Z
LAST-MODIFIED:20220623T210831Z
UID:10005068-1676203200-1676205000@waverlychurch.org
SUMMARY:Coffee Hour
DESCRIPTION:Immediately following the service\, we hope you can stay to enjoy fellowship with the Waverly community.
URL:https://waverlychurch.org/event/coffee-hour-2/2023-02-12/
LOCATION:Social Hall
END:VEVENT
BEGIN:VEVENT
DTSTART;TZID=America/New_York:20230212T193000
DTEND;TZID=America/New_York:20230212T210000
DTSTAMP:20260423T185256
CREATED:20190310T184702Z
LAST-MODIFIED:20220704T145322Z
UID:10000517-1676230200-1676235600@waverlychurch.org
SUMMARY:Alcoholics Anonymous
DESCRIPTION:The Frick Park Group of Alcoholics Anonymous is holding in-person meetings in the Social Hall. \nAdditional links for AA groups are posted online at the AA Central Office.\nhttps://www.pghaa.org/
URL:https://waverlychurch.org/event/aa-2020-03-22-2021-07-04/2023-02-12/
LOCATION:Social Hall
END:VEVENT
BEGIN:VEVENT
DTSTART;TZID=America/New_York:20230214T090000
DTEND;TZID=America/New_York:20230214T140000
DTSTAMP:20260423T185256
CREATED:20220512T233522Z
LAST-MODIFIED:20220704T145940Z
UID:10003577-1676365200-1676383200@waverlychurch.org
SUMMARY:Foundation of HOPE Aftercare Program
DESCRIPTION:Aftercare support for anyone who was previously incarcerated by appointment only – Tuesdays from 9am – 2pm and Thursdays from 12pm – 5pm – call 412-321-3343 to schedule; www.foundationofhope.org for more information.
URL:https://waverlychurch.org/event/foundation-of-hope-aftercare-program/2023-02-14/
LOCATION:Social Hall
END:VEVENT
BEGIN:VEVENT
DTSTART;TZID=America/New_York:20230214T190000
DTEND;TZID=America/New_York:20230214T193000
DTSTAMP:20260423T185256
CREATED:20210711T201005Z
LAST-MODIFIED:20220704T150145Z
UID:10000166-1676401200-1676403000@waverlychurch.org
SUMMARY:Al-Anon [Beginners' Meeting]
DESCRIPTION:The Frick Park Al-Anon group may still be virtual. \nContact frickparkafg85[at]gmail.com with any questions.
URL:https://waverlychurch.org/event/al-anon-beginners-meeting-2022-01-04-2022-04-05/2023-02-14/
LOCATION:Social Hall
END:VEVENT
BEGIN:VEVENT
DTSTART;TZID=UTC:20230214T193000
DTEND;TZID=UTC:20230214T203000
DTSTAMP:20260423T185256
CREATED:20190310T185001Z
LAST-MODIFIED:20220331T225559Z
UID:10002395-1676403000-1676406600@waverlychurch.org
SUMMARY:Al-Anon
DESCRIPTION:The Frick Park Al-Anon is holding in-person meetings in the Social Hall. \nContact frickparkafg85[at]gmail.com with any questions.
URL:https://waverlychurch.org/event/al-anon-2020-03-24-2021-07-06-2021-07-13/2023-02-14/
END:VEVENT
BEGIN:VEVENT
DTSTART;TZID=America/New_York:20230214T193000
DTEND;TZID=America/New_York:20230214T203000
DTSTAMP:20260423T185256
CREATED:20190310T185001Z
LAST-MODIFIED:20220704T150031Z
UID:10004155-1676403000-1676406600@waverlychurch.org
SUMMARY:Al-Anon
DESCRIPTION:The Frick Park Al-Anon group may still be virtual. \nContact frickparkafg85[at]gmail.com with any questions.
URL:https://waverlychurch.org/event/al-anon-2020-03-24-2021-07-06-2021-07-20-2022-01-04-2022-04-05/2023-02-14/
END:VEVENT
BEGIN:VEVENT
DTSTART;TZID=UTC:20230214T193000
DTEND;TZID=UTC:20230214T210000
DTSTAMP:20260423T185256
CREATED:20190310T185001Z
LAST-MODIFIED:20201211T021356Z
UID:10001702-1676403000-1676408400@waverlychurch.org
SUMMARY:Al-Anon [Virtual Meeting]
DESCRIPTION:Due to COVID-19 precautions\, the Frick Park Al-Anon is meeting virtually. \nContact frickparkafg85[at]gmail.com for the link. \nIn-person meetings will resume when it is safe to do so.
URL:https://waverlychurch.org/event/al-anon-2020-03-24/2023-02-14/
END:VEVENT
BEGIN:VEVENT
DTSTART;TZID=America/New_York:20230216T120000
DTEND;TZID=America/New_York:20230216T170000
DTSTAMP:20260423T185256
CREATED:20220512T233651Z
LAST-MODIFIED:20220623T205155Z
UID:10003242-1676548800-1676566800@waverlychurch.org
SUMMARY:Foundation of HOPE Aftercare Program
DESCRIPTION:Aftercare support for anyone who was previously incarcerated by appointment only – Tuesdays from 9am – 2pm and Thursdays from 12pm – 5pm – call 412-321-3343 to schedule; www.foundationofhope.org for more information.
URL:https://waverlychurch.org/event/foundation-of-hope-aftercare-program-2/2023-02-16/
LOCATION:Social Hall
END:VEVENT
BEGIN:VEVENT
DTSTART;TZID=UTC:20230218T090000
DTEND;TZID=UTC:20230218T102000
DTSTAMP:20260423T185256
CREATED:20190310T191142Z
LAST-MODIFIED:20230830T175415Z
UID:10001288-1676710800-1676715600@waverlychurch.org
SUMMARY:Narcotics Anonymous
DESCRIPTION:Narcotics Anonymous is holding in-person meetings in the Social Hall.
URL:https://waverlychurch.org/event/na-2020-03-21-2021-07-10/2023-02-18/
END:VEVENT
BEGIN:VEVENT
DTSTART;TZID=America/New_York:20230219T110000
DTEND;TZID=America/New_York:20230219T120000
DTSTAMP:20260423T185256
CREATED:20210715T194724Z
LAST-MODIFIED:20230529T213105Z
UID:10000863-1676804400-1676808000@waverlychurch.org
SUMMARY:Worship Service
DESCRIPTION:We meet on Sundays in our Sanctuary at 11am and stream services online. \nSunday’s worship service will be live-streamed over our Facebook page on Sunday morning and the scripture and sermon will be on SoundCloud. \nhttps://waverlychurch.org/worship/guidelines-for-in-person-worship/ \nhttps://www.facebook.com/pg/WaverlyChurch/videos/ \n  \n 
URL:https://waverlychurch.org/event/worship-service-3-2022-06-05-2022-08-07-2022-09-11/2023-02-19/
LOCATION:Sanctuary
END:VEVENT
BEGIN:VEVENT
DTSTART;TZID=America/New_York:20230219T120000
DTEND;TZID=America/New_York:20230219T123000
DTSTAMP:20260423T185256
CREATED:20220623T210815Z
LAST-MODIFIED:20220623T210831Z
UID:10005069-1676808000-1676809800@waverlychurch.org
SUMMARY:Coffee Hour
DESCRIPTION:Immediately following the service\, we hope you can stay to enjoy fellowship with the Waverly community.
URL:https://waverlychurch.org/event/coffee-hour-2/2023-02-19/
LOCATION:Social Hall
END:VEVENT
BEGIN:VEVENT
DTSTART;TZID=America/New_York:20230219T120000
DTEND;TZID=America/New_York:20230219T140000
DTSTAMP:20260423T185256
CREATED:20230109T224218Z
LAST-MODIFIED:20230109T224221Z
UID:10005353-1676808000-1676815200@waverlychurch.org
SUMMARY:Mardi Gras Brunch
DESCRIPTION:Join us at our Mardi Gras brunch\, Sun\, Feb 19\, 12pm\,
URL:https://waverlychurch.org/event/mardi-gras-brunch/
END:VEVENT
BEGIN:VEVENT
DTSTART;TZID=America/New_York:20230219T193000
DTEND;TZID=America/New_York:20230219T210000
DTSTAMP:20260423T185256
CREATED:20190310T184702Z
LAST-MODIFIED:20220704T145322Z
UID:10000518-1676835000-1676840400@waverlychurch.org
SUMMARY:Alcoholics Anonymous
DESCRIPTION:The Frick Park Group of Alcoholics Anonymous is holding in-person meetings in the Social Hall. \nAdditional links for AA groups are posted online at the AA Central Office.\nhttps://www.pghaa.org/
URL:https://waverlychurch.org/event/aa-2020-03-22-2021-07-04/2023-02-19/
LOCATION:Social Hall
END:VEVENT
BEGIN:VEVENT
DTSTART;TZID=America/New_York:20230221T090000
DTEND;TZID=America/New_York:20230221T140000
DTSTAMP:20260423T185256
CREATED:20220512T233522Z
LAST-MODIFIED:20220704T145940Z
UID:10003578-1676970000-1676988000@waverlychurch.org
SUMMARY:Foundation of HOPE Aftercare Program
DESCRIPTION:Aftercare support for anyone who was previously incarcerated by appointment only – Tuesdays from 9am – 2pm and Thursdays from 12pm – 5pm – call 412-321-3343 to schedule; www.foundationofhope.org for more information.
URL:https://waverlychurch.org/event/foundation-of-hope-aftercare-program/2023-02-21/
LOCATION:Social Hall
END:VEVENT
BEGIN:VEVENT
DTSTART;TZID=America/New_York:20230221T190000
DTEND;TZID=America/New_York:20230221T193000
DTSTAMP:20260423T185256
CREATED:20210711T201005Z
LAST-MODIFIED:20220704T150145Z
UID:10000167-1677006000-1677007800@waverlychurch.org
SUMMARY:Al-Anon [Beginners' Meeting]
DESCRIPTION:The Frick Park Al-Anon group may still be virtual. \nContact frickparkafg85[at]gmail.com with any questions.
URL:https://waverlychurch.org/event/al-anon-beginners-meeting-2022-01-04-2022-04-05/2023-02-21/
LOCATION:Social Hall
END:VEVENT
BEGIN:VEVENT
DTSTART;TZID=UTC:20230221T193000
DTEND;TZID=UTC:20230221T203000
DTSTAMP:20260423T185256
CREATED:20190310T185001Z
LAST-MODIFIED:20220331T225559Z
UID:10002396-1677007800-1677011400@waverlychurch.org
SUMMARY:Al-Anon
DESCRIPTION:The Frick Park Al-Anon is holding in-person meetings in the Social Hall. \nContact frickparkafg85[at]gmail.com with any questions.
URL:https://waverlychurch.org/event/al-anon-2020-03-24-2021-07-06-2021-07-13/2023-02-21/
END:VEVENT
END:VCALENDAR