BEGIN:VCALENDAR
VERSION:2.0
PRODID:-//Waverly Presbyterian Church - ECPv6.15.20//NONSGML v1.0//EN
CALSCALE:GREGORIAN
METHOD:PUBLISH
X-ORIGINAL-URL:https://waverlychurch.org
X-WR-CALDESC:Events for Waverly Presbyterian Church
REFRESH-INTERVAL;VALUE=DURATION:PT1H
X-Robots-Tag:noindex
X-PUBLISHED-TTL:PT1H
BEGIN:VTIMEZONE
TZID:America/New_York
BEGIN:DAYLIGHT
TZOFFSETFROM:-0500
TZOFFSETTO:-0400
TZNAME:EDT
DTSTART:20220313T070000
END:DAYLIGHT
BEGIN:STANDARD
TZOFFSETFROM:-0400
TZOFFSETTO:-0500
TZNAME:EST
DTSTART:20221106T060000
END:STANDARD
BEGIN:DAYLIGHT
TZOFFSETFROM:-0500
TZOFFSETTO:-0400
TZNAME:EDT
DTSTART:20230312T070000
END:DAYLIGHT
BEGIN:STANDARD
TZOFFSETFROM:-0400
TZOFFSETTO:-0500
TZNAME:EST
DTSTART:20231105T060000
END:STANDARD
BEGIN:DAYLIGHT
TZOFFSETFROM:-0500
TZOFFSETTO:-0400
TZNAME:EDT
DTSTART:20240310T070000
END:DAYLIGHT
BEGIN:STANDARD
TZOFFSETFROM:-0400
TZOFFSETTO:-0500
TZNAME:EST
DTSTART:20241103T060000
END:STANDARD
END:VTIMEZONE
BEGIN:VTIMEZONE
TZID:UTC
BEGIN:STANDARD
TZOFFSETFROM:+0000
TZOFFSETTO:+0000
TZNAME:UTC
DTSTART:20220101T000000
END:STANDARD
END:VTIMEZONE
BEGIN:VEVENT
DTSTART;TZID=America/New_York:20231006T103000
DTEND;TZID=America/New_York:20231006T113000
DTSTAMP:20260422T182450
CREATED:20230821T174554Z
LAST-MODIFIED:20230821T175211Z
UID:10005932-1696588200-1696591800@waverlychurch.org
SUMMARY:Tai Chi for Health Part I
DESCRIPTION:Learn or return to Tai Chi for Health Part 1! This tai chi form focuses on posture and stability while enhancing the connection between the brain and the body. \nNew movements will be added each class as we explore concepts of tai chi practice and enjoy performing this moving meditation. \nThis class requires no props but does require standing.  \nThe full form will be taught over the course of two six-week sessions. Regular attendance and practice at home is necessary to learn and benefit from tai chi. \n$40 for a six-week session. Contact laurakbudde@gmail.com to register.
URL:https://waverlychurch.org/event/tai-chi-for-health-part-i/2023-10-06/
END:VEVENT
BEGIN:VEVENT
DTSTART;TZID=UTC:20231007T090000
DTEND;TZID=UTC:20231007T102000
DTSTAMP:20260422T182450
CREATED:20190310T191142Z
LAST-MODIFIED:20230830T175415Z
UID:10001321-1696669200-1696674000@waverlychurch.org
SUMMARY:Narcotics Anonymous
DESCRIPTION:Narcotics Anonymous is holding in-person meetings in the Social Hall.
URL:https://waverlychurch.org/event/na-2020-03-21-2021-07-10/2023-10-07/
END:VEVENT
BEGIN:VEVENT
DTSTART;TZID=America/New_York:20231008T100000
DTEND;TZID=America/New_York:20231008T105500
DTSTAMP:20260422T182450
CREATED:20230830T170506Z
LAST-MODIFIED:20231113T180304Z
UID:10005985-1696759200-1696762500@waverlychurch.org
SUMMARY:Sunday School
DESCRIPTION:All ages are welcome to join us each week for Sunday School in the following locations: \nChildren up through 1st grade: nursery (downstairs\, right side of front entrance – ring bell to enter) \nChildren in 2nd-5th grade: the “Frog Pond” – room off of our lower floor social hall \nYouth in 6th-12th grade” the “Wonka Room” – room off of our lower floor social hall \nAdults: lounge (upstairs in back of church)
URL:https://waverlychurch.org/event/sunday-school-3/2023-10-08/
END:VEVENT
BEGIN:VEVENT
DTSTART;TZID=America/New_York:20231008T110000
DTEND;TZID=America/New_York:20231008T121500
DTSTAMP:20260422T182450
CREATED:20230830T170132Z
LAST-MODIFIED:20230830T170527Z
UID:10006244-1696762800-1696767300@waverlychurch.org
SUMMARY:Worship Service
DESCRIPTION:We meet on Sundays in our Sanctuary at 11am during the school year and stream services online. \nSunday’s worship service will be live-streamed over our Facebook page on Sunday mornings. \n \nhttps://www.facebook.com/pg/WaverlyChurch/videos/
URL:https://waverlychurch.org/event/worship-2/2023-10-08/
LOCATION:Sanctuary
END:VEVENT
BEGIN:VEVENT
DTSTART;TZID=America/New_York:20231008T121500
DTEND;TZID=America/New_York:20231008T133000
DTSTAMP:20260422T182450
CREATED:20230903T190321Z
LAST-MODIFIED:20231113T180559Z
UID:10006529-1696767300-1696771800@waverlychurch.org
SUMMARY:Coffee Hour
DESCRIPTION:Join us after service weekly for a chance to share fellowship over coffee and snacks
URL:https://waverlychurch.org/event/coffee-hour-3/2023-10-08/
LOCATION:Lounge
END:VEVENT
BEGIN:VEVENT
DTSTART;TZID=America/New_York:20231008T193000
DTEND;TZID=America/New_York:20231008T210000
DTSTAMP:20260422T182450
CREATED:20190310T184702Z
LAST-MODIFIED:20220704T145322Z
UID:10000551-1696793400-1696798800@waverlychurch.org
SUMMARY:Alcoholics Anonymous
DESCRIPTION:The Frick Park Group of Alcoholics Anonymous is holding in-person meetings in the Social Hall. \nAdditional links for AA groups are posted online at the AA Central Office.\nhttps://www.pghaa.org/
URL:https://waverlychurch.org/event/aa-2020-03-22-2021-07-04/2023-10-08/
LOCATION:Social Hall
END:VEVENT
BEGIN:VEVENT
DTSTART;TZID=America/New_York:20231010T190000
DTEND;TZID=America/New_York:20231010T193000
DTSTAMP:20260422T182450
CREATED:20210711T201005Z
LAST-MODIFIED:20220704T150145Z
UID:10000200-1696964400-1696966200@waverlychurch.org
SUMMARY:Al-Anon [Beginners' Meeting]
DESCRIPTION:The Frick Park Al-Anon group may still be virtual. \nContact frickparkafg85[at]gmail.com with any questions.
URL:https://waverlychurch.org/event/al-anon-beginners-meeting-2022-01-04-2022-04-05/2023-10-10/
LOCATION:Social Hall
END:VEVENT
BEGIN:VEVENT
DTSTART;TZID=UTC:20231010T193000
DTEND;TZID=UTC:20231010T203000
DTSTAMP:20260422T182450
CREATED:20190310T185001Z
LAST-MODIFIED:20220331T225559Z
UID:10002429-1696966200-1696969800@waverlychurch.org
SUMMARY:Al-Anon
DESCRIPTION:The Frick Park Al-Anon is holding in-person meetings in the Social Hall. \nContact frickparkafg85[at]gmail.com with any questions.
URL:https://waverlychurch.org/event/al-anon-2020-03-24-2021-07-06-2021-07-13/2023-10-10/
END:VEVENT
BEGIN:VEVENT
DTSTART;TZID=America/New_York:20231012T090000
DTEND;TZID=America/New_York:20231012T100000
DTSTAMP:20260422T182450
CREATED:20230821T174336Z
LAST-MODIFIED:20230821T174336Z
UID:10005923-1697101200-1697104800@waverlychurch.org
SUMMARY:Five Element Qigong Class
DESCRIPTION:Qigong is a practice that encourages the circulation of “qi” or life energy. In this class we will utilize gentle movements and stretching\, acupressure\, breath awareness and visualization to encourage the flow of qi. \nBased in Taoist Five Element Theory\, this style of qigong highlights the dynamic relationship between yin (organizing\, receptive\, cooling) and yang (animating\, expressive\, warming). \nThrough persistent effort we can strengthen our connection to the rhythms of nature and optimize our functionality. \n$40 for a six-week session. This practice requires no props and can be enjoyed standing or seated in a chair. Contact laurakbudde@gmail.com to register.
URL:https://waverlychurch.org/event/five-element-qigong-class/2023-10-12/
LOCATION:Social Hall
END:VEVENT
BEGIN:VEVENT
DTSTART;TZID=America/New_York:20231012T103000
DTEND;TZID=America/New_York:20231012T113000
DTSTAMP:20260422T182450
CREATED:20230821T174744Z
LAST-MODIFIED:20230821T174744Z
UID:10005945-1697106600-1697110200@waverlychurch.org
SUMMARY:Yoga
DESCRIPTION:Nurture a meaningful yoga practice that promotes a balanced body and mind. \nClasses incorporate gentle and hatha yoga with strengthening and restorative postures. Sequencing and anatomical awareness is structured to increase enjoyment and accessibility. \nWhether you have an established yoga practice or are interested in trying it out for the first time you will be encouraged to listen to your body\, and make adjustments that speak to your experience. \nThis class requires a yoga mat and a towel or blanket\, with yoga blocks and a strap highly suggested. \n$40 for a six-week session. Contact laurakbudde@gmail.com to register.
URL:https://waverlychurch.org/event/yoga/2023-10-12/
END:VEVENT
BEGIN:VEVENT
DTSTART;TZID=America/New_York:20231013T103000
DTEND;TZID=America/New_York:20231013T113000
DTSTAMP:20260422T182450
CREATED:20230821T174554Z
LAST-MODIFIED:20230821T175211Z
UID:10005933-1697193000-1697196600@waverlychurch.org
SUMMARY:Tai Chi for Health Part I
DESCRIPTION:Learn or return to Tai Chi for Health Part 1! This tai chi form focuses on posture and stability while enhancing the connection between the brain and the body. \nNew movements will be added each class as we explore concepts of tai chi practice and enjoy performing this moving meditation. \nThis class requires no props but does require standing.  \nThe full form will be taught over the course of two six-week sessions. Regular attendance and practice at home is necessary to learn and benefit from tai chi. \n$40 for a six-week session. Contact laurakbudde@gmail.com to register.
URL:https://waverlychurch.org/event/tai-chi-for-health-part-i/2023-10-13/
END:VEVENT
BEGIN:VEVENT
DTSTART;TZID=UTC:20231014T090000
DTEND;TZID=UTC:20231014T102000
DTSTAMP:20260422T182450
CREATED:20190310T191142Z
LAST-MODIFIED:20230830T175415Z
UID:10001322-1697274000-1697278800@waverlychurch.org
SUMMARY:Narcotics Anonymous
DESCRIPTION:Narcotics Anonymous is holding in-person meetings in the Social Hall.
URL:https://waverlychurch.org/event/na-2020-03-21-2021-07-10/2023-10-14/
END:VEVENT
BEGIN:VEVENT
DTSTART;TZID=America/New_York:20231015T100000
DTEND;TZID=America/New_York:20231015T105500
DTSTAMP:20260422T182450
CREATED:20230830T170506Z
LAST-MODIFIED:20231113T180304Z
UID:10005986-1697364000-1697367300@waverlychurch.org
SUMMARY:Sunday School
DESCRIPTION:All ages are welcome to join us each week for Sunday School in the following locations: \nChildren up through 1st grade: nursery (downstairs\, right side of front entrance – ring bell to enter) \nChildren in 2nd-5th grade: the “Frog Pond” – room off of our lower floor social hall \nYouth in 6th-12th grade” the “Wonka Room” – room off of our lower floor social hall \nAdults: lounge (upstairs in back of church)
URL:https://waverlychurch.org/event/sunday-school-3/2023-10-15/
END:VEVENT
BEGIN:VEVENT
DTSTART;TZID=America/New_York:20231015T110000
DTEND;TZID=America/New_York:20231015T121500
DTSTAMP:20260422T182450
CREATED:20230830T170132Z
LAST-MODIFIED:20230830T170527Z
UID:10006245-1697367600-1697372100@waverlychurch.org
SUMMARY:Worship Service
DESCRIPTION:We meet on Sundays in our Sanctuary at 11am during the school year and stream services online. \nSunday’s worship service will be live-streamed over our Facebook page on Sunday mornings. \n \nhttps://www.facebook.com/pg/WaverlyChurch/videos/
URL:https://waverlychurch.org/event/worship-2/2023-10-15/
LOCATION:Sanctuary
END:VEVENT
BEGIN:VEVENT
DTSTART;TZID=America/New_York:20231015T121500
DTEND;TZID=America/New_York:20231015T133000
DTSTAMP:20260422T182450
CREATED:20230903T190321Z
LAST-MODIFIED:20231113T180559Z
UID:10006530-1697372100-1697376600@waverlychurch.org
SUMMARY:Coffee Hour
DESCRIPTION:Join us after service weekly for a chance to share fellowship over coffee and snacks
URL:https://waverlychurch.org/event/coffee-hour-3/2023-10-15/
LOCATION:Lounge
END:VEVENT
BEGIN:VEVENT
DTSTART;TZID=America/New_York:20231015T193000
DTEND;TZID=America/New_York:20231015T210000
DTSTAMP:20260422T182450
CREATED:20190310T184702Z
LAST-MODIFIED:20220704T145322Z
UID:10000552-1697398200-1697403600@waverlychurch.org
SUMMARY:Alcoholics Anonymous
DESCRIPTION:The Frick Park Group of Alcoholics Anonymous is holding in-person meetings in the Social Hall. \nAdditional links for AA groups are posted online at the AA Central Office.\nhttps://www.pghaa.org/
URL:https://waverlychurch.org/event/aa-2020-03-22-2021-07-04/2023-10-15/
LOCATION:Social Hall
END:VEVENT
BEGIN:VEVENT
DTSTART;TZID=America/New_York:20231017T190000
DTEND;TZID=America/New_York:20231017T193000
DTSTAMP:20260422T182450
CREATED:20210711T201005Z
LAST-MODIFIED:20220704T150145Z
UID:10000201-1697569200-1697571000@waverlychurch.org
SUMMARY:Al-Anon [Beginners' Meeting]
DESCRIPTION:The Frick Park Al-Anon group may still be virtual. \nContact frickparkafg85[at]gmail.com with any questions.
URL:https://waverlychurch.org/event/al-anon-beginners-meeting-2022-01-04-2022-04-05/2023-10-17/
LOCATION:Social Hall
END:VEVENT
BEGIN:VEVENT
DTSTART;TZID=UTC:20231017T193000
DTEND;TZID=UTC:20231017T203000
DTSTAMP:20260422T182450
CREATED:20190310T185001Z
LAST-MODIFIED:20220331T225559Z
UID:10002430-1697571000-1697574600@waverlychurch.org
SUMMARY:Al-Anon
DESCRIPTION:The Frick Park Al-Anon is holding in-person meetings in the Social Hall. \nContact frickparkafg85[at]gmail.com with any questions.
URL:https://waverlychurch.org/event/al-anon-2020-03-24-2021-07-06-2021-07-13/2023-10-17/
END:VEVENT
BEGIN:VEVENT
DTSTART;TZID=America/New_York:20231019T090000
DTEND;TZID=America/New_York:20231019T100000
DTSTAMP:20260422T182450
CREATED:20230821T174336Z
LAST-MODIFIED:20230821T174336Z
UID:10005924-1697706000-1697709600@waverlychurch.org
SUMMARY:Five Element Qigong Class
DESCRIPTION:Qigong is a practice that encourages the circulation of “qi” or life energy. In this class we will utilize gentle movements and stretching\, acupressure\, breath awareness and visualization to encourage the flow of qi. \nBased in Taoist Five Element Theory\, this style of qigong highlights the dynamic relationship between yin (organizing\, receptive\, cooling) and yang (animating\, expressive\, warming). \nThrough persistent effort we can strengthen our connection to the rhythms of nature and optimize our functionality. \n$40 for a six-week session. This practice requires no props and can be enjoyed standing or seated in a chair. Contact laurakbudde@gmail.com to register.
URL:https://waverlychurch.org/event/five-element-qigong-class/2023-10-19/
LOCATION:Social Hall
END:VEVENT
BEGIN:VEVENT
DTSTART;TZID=America/New_York:20231019T103000
DTEND;TZID=America/New_York:20231019T113000
DTSTAMP:20260422T182450
CREATED:20230821T174744Z
LAST-MODIFIED:20230821T174744Z
UID:10005946-1697711400-1697715000@waverlychurch.org
SUMMARY:Yoga
DESCRIPTION:Nurture a meaningful yoga practice that promotes a balanced body and mind. \nClasses incorporate gentle and hatha yoga with strengthening and restorative postures. Sequencing and anatomical awareness is structured to increase enjoyment and accessibility. \nWhether you have an established yoga practice or are interested in trying it out for the first time you will be encouraged to listen to your body\, and make adjustments that speak to your experience. \nThis class requires a yoga mat and a towel or blanket\, with yoga blocks and a strap highly suggested. \n$40 for a six-week session. Contact laurakbudde@gmail.com to register.
URL:https://waverlychurch.org/event/yoga/2023-10-19/
END:VEVENT
BEGIN:VEVENT
DTSTART;TZID=America/New_York:20231020T103000
DTEND;TZID=America/New_York:20231020T113000
DTSTAMP:20260422T182450
CREATED:20230821T174554Z
LAST-MODIFIED:20230821T175211Z
UID:10005934-1697797800-1697801400@waverlychurch.org
SUMMARY:Tai Chi for Health Part I
DESCRIPTION:Learn or return to Tai Chi for Health Part 1! This tai chi form focuses on posture and stability while enhancing the connection between the brain and the body. \nNew movements will be added each class as we explore concepts of tai chi practice and enjoy performing this moving meditation. \nThis class requires no props but does require standing.  \nThe full form will be taught over the course of two six-week sessions. Regular attendance and practice at home is necessary to learn and benefit from tai chi. \n$40 for a six-week session. Contact laurakbudde@gmail.com to register.
URL:https://waverlychurch.org/event/tai-chi-for-health-part-i/2023-10-20/
END:VEVENT
BEGIN:VEVENT
DTSTART;TZID=UTC:20231021T090000
DTEND;TZID=UTC:20231021T102000
DTSTAMP:20260422T182450
CREATED:20190310T191142Z
LAST-MODIFIED:20230830T175415Z
UID:10001323-1697878800-1697883600@waverlychurch.org
SUMMARY:Narcotics Anonymous
DESCRIPTION:Narcotics Anonymous is holding in-person meetings in the Social Hall.
URL:https://waverlychurch.org/event/na-2020-03-21-2021-07-10/2023-10-21/
END:VEVENT
BEGIN:VEVENT
DTSTART;TZID=America/New_York:20231022T100000
DTEND;TZID=America/New_York:20231022T105500
DTSTAMP:20260422T182450
CREATED:20230830T170506Z
LAST-MODIFIED:20231113T180304Z
UID:10005987-1697968800-1697972100@waverlychurch.org
SUMMARY:Sunday School
DESCRIPTION:All ages are welcome to join us each week for Sunday School in the following locations: \nChildren up through 1st grade: nursery (downstairs\, right side of front entrance – ring bell to enter) \nChildren in 2nd-5th grade: the “Frog Pond” – room off of our lower floor social hall \nYouth in 6th-12th grade” the “Wonka Room” – room off of our lower floor social hall \nAdults: lounge (upstairs in back of church)
URL:https://waverlychurch.org/event/sunday-school-3/2023-10-22/
END:VEVENT
BEGIN:VEVENT
DTSTART;TZID=America/New_York:20231022T110000
DTEND;TZID=America/New_York:20231022T121500
DTSTAMP:20260422T182450
CREATED:20230830T170132Z
LAST-MODIFIED:20230830T170527Z
UID:10006246-1697972400-1697976900@waverlychurch.org
SUMMARY:Worship Service
DESCRIPTION:We meet on Sundays in our Sanctuary at 11am during the school year and stream services online. \nSunday’s worship service will be live-streamed over our Facebook page on Sunday mornings. \n \nhttps://www.facebook.com/pg/WaverlyChurch/videos/
URL:https://waverlychurch.org/event/worship-2/2023-10-22/
LOCATION:Sanctuary
END:VEVENT
BEGIN:VEVENT
DTSTART;TZID=America/New_York:20231022T121500
DTEND;TZID=America/New_York:20231022T133000
DTSTAMP:20260422T182450
CREATED:20230903T190321Z
LAST-MODIFIED:20231113T180559Z
UID:10006531-1697976900-1697981400@waverlychurch.org
SUMMARY:Coffee Hour
DESCRIPTION:Join us after service weekly for a chance to share fellowship over coffee and snacks
URL:https://waverlychurch.org/event/coffee-hour-3/2023-10-22/
LOCATION:Lounge
END:VEVENT
BEGIN:VEVENT
DTSTART;TZID=America/New_York:20231022T193000
DTEND;TZID=America/New_York:20231022T210000
DTSTAMP:20260422T182450
CREATED:20190310T184702Z
LAST-MODIFIED:20220704T145322Z
UID:10000553-1698003000-1698008400@waverlychurch.org
SUMMARY:Alcoholics Anonymous
DESCRIPTION:The Frick Park Group of Alcoholics Anonymous is holding in-person meetings in the Social Hall. \nAdditional links for AA groups are posted online at the AA Central Office.\nhttps://www.pghaa.org/
URL:https://waverlychurch.org/event/aa-2020-03-22-2021-07-04/2023-10-22/
LOCATION:Social Hall
END:VEVENT
BEGIN:VEVENT
DTSTART;TZID=America/New_York:20231024T190000
DTEND;TZID=America/New_York:20231024T193000
DTSTAMP:20260422T182450
CREATED:20210711T201005Z
LAST-MODIFIED:20220704T150145Z
UID:10000202-1698174000-1698175800@waverlychurch.org
SUMMARY:Al-Anon [Beginners' Meeting]
DESCRIPTION:The Frick Park Al-Anon group may still be virtual. \nContact frickparkafg85[at]gmail.com with any questions.
URL:https://waverlychurch.org/event/al-anon-beginners-meeting-2022-01-04-2022-04-05/2023-10-24/
LOCATION:Social Hall
END:VEVENT
BEGIN:VEVENT
DTSTART;TZID=UTC:20231024T193000
DTEND;TZID=UTC:20231024T203000
DTSTAMP:20260422T182450
CREATED:20190310T185001Z
LAST-MODIFIED:20220331T225559Z
UID:10002431-1698175800-1698179400@waverlychurch.org
SUMMARY:Al-Anon
DESCRIPTION:The Frick Park Al-Anon is holding in-person meetings in the Social Hall. \nContact frickparkafg85[at]gmail.com with any questions.
URL:https://waverlychurch.org/event/al-anon-2020-03-24-2021-07-06-2021-07-13/2023-10-24/
END:VEVENT
BEGIN:VEVENT
DTSTART;TZID=America/New_York:20231028T090000
DTEND;TZID=America/New_York:20231028T130000
DTSTAMP:20260422T182450
CREATED:20231003T205540Z
LAST-MODIFIED:20231003T205540Z
UID:10006878-1698483600-1698498000@waverlychurch.org
SUMMARY:Work Day
DESCRIPTION:All welcome to help us spruce up the space for the season!
URL:https://waverlychurch.org/event/work-day-2/
END:VEVENT
BEGIN:VEVENT
DTSTART;TZID=America/New_York:20231028T190000
DTEND;TZID=America/New_York:20231028T203000
DTSTAMP:20260422T182450
CREATED:20231003T205714Z
LAST-MODIFIED:20231003T205806Z
UID:10006879-1698519600-1698525000@waverlychurch.org
SUMMARY:Fundraising Concert
DESCRIPTION:In This Heart concert with performances by the East Shore Chorale and snacks from Waverly Presbyterian Church. Donations will be split between the two organizations.
URL:https://waverlychurch.org/event/fundraising-concert/
LOCATION:Sanctuary
END:VEVENT
END:VCALENDAR