BEGIN:VCALENDAR
VERSION:2.0
PRODID:-//Waverly Presbyterian Church - ECPv6.15.20//NONSGML v1.0//EN
CALSCALE:GREGORIAN
METHOD:PUBLISH
X-ORIGINAL-URL:https://waverlychurch.org
X-WR-CALDESC:Events for Waverly Presbyterian Church
REFRESH-INTERVAL;VALUE=DURATION:PT1H
X-Robots-Tag:noindex
X-PUBLISHED-TTL:PT1H
BEGIN:VTIMEZONE
TZID:America/New_York
BEGIN:DAYLIGHT
TZOFFSETFROM:-0500
TZOFFSETTO:-0400
TZNAME:EDT
DTSTART:20250309T070000
END:DAYLIGHT
BEGIN:STANDARD
TZOFFSETFROM:-0400
TZOFFSETTO:-0500
TZNAME:EST
DTSTART:20251102T060000
END:STANDARD
BEGIN:DAYLIGHT
TZOFFSETFROM:-0500
TZOFFSETTO:-0400
TZNAME:EDT
DTSTART:20260308T070000
END:DAYLIGHT
BEGIN:STANDARD
TZOFFSETFROM:-0400
TZOFFSETTO:-0500
TZNAME:EST
DTSTART:20261101T060000
END:STANDARD
BEGIN:DAYLIGHT
TZOFFSETFROM:-0500
TZOFFSETTO:-0400
TZNAME:EDT
DTSTART:20270314T070000
END:DAYLIGHT
BEGIN:STANDARD
TZOFFSETFROM:-0400
TZOFFSETTO:-0500
TZNAME:EST
DTSTART:20271107T060000
END:STANDARD
END:VTIMEZONE
BEGIN:VTIMEZONE
TZID:UTC
BEGIN:STANDARD
TZOFFSETFROM:+0000
TZOFFSETTO:+0000
TZNAME:UTC
DTSTART:20250101T000000
END:STANDARD
END:VTIMEZONE
BEGIN:VEVENT
DTSTART;TZID=America/New_York:20261207T090000
DTEND;TZID=America/New_York:20261207T200000
DTSTAMP:20260420T030420
CREATED:20251030T152456Z
LAST-MODIFIED:20251030T152456Z
UID:10131838-1796634000-1796673600@waverlychurch.org
SUMMARY:Guitar Lessons
DESCRIPTION:ian@cainsmusiclessons.com
URL:https://waverlychurch.org/event/guitar-lessons/2026-12-07/
LOCATION:Frog Room
END:VEVENT
BEGIN:VEVENT
DTSTART;TZID=America/New_York:20261208T190000
DTEND;TZID=America/New_York:20261208T193000
DTSTAMP:20260420T030420
CREATED:20210711T201005Z
LAST-MODIFIED:20220704T150145Z
UID:10000365-1796756400-1796758200@waverlychurch.org
SUMMARY:Al-Anon [Beginners' Meeting]
DESCRIPTION:The Frick Park Al-Anon group may still be virtual. \nContact frickparkafg85[at]gmail.com with any questions.
URL:https://waverlychurch.org/event/al-anon-beginners-meeting-2022-01-04-2022-04-05/2026-12-08/
LOCATION:Social Hall
END:VEVENT
BEGIN:VEVENT
DTSTART;TZID=UTC:20261208T193000
DTEND;TZID=UTC:20261208T203000
DTSTAMP:20260420T030420
CREATED:20190310T185001Z
LAST-MODIFIED:20220331T225559Z
UID:10002594-1796758200-1796761800@waverlychurch.org
SUMMARY:Al-Anon
DESCRIPTION:The Frick Park Al-Anon is holding in-person meetings in the Social Hall. \nContact frickparkafg85[at]gmail.com with any questions.
URL:https://waverlychurch.org/event/al-anon-2020-03-24-2021-07-06-2021-07-13/2026-12-08/
END:VEVENT
BEGIN:VEVENT
DTSTART;TZID=America/New_York:20261209T090000
DTEND;TZID=America/New_York:20261209T200000
DTSTAMP:20260420T030420
CREATED:20251030T152456Z
LAST-MODIFIED:20251030T152456Z
UID:10131839-1796806800-1796846400@waverlychurch.org
SUMMARY:Guitar Lessons
DESCRIPTION:ian@cainsmusiclessons.com
URL:https://waverlychurch.org/event/guitar-lessons/2026-12-09/
LOCATION:Frog Room
END:VEVENT
BEGIN:VEVENT
DTSTART;TZID=America/New_York:20261210T190000
DTEND;TZID=America/New_York:20261210T203000
DTSTAMP:20260420T030420
CREATED:20251125T183555Z
LAST-MODIFIED:20251125T183747Z
UID:10132387-1796929200-1796934600@waverlychurch.org
SUMMARY:Choir Rehearsal in Lounge
DESCRIPTION:
URL:https://waverlychurch.org/event/choir-rehearsal-in-lounge/2026-12-10/
LOCATION:Lounge
END:VEVENT
BEGIN:VEVENT
DTSTART;TZID=America/New_York:20261213T093000
DTEND;TZID=America/New_York:20261213T100000
DTSTAMP:20260420T030420
CREATED:20251125T184126Z
LAST-MODIFIED:20251125T184126Z
UID:10132648-1797154200-1797156000@waverlychurch.org
SUMMARY:Choir Rehearsal in Sanctuary
DESCRIPTION:
URL:https://waverlychurch.org/event/choir-rehearsal-in-sanctuary/2026-12-13/
END:VEVENT
BEGIN:VEVENT
DTSTART;TZID=America/New_York:20261213T100000
DTEND;TZID=America/New_York:20261213T105500
DTSTAMP:20260420T030420
CREATED:20260305T170350Z
LAST-MODIFIED:20260305T170351Z
UID:10007211-1797156000-1797159300@waverlychurch.org
SUMMARY:Sunday School
DESCRIPTION:All ages are welcome to join us each week for Sunday School in the following locations: \nChildren up through 1st grade: nursery (downstairs\, right side of front entrance – ring bell to enter) \nChildren and Youth 2nd grade through 12th grade in the “Wonka Room” – room off of our lower floor Social Hall. \nAdults: lounge (upstairs in back of church)
URL:https://waverlychurch.org/event/sunday-school-3-2-2-2-2-2-2-2/2026-12-13/
END:VEVENT
BEGIN:VEVENT
DTSTART;TZID=America/New_York:20261213T110000
DTEND;TZID=America/New_York:20261213T121500
DTSTAMP:20260420T030420
CREATED:20250923T171614Z
LAST-MODIFIED:20250923T171615Z
UID:10007779-1797159600-1797164100@waverlychurch.org
SUMMARY:Worship Service
DESCRIPTION:We meet on Sundays in our Sanctuary at 11am during the school year and stream services online. \nSunday’s worship service will be live-streamed over our Facebook page on Sunday mornings. \n \nhttps://www.facebook.com/pg/WaverlyChurch/videos/
URL:https://waverlychurch.org/event/worship-service-5-2-2/2026-12-13/
END:VEVENT
BEGIN:VEVENT
DTSTART;TZID=America/New_York:20261213T121500
DTEND;TZID=America/New_York:20261213T133000
DTSTAMP:20260420T030420
CREATED:20260305T165302Z
LAST-MODIFIED:20260305T170242Z
UID:10006695-1797164100-1797168600@waverlychurch.org
SUMMARY:Coffee Hour
DESCRIPTION:Join us after service weekly for a chance to share fellowship over coffee and snacks
URL:https://waverlychurch.org/event/coffee-hour-3-2-2-2-2-2/2026-12-13/
LOCATION:Lounge
END:VEVENT
BEGIN:VEVENT
DTSTART;TZID=America/New_York:20261213T193000
DTEND;TZID=America/New_York:20261213T210000
DTSTAMP:20260420T030420
CREATED:20190310T184702Z
LAST-MODIFIED:20220704T145322Z
UID:10000717-1797190200-1797195600@waverlychurch.org
SUMMARY:Alcoholics Anonymous
DESCRIPTION:The Frick Park Group of Alcoholics Anonymous is holding in-person meetings in the Social Hall. \nAdditional links for AA groups are posted online at the AA Central Office.\nhttps://www.pghaa.org/
URL:https://waverlychurch.org/event/aa-2020-03-22-2021-07-04/2026-12-13/
LOCATION:Social Hall
END:VEVENT
BEGIN:VEVENT
DTSTART;TZID=America/New_York:20261214T090000
DTEND;TZID=America/New_York:20261214T200000
DTSTAMP:20260420T030420
CREATED:20251030T152456Z
LAST-MODIFIED:20251030T152456Z
UID:10131840-1797238800-1797278400@waverlychurch.org
SUMMARY:Guitar Lessons
DESCRIPTION:ian@cainsmusiclessons.com
URL:https://waverlychurch.org/event/guitar-lessons/2026-12-14/
LOCATION:Frog Room
END:VEVENT
BEGIN:VEVENT
DTSTART;TZID=America/New_York:20261214T190000
DTEND;TZID=America/New_York:20261214T203000
DTSTAMP:20260420T030420
CREATED:20251125T185647Z
LAST-MODIFIED:20251125T185647Z
UID:10132927-1797274800-1797280200@waverlychurch.org
SUMMARY:Amnesty Meeting-Social Hall
DESCRIPTION:
URL:https://waverlychurch.org/event/amnesty-meeting-social-hall/2026-12-14/
END:VEVENT
BEGIN:VEVENT
DTSTART;TZID=America/New_York:20261215T190000
DTEND;TZID=America/New_York:20261215T193000
DTSTAMP:20260420T030420
CREATED:20210711T201005Z
LAST-MODIFIED:20220704T150145Z
UID:10000366-1797361200-1797363000@waverlychurch.org
SUMMARY:Al-Anon [Beginners' Meeting]
DESCRIPTION:The Frick Park Al-Anon group may still be virtual. \nContact frickparkafg85[at]gmail.com with any questions.
URL:https://waverlychurch.org/event/al-anon-beginners-meeting-2022-01-04-2022-04-05/2026-12-15/
LOCATION:Social Hall
END:VEVENT
BEGIN:VEVENT
DTSTART;TZID=UTC:20261215T193000
DTEND;TZID=UTC:20261215T203000
DTSTAMP:20260420T030420
CREATED:20190310T185001Z
LAST-MODIFIED:20220331T225559Z
UID:10002595-1797363000-1797366600@waverlychurch.org
SUMMARY:Al-Anon
DESCRIPTION:The Frick Park Al-Anon is holding in-person meetings in the Social Hall. \nContact frickparkafg85[at]gmail.com with any questions.
URL:https://waverlychurch.org/event/al-anon-2020-03-24-2021-07-06-2021-07-13/2026-12-15/
END:VEVENT
BEGIN:VEVENT
DTSTART;TZID=America/New_York:20261216T090000
DTEND;TZID=America/New_York:20261216T200000
DTSTAMP:20260420T030420
CREATED:20251030T152456Z
LAST-MODIFIED:20251030T152456Z
UID:10131841-1797411600-1797451200@waverlychurch.org
SUMMARY:Guitar Lessons
DESCRIPTION:ian@cainsmusiclessons.com
URL:https://waverlychurch.org/event/guitar-lessons/2026-12-16/
LOCATION:Frog Room
END:VEVENT
BEGIN:VEVENT
DTSTART;TZID=America/New_York:20261217T190000
DTEND;TZID=America/New_York:20261217T203000
DTSTAMP:20260420T030420
CREATED:20251125T183555Z
LAST-MODIFIED:20251125T183747Z
UID:10132388-1797534000-1797539400@waverlychurch.org
SUMMARY:Choir Rehearsal in Lounge
DESCRIPTION:
URL:https://waverlychurch.org/event/choir-rehearsal-in-lounge/2026-12-17/
LOCATION:Lounge
END:VEVENT
BEGIN:VEVENT
DTSTART;TZID=America/New_York:20261220T093000
DTEND;TZID=America/New_York:20261220T100000
DTSTAMP:20260420T030420
CREATED:20251125T184126Z
LAST-MODIFIED:20251125T184126Z
UID:10132649-1797759000-1797760800@waverlychurch.org
SUMMARY:Choir Rehearsal in Sanctuary
DESCRIPTION:
URL:https://waverlychurch.org/event/choir-rehearsal-in-sanctuary/2026-12-20/
END:VEVENT
BEGIN:VEVENT
DTSTART;TZID=America/New_York:20261220T100000
DTEND;TZID=America/New_York:20261220T105500
DTSTAMP:20260420T030420
CREATED:20260305T170350Z
LAST-MODIFIED:20260305T170351Z
UID:10007212-1797760800-1797764100@waverlychurch.org
SUMMARY:Sunday School
DESCRIPTION:All ages are welcome to join us each week for Sunday School in the following locations: \nChildren up through 1st grade: nursery (downstairs\, right side of front entrance – ring bell to enter) \nChildren and Youth 2nd grade through 12th grade in the “Wonka Room” – room off of our lower floor Social Hall. \nAdults: lounge (upstairs in back of church)
URL:https://waverlychurch.org/event/sunday-school-3-2-2-2-2-2-2-2/2026-12-20/
END:VEVENT
BEGIN:VEVENT
DTSTART;TZID=America/New_York:20261220T110000
DTEND;TZID=America/New_York:20261220T121500
DTSTAMP:20260420T030420
CREATED:20250923T171614Z
LAST-MODIFIED:20250923T171615Z
UID:10007780-1797764400-1797768900@waverlychurch.org
SUMMARY:Worship Service
DESCRIPTION:We meet on Sundays in our Sanctuary at 11am during the school year and stream services online. \nSunday’s worship service will be live-streamed over our Facebook page on Sunday mornings. \n \nhttps://www.facebook.com/pg/WaverlyChurch/videos/
URL:https://waverlychurch.org/event/worship-service-5-2-2/2026-12-20/
END:VEVENT
BEGIN:VEVENT
DTSTART;TZID=America/New_York:20261220T121500
DTEND;TZID=America/New_York:20261220T133000
DTSTAMP:20260420T030420
CREATED:20260305T165302Z
LAST-MODIFIED:20260305T170242Z
UID:10006696-1797768900-1797773400@waverlychurch.org
SUMMARY:Coffee Hour
DESCRIPTION:Join us after service weekly for a chance to share fellowship over coffee and snacks
URL:https://waverlychurch.org/event/coffee-hour-3-2-2-2-2-2/2026-12-20/
LOCATION:Lounge
END:VEVENT
BEGIN:VEVENT
DTSTART;TZID=America/New_York:20261220T193000
DTEND;TZID=America/New_York:20261220T210000
DTSTAMP:20260420T030421
CREATED:20190310T184702Z
LAST-MODIFIED:20220704T145322Z
UID:10000718-1797795000-1797800400@waverlychurch.org
SUMMARY:Alcoholics Anonymous
DESCRIPTION:The Frick Park Group of Alcoholics Anonymous is holding in-person meetings in the Social Hall. \nAdditional links for AA groups are posted online at the AA Central Office.\nhttps://www.pghaa.org/
URL:https://waverlychurch.org/event/aa-2020-03-22-2021-07-04/2026-12-20/
LOCATION:Social Hall
END:VEVENT
BEGIN:VEVENT
DTSTART;TZID=America/New_York:20261221T090000
DTEND;TZID=America/New_York:20261221T200000
DTSTAMP:20260420T030421
CREATED:20251030T152456Z
LAST-MODIFIED:20251030T152456Z
UID:10131842-1797843600-1797883200@waverlychurch.org
SUMMARY:Guitar Lessons
DESCRIPTION:ian@cainsmusiclessons.com
URL:https://waverlychurch.org/event/guitar-lessons/2026-12-21/
LOCATION:Frog Room
END:VEVENT
BEGIN:VEVENT
DTSTART;TZID=America/New_York:20261222T190000
DTEND;TZID=America/New_York:20261222T193000
DTSTAMP:20260420T030421
CREATED:20210711T201005Z
LAST-MODIFIED:20220704T150145Z
UID:10000367-1797966000-1797967800@waverlychurch.org
SUMMARY:Al-Anon [Beginners' Meeting]
DESCRIPTION:The Frick Park Al-Anon group may still be virtual. \nContact frickparkafg85[at]gmail.com with any questions.
URL:https://waverlychurch.org/event/al-anon-beginners-meeting-2022-01-04-2022-04-05/2026-12-22/
LOCATION:Social Hall
END:VEVENT
BEGIN:VEVENT
DTSTART;TZID=UTC:20261222T193000
DTEND;TZID=UTC:20261222T203000
DTSTAMP:20260420T030421
CREATED:20190310T185001Z
LAST-MODIFIED:20220331T225559Z
UID:10002596-1797967800-1797971400@waverlychurch.org
SUMMARY:Al-Anon
DESCRIPTION:The Frick Park Al-Anon is holding in-person meetings in the Social Hall. \nContact frickparkafg85[at]gmail.com with any questions.
URL:https://waverlychurch.org/event/al-anon-2020-03-24-2021-07-06-2021-07-13/2026-12-22/
END:VEVENT
BEGIN:VEVENT
DTSTART;TZID=America/New_York:20261223T090000
DTEND;TZID=America/New_York:20261223T200000
DTSTAMP:20260420T030421
CREATED:20251030T152456Z
LAST-MODIFIED:20251030T152456Z
UID:10131843-1798016400-1798056000@waverlychurch.org
SUMMARY:Guitar Lessons
DESCRIPTION:ian@cainsmusiclessons.com
URL:https://waverlychurch.org/event/guitar-lessons/2026-12-23/
LOCATION:Frog Room
END:VEVENT
BEGIN:VEVENT
DTSTART;TZID=America/New_York:20261224T103000
DTEND;TZID=America/New_York:20261224T140000
DTSTAMP:20260420T030421
CREATED:20260324T153601Z
LAST-MODIFIED:20260324T153603Z
UID:10133075-1798108200-1798120800@waverlychurch.org
SUMMARY:Reiki with Bob Dove and Ross Marshall
DESCRIPTION:
URL:https://waverlychurch.org/event/reiki-with-bob-dove-and-ross-marshall-2-2/2026-12-24/
LOCATION:Social Hall
END:VEVENT
BEGIN:VEVENT
DTSTART;TZID=America/New_York:20261224T190000
DTEND;TZID=America/New_York:20261224T203000
DTSTAMP:20260420T030421
CREATED:20251125T183555Z
LAST-MODIFIED:20251125T183747Z
UID:10132389-1798138800-1798144200@waverlychurch.org
SUMMARY:Choir Rehearsal in Lounge
DESCRIPTION:
URL:https://waverlychurch.org/event/choir-rehearsal-in-lounge/2026-12-24/
LOCATION:Lounge
END:VEVENT
BEGIN:VEVENT
DTSTART;TZID=America/New_York:20261227T093000
DTEND;TZID=America/New_York:20261227T100000
DTSTAMP:20260420T030421
CREATED:20251125T184126Z
LAST-MODIFIED:20251125T184126Z
UID:10132650-1798363800-1798365600@waverlychurch.org
SUMMARY:Choir Rehearsal in Sanctuary
DESCRIPTION:
URL:https://waverlychurch.org/event/choir-rehearsal-in-sanctuary/2026-12-27/
END:VEVENT
BEGIN:VEVENT
DTSTART;TZID=America/New_York:20261227T100000
DTEND;TZID=America/New_York:20261227T105500
DTSTAMP:20260420T030421
CREATED:20260305T170350Z
LAST-MODIFIED:20260305T170351Z
UID:10007213-1798365600-1798368900@waverlychurch.org
SUMMARY:Sunday School
DESCRIPTION:All ages are welcome to join us each week for Sunday School in the following locations: \nChildren up through 1st grade: nursery (downstairs\, right side of front entrance – ring bell to enter) \nChildren and Youth 2nd grade through 12th grade in the “Wonka Room” – room off of our lower floor Social Hall. \nAdults: lounge (upstairs in back of church)
URL:https://waverlychurch.org/event/sunday-school-3-2-2-2-2-2-2-2/2026-12-27/
END:VEVENT
BEGIN:VEVENT
DTSTART;TZID=America/New_York:20261227T110000
DTEND;TZID=America/New_York:20261227T121500
DTSTAMP:20260420T030421
CREATED:20250923T171614Z
LAST-MODIFIED:20250923T171615Z
UID:10007781-1798369200-1798373700@waverlychurch.org
SUMMARY:Worship Service
DESCRIPTION:We meet on Sundays in our Sanctuary at 11am during the school year and stream services online. \nSunday’s worship service will be live-streamed over our Facebook page on Sunday mornings. \n \nhttps://www.facebook.com/pg/WaverlyChurch/videos/
URL:https://waverlychurch.org/event/worship-service-5-2-2/2026-12-27/
END:VEVENT
END:VCALENDAR