BEGIN:VCALENDAR
VERSION:2.0
PRODID:-//Waverly Presbyterian Church - ECPv6.15.20//NONSGML v1.0//EN
CALSCALE:GREGORIAN
METHOD:PUBLISH
X-ORIGINAL-URL:https://waverlychurch.org
X-WR-CALDESC:Events for Waverly Presbyterian Church
REFRESH-INTERVAL;VALUE=DURATION:PT1H
X-Robots-Tag:noindex
X-PUBLISHED-TTL:PT1H
BEGIN:VTIMEZONE
TZID:America/New_York
BEGIN:DAYLIGHT
TZOFFSETFROM:-0500
TZOFFSETTO:-0400
TZNAME:EDT
DTSTART:20260308T070000
END:DAYLIGHT
BEGIN:STANDARD
TZOFFSETFROM:-0400
TZOFFSETTO:-0500
TZNAME:EST
DTSTART:20261101T060000
END:STANDARD
BEGIN:DAYLIGHT
TZOFFSETFROM:-0500
TZOFFSETTO:-0400
TZNAME:EDT
DTSTART:20270314T070000
END:DAYLIGHT
BEGIN:STANDARD
TZOFFSETFROM:-0400
TZOFFSETTO:-0500
TZNAME:EST
DTSTART:20271107T060000
END:STANDARD
BEGIN:DAYLIGHT
TZOFFSETFROM:-0500
TZOFFSETTO:-0400
TZNAME:EDT
DTSTART:20280312T070000
END:DAYLIGHT
BEGIN:STANDARD
TZOFFSETFROM:-0400
TZOFFSETTO:-0500
TZNAME:EST
DTSTART:20281105T060000
END:STANDARD
END:VTIMEZONE
BEGIN:VTIMEZONE
TZID:UTC
BEGIN:STANDARD
TZOFFSETFROM:+0000
TZOFFSETTO:+0000
TZNAME:UTC
DTSTART:20260101T000000
END:STANDARD
END:VTIMEZONE
BEGIN:VEVENT
DTSTART;TZID=America/New_York:20270914T190000
DTEND;TZID=America/New_York:20270914T193000
DTSTAMP:20260420T194752
CREATED:20210711T201005Z
LAST-MODIFIED:20220704T150145Z
UID:10000405-1820948400-1820950200@waverlychurch.org
SUMMARY:Al-Anon [Beginners' Meeting]
DESCRIPTION:The Frick Park Al-Anon group may still be virtual. \nContact frickparkafg85[at]gmail.com with any questions.
URL:https://waverlychurch.org/event/al-anon-beginners-meeting-2022-01-04-2022-04-05/2027-09-14/
LOCATION:Social Hall
END:VEVENT
BEGIN:VEVENT
DTSTART;TZID=UTC:20270914T193000
DTEND;TZID=UTC:20270914T203000
DTSTAMP:20260420T194752
CREATED:20190310T185001Z
LAST-MODIFIED:20220331T225559Z
UID:10002634-1820950200-1820953800@waverlychurch.org
SUMMARY:Al-Anon
DESCRIPTION:The Frick Park Al-Anon is holding in-person meetings in the Social Hall. \nContact frickparkafg85[at]gmail.com with any questions.
URL:https://waverlychurch.org/event/al-anon-2020-03-24-2021-07-06-2021-07-13/2027-09-14/
END:VEVENT
BEGIN:VEVENT
DTSTART;TZID=America/New_York:20270915T090000
DTEND;TZID=America/New_York:20270915T200000
DTSTAMP:20260420T194752
CREATED:20251030T152456Z
LAST-MODIFIED:20251030T152456Z
UID:10131919-1820998800-1821038400@waverlychurch.org
SUMMARY:Guitar Lessons
DESCRIPTION:ian@cainsmusiclessons.com
URL:https://waverlychurch.org/event/guitar-lessons/2027-09-15/
LOCATION:Frog Room
END:VEVENT
BEGIN:VEVENT
DTSTART;TZID=America/New_York:20270916T190000
DTEND;TZID=America/New_York:20270916T203000
DTSTAMP:20260420T194752
CREATED:20251125T183555Z
LAST-MODIFIED:20251125T183747Z
UID:10132427-1821121200-1821126600@waverlychurch.org
SUMMARY:Choir Rehearsal in Lounge
DESCRIPTION:
URL:https://waverlychurch.org/event/choir-rehearsal-in-lounge/2027-09-16/
LOCATION:Lounge
END:VEVENT
BEGIN:VEVENT
DTSTART;TZID=America/New_York:20270919T093000
DTEND;TZID=America/New_York:20270919T100000
DTSTAMP:20260420T194752
CREATED:20251125T184126Z
LAST-MODIFIED:20251125T184126Z
UID:10132688-1821346200-1821348000@waverlychurch.org
SUMMARY:Choir Rehearsal in Sanctuary
DESCRIPTION:
URL:https://waverlychurch.org/event/choir-rehearsal-in-sanctuary/2027-09-19/
END:VEVENT
BEGIN:VEVENT
DTSTART;TZID=America/New_York:20270919T100000
DTEND;TZID=America/New_York:20270919T105500
DTSTAMP:20260420T194752
CREATED:20260305T170350Z
LAST-MODIFIED:20260305T170351Z
UID:10007251-1821348000-1821351300@waverlychurch.org
SUMMARY:Sunday School
DESCRIPTION:All ages are welcome to join us each week for Sunday School in the following locations: \nChildren up through 1st grade: nursery (downstairs\, right side of front entrance – ring bell to enter) \nChildren and Youth 2nd grade through 12th grade in the “Wonka Room” – room off of our lower floor Social Hall. \nAdults: lounge (upstairs in back of church)
URL:https://waverlychurch.org/event/sunday-school-3-2-2-2-2-2-2-2/2027-09-19/
END:VEVENT
BEGIN:VEVENT
DTSTART;TZID=America/New_York:20270919T110000
DTEND;TZID=America/New_York:20270919T121500
DTSTAMP:20260420T194752
CREATED:20250923T171614Z
LAST-MODIFIED:20250923T171615Z
UID:10007819-1821351600-1821356100@waverlychurch.org
SUMMARY:Worship Service
DESCRIPTION:We meet on Sundays in our Sanctuary at 11am during the school year and stream services online. \nSunday’s worship service will be live-streamed over our Facebook page on Sunday mornings. \n \nhttps://www.facebook.com/pg/WaverlyChurch/videos/
URL:https://waverlychurch.org/event/worship-service-5-2-2/2027-09-19/
END:VEVENT
BEGIN:VEVENT
DTSTART;TZID=America/New_York:20270919T121500
DTEND;TZID=America/New_York:20270919T133000
DTSTAMP:20260420T194752
CREATED:20260305T165302Z
LAST-MODIFIED:20260305T170242Z
UID:10006735-1821356100-1821360600@waverlychurch.org
SUMMARY:Coffee Hour
DESCRIPTION:Join us after service weekly for a chance to share fellowship over coffee and snacks
URL:https://waverlychurch.org/event/coffee-hour-3-2-2-2-2-2/2027-09-19/
LOCATION:Lounge
END:VEVENT
BEGIN:VEVENT
DTSTART;TZID=America/New_York:20270919T193000
DTEND;TZID=America/New_York:20270919T210000
DTSTAMP:20260420T194752
CREATED:20190310T184702Z
LAST-MODIFIED:20220704T145322Z
UID:10000757-1821382200-1821387600@waverlychurch.org
SUMMARY:Alcoholics Anonymous
DESCRIPTION:The Frick Park Group of Alcoholics Anonymous is holding in-person meetings in the Social Hall. \nAdditional links for AA groups are posted online at the AA Central Office.\nhttps://www.pghaa.org/
URL:https://waverlychurch.org/event/aa-2020-03-22-2021-07-04/2027-09-19/
LOCATION:Social Hall
END:VEVENT
BEGIN:VEVENT
DTSTART;TZID=America/New_York:20270920T090000
DTEND;TZID=America/New_York:20270920T200000
DTSTAMP:20260420T194752
CREATED:20251030T152456Z
LAST-MODIFIED:20251030T152456Z
UID:10131920-1821430800-1821470400@waverlychurch.org
SUMMARY:Guitar Lessons
DESCRIPTION:ian@cainsmusiclessons.com
URL:https://waverlychurch.org/event/guitar-lessons/2027-09-20/
LOCATION:Frog Room
END:VEVENT
BEGIN:VEVENT
DTSTART;TZID=America/New_York:20270921T190000
DTEND;TZID=America/New_York:20270921T193000
DTSTAMP:20260420T194752
CREATED:20210711T201005Z
LAST-MODIFIED:20220704T150145Z
UID:10000406-1821553200-1821555000@waverlychurch.org
SUMMARY:Al-Anon [Beginners' Meeting]
DESCRIPTION:The Frick Park Al-Anon group may still be virtual. \nContact frickparkafg85[at]gmail.com with any questions.
URL:https://waverlychurch.org/event/al-anon-beginners-meeting-2022-01-04-2022-04-05/2027-09-21/
LOCATION:Social Hall
END:VEVENT
BEGIN:VEVENT
DTSTART;TZID=UTC:20270921T193000
DTEND;TZID=UTC:20270921T203000
DTSTAMP:20260420T194752
CREATED:20190310T185001Z
LAST-MODIFIED:20220331T225559Z
UID:10002635-1821555000-1821558600@waverlychurch.org
SUMMARY:Al-Anon
DESCRIPTION:The Frick Park Al-Anon is holding in-person meetings in the Social Hall. \nContact frickparkafg85[at]gmail.com with any questions.
URL:https://waverlychurch.org/event/al-anon-2020-03-24-2021-07-06-2021-07-13/2027-09-21/
END:VEVENT
BEGIN:VEVENT
DTSTART;TZID=America/New_York:20270922T090000
DTEND;TZID=America/New_York:20270922T200000
DTSTAMP:20260420T194752
CREATED:20251030T152456Z
LAST-MODIFIED:20251030T152456Z
UID:10131921-1821603600-1821643200@waverlychurch.org
SUMMARY:Guitar Lessons
DESCRIPTION:ian@cainsmusiclessons.com
URL:https://waverlychurch.org/event/guitar-lessons/2027-09-22/
LOCATION:Frog Room
END:VEVENT
BEGIN:VEVENT
DTSTART;TZID=America/New_York:20270923T103000
DTEND;TZID=America/New_York:20270923T140000
DTSTAMP:20260420T194752
CREATED:20260324T153601Z
LAST-MODIFIED:20260324T153603Z
UID:10133084-1821695400-1821708000@waverlychurch.org
SUMMARY:Reiki with Bob Dove and Ross Marshall
DESCRIPTION:
URL:https://waverlychurch.org/event/reiki-with-bob-dove-and-ross-marshall-2-2/2027-09-23/
LOCATION:Social Hall
END:VEVENT
BEGIN:VEVENT
DTSTART;TZID=America/New_York:20270923T190000
DTEND;TZID=America/New_York:20270923T203000
DTSTAMP:20260420T194752
CREATED:20251125T183555Z
LAST-MODIFIED:20251125T183747Z
UID:10132428-1821726000-1821731400@waverlychurch.org
SUMMARY:Choir Rehearsal in Lounge
DESCRIPTION:
URL:https://waverlychurch.org/event/choir-rehearsal-in-lounge/2027-09-23/
LOCATION:Lounge
END:VEVENT
BEGIN:VEVENT
DTSTART;TZID=America/New_York:20270926T093000
DTEND;TZID=America/New_York:20270926T100000
DTSTAMP:20260420T194752
CREATED:20251125T184126Z
LAST-MODIFIED:20251125T184126Z
UID:10132689-1821951000-1821952800@waverlychurch.org
SUMMARY:Choir Rehearsal in Sanctuary
DESCRIPTION:
URL:https://waverlychurch.org/event/choir-rehearsal-in-sanctuary/2027-09-26/
END:VEVENT
BEGIN:VEVENT
DTSTART;TZID=America/New_York:20270926T100000
DTEND;TZID=America/New_York:20270926T105500
DTSTAMP:20260420T194752
CREATED:20260305T170350Z
LAST-MODIFIED:20260305T170351Z
UID:10007252-1821952800-1821956100@waverlychurch.org
SUMMARY:Sunday School
DESCRIPTION:All ages are welcome to join us each week for Sunday School in the following locations: \nChildren up through 1st grade: nursery (downstairs\, right side of front entrance – ring bell to enter) \nChildren and Youth 2nd grade through 12th grade in the “Wonka Room” – room off of our lower floor Social Hall. \nAdults: lounge (upstairs in back of church)
URL:https://waverlychurch.org/event/sunday-school-3-2-2-2-2-2-2-2/2027-09-26/
END:VEVENT
BEGIN:VEVENT
DTSTART;TZID=America/New_York:20270926T110000
DTEND;TZID=America/New_York:20270926T121500
DTSTAMP:20260420T194752
CREATED:20250923T171614Z
LAST-MODIFIED:20250923T171615Z
UID:10007820-1821956400-1821960900@waverlychurch.org
SUMMARY:Worship Service
DESCRIPTION:We meet on Sundays in our Sanctuary at 11am during the school year and stream services online. \nSunday’s worship service will be live-streamed over our Facebook page on Sunday mornings. \n \nhttps://www.facebook.com/pg/WaverlyChurch/videos/
URL:https://waverlychurch.org/event/worship-service-5-2-2/2027-09-26/
END:VEVENT
BEGIN:VEVENT
DTSTART;TZID=America/New_York:20270926T121500
DTEND;TZID=America/New_York:20270926T133000
DTSTAMP:20260420T194752
CREATED:20260305T165302Z
LAST-MODIFIED:20260305T170242Z
UID:10006736-1821960900-1821965400@waverlychurch.org
SUMMARY:Coffee Hour
DESCRIPTION:Join us after service weekly for a chance to share fellowship over coffee and snacks
URL:https://waverlychurch.org/event/coffee-hour-3-2-2-2-2-2/2027-09-26/
LOCATION:Lounge
END:VEVENT
BEGIN:VEVENT
DTSTART;TZID=America/New_York:20270926T193000
DTEND;TZID=America/New_York:20270926T210000
DTSTAMP:20260420T194752
CREATED:20190310T184702Z
LAST-MODIFIED:20220704T145322Z
UID:10000758-1821987000-1821992400@waverlychurch.org
SUMMARY:Alcoholics Anonymous
DESCRIPTION:The Frick Park Group of Alcoholics Anonymous is holding in-person meetings in the Social Hall. \nAdditional links for AA groups are posted online at the AA Central Office.\nhttps://www.pghaa.org/
URL:https://waverlychurch.org/event/aa-2020-03-22-2021-07-04/2027-09-26/
LOCATION:Social Hall
END:VEVENT
BEGIN:VEVENT
DTSTART;TZID=America/New_York:20270927T090000
DTEND;TZID=America/New_York:20270927T200000
DTSTAMP:20260420T194752
CREATED:20251030T152456Z
LAST-MODIFIED:20251030T152456Z
UID:10131922-1822035600-1822075200@waverlychurch.org
SUMMARY:Guitar Lessons
DESCRIPTION:ian@cainsmusiclessons.com
URL:https://waverlychurch.org/event/guitar-lessons/2027-09-27/
LOCATION:Frog Room
END:VEVENT
BEGIN:VEVENT
DTSTART;TZID=America/New_York:20270928T190000
DTEND;TZID=America/New_York:20270928T193000
DTSTAMP:20260420T194752
CREATED:20210711T201005Z
LAST-MODIFIED:20220704T150145Z
UID:10000407-1822158000-1822159800@waverlychurch.org
SUMMARY:Al-Anon [Beginners' Meeting]
DESCRIPTION:The Frick Park Al-Anon group may still be virtual. \nContact frickparkafg85[at]gmail.com with any questions.
URL:https://waverlychurch.org/event/al-anon-beginners-meeting-2022-01-04-2022-04-05/2027-09-28/
LOCATION:Social Hall
END:VEVENT
BEGIN:VEVENT
DTSTART;TZID=UTC:20270928T193000
DTEND;TZID=UTC:20270928T203000
DTSTAMP:20260420T194752
CREATED:20190310T185001Z
LAST-MODIFIED:20220331T225559Z
UID:10002636-1822159800-1822163400@waverlychurch.org
SUMMARY:Al-Anon
DESCRIPTION:The Frick Park Al-Anon is holding in-person meetings in the Social Hall. \nContact frickparkafg85[at]gmail.com with any questions.
URL:https://waverlychurch.org/event/al-anon-2020-03-24-2021-07-06-2021-07-13/2027-09-28/
END:VEVENT
BEGIN:VEVENT
DTSTART;TZID=America/New_York:20270929T090000
DTEND;TZID=America/New_York:20270929T200000
DTSTAMP:20260420T194752
CREATED:20251030T152456Z
LAST-MODIFIED:20251030T152456Z
UID:10131923-1822208400-1822248000@waverlychurch.org
SUMMARY:Guitar Lessons
DESCRIPTION:ian@cainsmusiclessons.com
URL:https://waverlychurch.org/event/guitar-lessons/2027-09-29/
LOCATION:Frog Room
END:VEVENT
BEGIN:VEVENT
DTSTART;TZID=America/New_York:20270930T190000
DTEND;TZID=America/New_York:20270930T203000
DTSTAMP:20260420T194752
CREATED:20251125T183555Z
LAST-MODIFIED:20251125T183747Z
UID:10132429-1822330800-1822336200@waverlychurch.org
SUMMARY:Choir Rehearsal in Lounge
DESCRIPTION:
URL:https://waverlychurch.org/event/choir-rehearsal-in-lounge/2027-09-30/
LOCATION:Lounge
END:VEVENT
BEGIN:VEVENT
DTSTART;TZID=America/New_York:20271002T110000
DTEND;TZID=America/New_York:20271002T143000
DTSTAMP:20260420T194752
CREATED:20251125T184526Z
LAST-MODIFIED:20251125T184526Z
UID:10132877-1822474800-1822487400@waverlychurch.org
SUMMARY:East End N.A. Business Meeting/Social Hall
DESCRIPTION:
URL:https://waverlychurch.org/event/east-end-n-a-business-meeting-social-hall/2027-10-02/
END:VEVENT
BEGIN:VEVENT
DTSTART;TZID=America/New_York:20271003T093000
DTEND;TZID=America/New_York:20271003T100000
DTSTAMP:20260420T194752
CREATED:20251125T184126Z
LAST-MODIFIED:20251125T184126Z
UID:10132690-1822555800-1822557600@waverlychurch.org
SUMMARY:Choir Rehearsal in Sanctuary
DESCRIPTION:
URL:https://waverlychurch.org/event/choir-rehearsal-in-sanctuary/2027-10-03/
END:VEVENT
BEGIN:VEVENT
DTSTART;TZID=America/New_York:20271003T100000
DTEND;TZID=America/New_York:20271003T105500
DTSTAMP:20260420T194752
CREATED:20260305T170350Z
LAST-MODIFIED:20260305T170351Z
UID:10007253-1822557600-1822560900@waverlychurch.org
SUMMARY:Sunday School
DESCRIPTION:All ages are welcome to join us each week for Sunday School in the following locations: \nChildren up through 1st grade: nursery (downstairs\, right side of front entrance – ring bell to enter) \nChildren and Youth 2nd grade through 12th grade in the “Wonka Room” – room off of our lower floor Social Hall. \nAdults: lounge (upstairs in back of church)
URL:https://waverlychurch.org/event/sunday-school-3-2-2-2-2-2-2-2/2027-10-03/
END:VEVENT
BEGIN:VEVENT
DTSTART;TZID=America/New_York:20271003T110000
DTEND;TZID=America/New_York:20271003T121500
DTSTAMP:20260420T194752
CREATED:20250923T171614Z
LAST-MODIFIED:20250923T171615Z
UID:10007821-1822561200-1822565700@waverlychurch.org
SUMMARY:Worship Service
DESCRIPTION:We meet on Sundays in our Sanctuary at 11am during the school year and stream services online. \nSunday’s worship service will be live-streamed over our Facebook page on Sunday mornings. \n \nhttps://www.facebook.com/pg/WaverlyChurch/videos/
URL:https://waverlychurch.org/event/worship-service-5-2-2/2027-10-03/
END:VEVENT
BEGIN:VEVENT
DTSTART;TZID=America/New_York:20271003T121500
DTEND;TZID=America/New_York:20271003T133000
DTSTAMP:20260420T194752
CREATED:20260305T165302Z
LAST-MODIFIED:20260305T170242Z
UID:10006737-1822565700-1822570200@waverlychurch.org
SUMMARY:Coffee Hour
DESCRIPTION:Join us after service weekly for a chance to share fellowship over coffee and snacks
URL:https://waverlychurch.org/event/coffee-hour-3-2-2-2-2-2/2027-10-03/
LOCATION:Lounge
END:VEVENT
END:VCALENDAR