BEGIN:VCALENDAR
VERSION:2.0
PRODID:-//Waverly Presbyterian Church - ECPv6.15.20//NONSGML v1.0//EN
CALSCALE:GREGORIAN
METHOD:PUBLISH
X-ORIGINAL-URL:https://waverlychurch.org
X-WR-CALDESC:Events for Waverly Presbyterian Church
REFRESH-INTERVAL;VALUE=DURATION:PT1H
X-Robots-Tag:noindex
X-PUBLISHED-TTL:PT1H
BEGIN:VTIMEZONE
TZID:America/New_York
BEGIN:DAYLIGHT
TZOFFSETFROM:-0500
TZOFFSETTO:-0400
TZNAME:EDT
DTSTART:20280312T070000
END:DAYLIGHT
BEGIN:STANDARD
TZOFFSETFROM:-0400
TZOFFSETTO:-0500
TZNAME:EST
DTSTART:20281105T060000
END:STANDARD
BEGIN:DAYLIGHT
TZOFFSETFROM:-0500
TZOFFSETTO:-0400
TZNAME:EDT
DTSTART:20290311T070000
END:DAYLIGHT
BEGIN:STANDARD
TZOFFSETFROM:-0400
TZOFFSETTO:-0500
TZNAME:EST
DTSTART:20291104T060000
END:STANDARD
BEGIN:DAYLIGHT
TZOFFSETFROM:-0500
TZOFFSETTO:-0400
TZNAME:EDT
DTSTART:20300310T070000
END:DAYLIGHT
BEGIN:STANDARD
TZOFFSETFROM:-0400
TZOFFSETTO:-0500
TZNAME:EST
DTSTART:20301103T060000
END:STANDARD
END:VTIMEZONE
BEGIN:VEVENT
DTSTART;TZID=America/New_York:20290422T093000
DTEND;TZID=America/New_York:20290422T100000
DTSTAMP:20260422T184035
CREATED:20251125T184126Z
LAST-MODIFIED:20251125T184126Z
UID:10132771-1871544600-1871546400@waverlychurch.org
SUMMARY:Choir Rehearsal in Sanctuary
DESCRIPTION:
URL:https://waverlychurch.org/event/choir-rehearsal-in-sanctuary/2029-04-22/
END:VEVENT
BEGIN:VEVENT
DTSTART;TZID=America/New_York:20290422T100000
DTEND;TZID=America/New_York:20290422T105500
DTSTAMP:20260422T184035
CREATED:20260305T170350Z
LAST-MODIFIED:20260305T170351Z
UID:10007334-1871546400-1871549700@waverlychurch.org
SUMMARY:Sunday School
DESCRIPTION:All ages are welcome to join us each week for Sunday School in the following locations: \nChildren up through 1st grade: nursery (downstairs\, right side of front entrance – ring bell to enter) \nChildren and Youth 2nd grade through 12th grade in the “Wonka Room” – room off of our lower floor Social Hall. \nAdults: lounge (upstairs in back of church)
URL:https://waverlychurch.org/event/sunday-school-3-2-2-2-2-2-2-2/2029-04-22/
END:VEVENT
BEGIN:VEVENT
DTSTART;TZID=America/New_York:20290422T110000
DTEND;TZID=America/New_York:20290422T121500
DTSTAMP:20260422T184035
CREATED:20250923T171614Z
LAST-MODIFIED:20250923T171615Z
UID:10007902-1871550000-1871554500@waverlychurch.org
SUMMARY:Worship Service
DESCRIPTION:We meet on Sundays in our Sanctuary at 11am during the school year and stream services online. \nSunday’s worship service will be live-streamed over our Facebook page on Sunday mornings. \n \nhttps://www.facebook.com/pg/WaverlyChurch/videos/
URL:https://waverlychurch.org/event/worship-service-5-2-2/2029-04-22/
END:VEVENT
BEGIN:VEVENT
DTSTART;TZID=America/New_York:20290422T121500
DTEND;TZID=America/New_York:20290422T133000
DTSTAMP:20260422T184035
CREATED:20260305T165302Z
LAST-MODIFIED:20260305T170242Z
UID:10007927-1871554500-1871559000@waverlychurch.org
SUMMARY:Coffee Hour
DESCRIPTION:Join us after service weekly for a chance to share fellowship over coffee and snacks
URL:https://waverlychurch.org/event/coffee-hour-3-2-2-2-2-2/2029-04-22/
LOCATION:Lounge
END:VEVENT
BEGIN:VEVENT
DTSTART;TZID=America/New_York:20290423T090000
DTEND;TZID=America/New_York:20290423T200000
DTSTAMP:20260422T184035
CREATED:20251030T152456Z
LAST-MODIFIED:20251030T152456Z
UID:10132086-1871629200-1871668800@waverlychurch.org
SUMMARY:Guitar Lessons
DESCRIPTION:ian@cainsmusiclessons.com
URL:https://waverlychurch.org/event/guitar-lessons/2029-04-23/
LOCATION:Frog Room
END:VEVENT
BEGIN:VEVENT
DTSTART;TZID=America/New_York:20290425T090000
DTEND;TZID=America/New_York:20290425T200000
DTSTAMP:20260422T184035
CREATED:20251030T152456Z
LAST-MODIFIED:20251030T152456Z
UID:10132087-1871802000-1871841600@waverlychurch.org
SUMMARY:Guitar Lessons
DESCRIPTION:ian@cainsmusiclessons.com
URL:https://waverlychurch.org/event/guitar-lessons/2029-04-25/
LOCATION:Frog Room
END:VEVENT
BEGIN:VEVENT
DTSTART;TZID=America/New_York:20290426T103000
DTEND;TZID=America/New_York:20290426T140000
DTSTAMP:20260422T184035
CREATED:20260324T153601Z
LAST-MODIFIED:20260324T153603Z
UID:10133103-1871893800-1871906400@waverlychurch.org
SUMMARY:Reiki with Bob Dove and Ross Marshall
DESCRIPTION:
URL:https://waverlychurch.org/event/reiki-with-bob-dove-and-ross-marshall-2-2/2029-04-26/
LOCATION:Social Hall
END:VEVENT
BEGIN:VEVENT
DTSTART;TZID=America/New_York:20290426T190000
DTEND;TZID=America/New_York:20290426T203000
DTSTAMP:20260422T184035
CREATED:20251125T183555Z
LAST-MODIFIED:20251125T183747Z
UID:10132511-1871924400-1871929800@waverlychurch.org
SUMMARY:Choir Rehearsal in Lounge
DESCRIPTION:
URL:https://waverlychurch.org/event/choir-rehearsal-in-lounge/2029-04-26/
LOCATION:Lounge
END:VEVENT
BEGIN:VEVENT
DTSTART;TZID=America/New_York:20290429T093000
DTEND;TZID=America/New_York:20290429T100000
DTSTAMP:20260422T184035
CREATED:20251125T184126Z
LAST-MODIFIED:20251125T184126Z
UID:10132772-1872149400-1872151200@waverlychurch.org
SUMMARY:Choir Rehearsal in Sanctuary
DESCRIPTION:
URL:https://waverlychurch.org/event/choir-rehearsal-in-sanctuary/2029-04-29/
END:VEVENT
BEGIN:VEVENT
DTSTART;TZID=America/New_York:20290429T100000
DTEND;TZID=America/New_York:20290429T105500
DTSTAMP:20260422T184035
CREATED:20260305T170350Z
LAST-MODIFIED:20260305T170351Z
UID:10007335-1872151200-1872154500@waverlychurch.org
SUMMARY:Sunday School
DESCRIPTION:All ages are welcome to join us each week for Sunday School in the following locations: \nChildren up through 1st grade: nursery (downstairs\, right side of front entrance – ring bell to enter) \nChildren and Youth 2nd grade through 12th grade in the “Wonka Room” – room off of our lower floor Social Hall. \nAdults: lounge (upstairs in back of church)
URL:https://waverlychurch.org/event/sunday-school-3-2-2-2-2-2-2-2/2029-04-29/
END:VEVENT
BEGIN:VEVENT
DTSTART;TZID=America/New_York:20290429T110000
DTEND;TZID=America/New_York:20290429T121500
DTSTAMP:20260422T184035
CREATED:20250923T171614Z
LAST-MODIFIED:20250923T171615Z
UID:10007903-1872154800-1872159300@waverlychurch.org
SUMMARY:Worship Service
DESCRIPTION:We meet on Sundays in our Sanctuary at 11am during the school year and stream services online. \nSunday’s worship service will be live-streamed over our Facebook page on Sunday mornings. \n \nhttps://www.facebook.com/pg/WaverlyChurch/videos/
URL:https://waverlychurch.org/event/worship-service-5-2-2/2029-04-29/
END:VEVENT
BEGIN:VEVENT
DTSTART;TZID=America/New_York:20290429T121500
DTEND;TZID=America/New_York:20290429T133000
DTSTAMP:20260422T184035
CREATED:20260305T165302Z
LAST-MODIFIED:20260305T170242Z
UID:10007928-1872159300-1872163800@waverlychurch.org
SUMMARY:Coffee Hour
DESCRIPTION:Join us after service weekly for a chance to share fellowship over coffee and snacks
URL:https://waverlychurch.org/event/coffee-hour-3-2-2-2-2-2/2029-04-29/
LOCATION:Lounge
END:VEVENT
BEGIN:VEVENT
DTSTART;TZID=America/New_York:20290430T090000
DTEND;TZID=America/New_York:20290430T200000
DTSTAMP:20260422T184035
CREATED:20251030T152456Z
LAST-MODIFIED:20251030T152456Z
UID:10132088-1872234000-1872273600@waverlychurch.org
SUMMARY:Guitar Lessons
DESCRIPTION:ian@cainsmusiclessons.com
URL:https://waverlychurch.org/event/guitar-lessons/2029-04-30/
LOCATION:Frog Room
END:VEVENT
BEGIN:VEVENT
DTSTART;TZID=America/New_York:20290502T090000
DTEND;TZID=America/New_York:20290502T200000
DTSTAMP:20260422T184035
CREATED:20251030T152456Z
LAST-MODIFIED:20251030T152456Z
UID:10132089-1872406800-1872446400@waverlychurch.org
SUMMARY:Guitar Lessons
DESCRIPTION:ian@cainsmusiclessons.com
URL:https://waverlychurch.org/event/guitar-lessons/2029-05-02/
LOCATION:Frog Room
END:VEVENT
BEGIN:VEVENT
DTSTART;TZID=America/New_York:20290503T190000
DTEND;TZID=America/New_York:20290503T203000
DTSTAMP:20260422T184035
CREATED:20251125T183555Z
LAST-MODIFIED:20251125T183747Z
UID:10132512-1872529200-1872534600@waverlychurch.org
SUMMARY:Choir Rehearsal in Lounge
DESCRIPTION:
URL:https://waverlychurch.org/event/choir-rehearsal-in-lounge/2029-05-03/
LOCATION:Lounge
END:VEVENT
BEGIN:VEVENT
DTSTART;TZID=America/New_York:20290505T110000
DTEND;TZID=America/New_York:20290505T143000
DTSTAMP:20260422T184035
CREATED:20251125T184526Z
LAST-MODIFIED:20251125T184526Z
UID:10132896-1872673200-1872685800@waverlychurch.org
SUMMARY:East End N.A. Business Meeting/Social Hall
DESCRIPTION:
URL:https://waverlychurch.org/event/east-end-n-a-business-meeting-social-hall/2029-05-05/
END:VEVENT
BEGIN:VEVENT
DTSTART;TZID=America/New_York:20290506T093000
DTEND;TZID=America/New_York:20290506T100000
DTSTAMP:20260422T184035
CREATED:20251125T184126Z
LAST-MODIFIED:20251125T184126Z
UID:10132773-1872754200-1872756000@waverlychurch.org
SUMMARY:Choir Rehearsal in Sanctuary
DESCRIPTION:
URL:https://waverlychurch.org/event/choir-rehearsal-in-sanctuary/2029-05-06/
END:VEVENT
BEGIN:VEVENT
DTSTART;TZID=America/New_York:20290506T100000
DTEND;TZID=America/New_York:20290506T105500
DTSTAMP:20260422T184035
CREATED:20260305T170350Z
LAST-MODIFIED:20260305T170351Z
UID:10007336-1872756000-1872759300@waverlychurch.org
SUMMARY:Sunday School
DESCRIPTION:All ages are welcome to join us each week for Sunday School in the following locations: \nChildren up through 1st grade: nursery (downstairs\, right side of front entrance – ring bell to enter) \nChildren and Youth 2nd grade through 12th grade in the “Wonka Room” – room off of our lower floor Social Hall. \nAdults: lounge (upstairs in back of church)
URL:https://waverlychurch.org/event/sunday-school-3-2-2-2-2-2-2-2/2029-05-06/
END:VEVENT
BEGIN:VEVENT
DTSTART;TZID=America/New_York:20290506T110000
DTEND;TZID=America/New_York:20290506T121500
DTSTAMP:20260422T184035
CREATED:20250923T171614Z
LAST-MODIFIED:20250923T171615Z
UID:10007904-1872759600-1872764100@waverlychurch.org
SUMMARY:Worship Service
DESCRIPTION:We meet on Sundays in our Sanctuary at 11am during the school year and stream services online. \nSunday’s worship service will be live-streamed over our Facebook page on Sunday mornings. \n \nhttps://www.facebook.com/pg/WaverlyChurch/videos/
URL:https://waverlychurch.org/event/worship-service-5-2-2/2029-05-06/
END:VEVENT
BEGIN:VEVENT
DTSTART;TZID=America/New_York:20290506T121500
DTEND;TZID=America/New_York:20290506T133000
DTSTAMP:20260422T184035
CREATED:20260305T165302Z
LAST-MODIFIED:20260305T170242Z
UID:10007929-1872764100-1872768600@waverlychurch.org
SUMMARY:Coffee Hour
DESCRIPTION:Join us after service weekly for a chance to share fellowship over coffee and snacks
URL:https://waverlychurch.org/event/coffee-hour-3-2-2-2-2-2/2029-05-06/
LOCATION:Lounge
END:VEVENT
BEGIN:VEVENT
DTSTART;TZID=America/New_York:20290507T090000
DTEND;TZID=America/New_York:20290507T200000
DTSTAMP:20260422T184035
CREATED:20251030T152456Z
LAST-MODIFIED:20251030T152456Z
UID:10132090-1872838800-1872878400@waverlychurch.org
SUMMARY:Guitar Lessons
DESCRIPTION:ian@cainsmusiclessons.com
URL:https://waverlychurch.org/event/guitar-lessons/2029-05-07/
LOCATION:Frog Room
END:VEVENT
BEGIN:VEVENT
DTSTART;TZID=America/New_York:20290509T090000
DTEND;TZID=America/New_York:20290509T200000
DTSTAMP:20260422T184035
CREATED:20251030T152456Z
LAST-MODIFIED:20251030T152456Z
UID:10132091-1873011600-1873051200@waverlychurch.org
SUMMARY:Guitar Lessons
DESCRIPTION:ian@cainsmusiclessons.com
URL:https://waverlychurch.org/event/guitar-lessons/2029-05-09/
LOCATION:Frog Room
END:VEVENT
BEGIN:VEVENT
DTSTART;TZID=America/New_York:20290510T190000
DTEND;TZID=America/New_York:20290510T203000
DTSTAMP:20260422T184035
CREATED:20251125T183555Z
LAST-MODIFIED:20251125T183747Z
UID:10132513-1873134000-1873139400@waverlychurch.org
SUMMARY:Choir Rehearsal in Lounge
DESCRIPTION:
URL:https://waverlychurch.org/event/choir-rehearsal-in-lounge/2029-05-10/
LOCATION:Lounge
END:VEVENT
BEGIN:VEVENT
DTSTART;TZID=America/New_York:20290513T093000
DTEND;TZID=America/New_York:20290513T100000
DTSTAMP:20260422T184035
CREATED:20251125T184126Z
LAST-MODIFIED:20251125T184126Z
UID:10132774-1873359000-1873360800@waverlychurch.org
SUMMARY:Choir Rehearsal in Sanctuary
DESCRIPTION:
URL:https://waverlychurch.org/event/choir-rehearsal-in-sanctuary/2029-05-13/
END:VEVENT
BEGIN:VEVENT
DTSTART;TZID=America/New_York:20290513T100000
DTEND;TZID=America/New_York:20290513T105500
DTSTAMP:20260422T184035
CREATED:20260305T170350Z
LAST-MODIFIED:20260305T170351Z
UID:10008708-1873360800-1873364100@waverlychurch.org
SUMMARY:Sunday School
DESCRIPTION:All ages are welcome to join us each week for Sunday School in the following locations: \nChildren up through 1st grade: nursery (downstairs\, right side of front entrance – ring bell to enter) \nChildren and Youth 2nd grade through 12th grade in the “Wonka Room” – room off of our lower floor Social Hall. \nAdults: lounge (upstairs in back of church)
URL:https://waverlychurch.org/event/sunday-school-3-2-2-2-2-2-2-2/2029-05-13/
END:VEVENT
BEGIN:VEVENT
DTSTART;TZID=America/New_York:20290513T110000
DTEND;TZID=America/New_York:20290513T121500
DTSTAMP:20260422T184035
CREATED:20250923T171614Z
LAST-MODIFIED:20250923T171615Z
UID:10129098-1873364400-1873368900@waverlychurch.org
SUMMARY:Worship Service
DESCRIPTION:We meet on Sundays in our Sanctuary at 11am during the school year and stream services online. \nSunday’s worship service will be live-streamed over our Facebook page on Sunday mornings. \n \nhttps://www.facebook.com/pg/WaverlyChurch/videos/
URL:https://waverlychurch.org/event/worship-service-5-2-2/2029-05-13/
END:VEVENT
BEGIN:VEVENT
DTSTART;TZID=America/New_York:20290513T121500
DTEND;TZID=America/New_York:20290513T133000
DTSTAMP:20260422T184035
CREATED:20260305T165302Z
LAST-MODIFIED:20260305T170242Z
UID:10008517-1873368900-1873373400@waverlychurch.org
SUMMARY:Coffee Hour
DESCRIPTION:Join us after service weekly for a chance to share fellowship over coffee and snacks
URL:https://waverlychurch.org/event/coffee-hour-3-2-2-2-2-2/2029-05-13/
LOCATION:Lounge
END:VEVENT
BEGIN:VEVENT
DTSTART;TZID=America/New_York:20290514T090000
DTEND;TZID=America/New_York:20290514T200000
DTSTAMP:20260422T184035
CREATED:20251030T152456Z
LAST-MODIFIED:20251030T152456Z
UID:10132092-1873443600-1873483200@waverlychurch.org
SUMMARY:Guitar Lessons
DESCRIPTION:ian@cainsmusiclessons.com
URL:https://waverlychurch.org/event/guitar-lessons/2029-05-14/
LOCATION:Frog Room
END:VEVENT
BEGIN:VEVENT
DTSTART;TZID=America/New_York:20290514T190000
DTEND;TZID=America/New_York:20290514T203000
DTSTAMP:20260422T184035
CREATED:20251125T185647Z
LAST-MODIFIED:20251125T185647Z
UID:10132956-1873479600-1873485000@waverlychurch.org
SUMMARY:Amnesty Meeting-Social Hall
DESCRIPTION:
URL:https://waverlychurch.org/event/amnesty-meeting-social-hall/2029-05-14/
END:VEVENT
BEGIN:VEVENT
DTSTART;TZID=America/New_York:20290516T090000
DTEND;TZID=America/New_York:20290516T200000
DTSTAMP:20260422T184035
CREATED:20251030T152456Z
LAST-MODIFIED:20251030T152456Z
UID:10132093-1873616400-1873656000@waverlychurch.org
SUMMARY:Guitar Lessons
DESCRIPTION:ian@cainsmusiclessons.com
URL:https://waverlychurch.org/event/guitar-lessons/2029-05-16/
LOCATION:Frog Room
END:VEVENT
END:VCALENDAR