BEGIN:VCALENDAR
VERSION:2.0
PRODID:-//Waverly Presbyterian Church - ECPv6.15.20//NONSGML v1.0//EN
CALSCALE:GREGORIAN
METHOD:PUBLISH
X-WR-CALNAME:Waverly Presbyterian Church
X-ORIGINAL-URL:https://waverlychurch.org
X-WR-CALDESC:Events for Waverly Presbyterian Church
REFRESH-INTERVAL;VALUE=DURATION:PT1H
X-Robots-Tag:noindex
X-PUBLISHED-TTL:PT1H
BEGIN:VTIMEZONE
TZID:America/New_York
BEGIN:DAYLIGHT
TZOFFSETFROM:-0500
TZOFFSETTO:-0400
TZNAME:EDT
DTSTART:20240310T070000
END:DAYLIGHT
BEGIN:STANDARD
TZOFFSETFROM:-0400
TZOFFSETTO:-0500
TZNAME:EST
DTSTART:20241103T060000
END:STANDARD
BEGIN:DAYLIGHT
TZOFFSETFROM:-0500
TZOFFSETTO:-0400
TZNAME:EDT
DTSTART:20250309T070000
END:DAYLIGHT
BEGIN:STANDARD
TZOFFSETFROM:-0400
TZOFFSETTO:-0500
TZNAME:EST
DTSTART:20251102T060000
END:STANDARD
BEGIN:DAYLIGHT
TZOFFSETFROM:-0500
TZOFFSETTO:-0400
TZNAME:EDT
DTSTART:20260308T070000
END:DAYLIGHT
BEGIN:STANDARD
TZOFFSETFROM:-0400
TZOFFSETTO:-0500
TZNAME:EST
DTSTART:20261101T060000
END:STANDARD
END:VTIMEZONE
BEGIN:VTIMEZONE
TZID:UTC
BEGIN:STANDARD
TZOFFSETFROM:+0000
TZOFFSETTO:+0000
TZNAME:UTC
DTSTART:20240101T000000
END:STANDARD
END:VTIMEZONE
BEGIN:VEVENT
DTSTART;TZID=America/New_York:20250406T193000
DTEND;TZID=America/New_York:20250406T210000
DTSTAMP:20260422T180328
CREATED:20190310T184702Z
LAST-MODIFIED:20220704T145322Z
UID:10000629-1743967800-1743973200@waverlychurch.org
SUMMARY:Alcoholics Anonymous
DESCRIPTION:The Frick Park Group of Alcoholics Anonymous is holding in-person meetings in the Social Hall. \nAdditional links for AA groups are posted online at the AA Central Office.\nhttps://www.pghaa.org/
URL:https://waverlychurch.org/event/aa-2020-03-22-2021-07-04/2025-04-06/
LOCATION:Social Hall
END:VEVENT
BEGIN:VEVENT
DTSTART;TZID=America/New_York:20250407T170000
DTEND;TZID=America/New_York:20250407T180000
DTSTAMP:20260422T180328
CREATED:20240827T181303Z
LAST-MODIFIED:20260309T184828Z
UID:10008256-1744045200-1744048800@waverlychurch.org
SUMMARY:Drawing Closer - Meeting on Zoom
DESCRIPTION:This time of contemplative prayer and exploration of poetry is different every week and open to all\, no matter your beliefs. \nClick here for the Zoom link or call by phone:\n929-436-2866\nMeeting ID: 829 0407 0235\nPasscode: 056654
URL:https://waverlychurch.org/event/drawing-closer/2025-04-07/
LOCATION:https://waverlychurch.org/event/drawing-closer/2025-04-07/
END:VEVENT
BEGIN:VEVENT
DTSTART;TZID=America/New_York:20250407T190000
DTEND;TZID=America/New_York:20250407T210000
DTSTAMP:20260422T180328
CREATED:20250109T151630Z
LAST-MODIFIED:20250109T151630Z
UID:10008674-1744052400-1744059600@waverlychurch.org
SUMMARY:Book Study Group - "The Artists' Way" by Julia Cameron
DESCRIPTION:A book study of “The Artists’ Way” by Julia Cameron.
URL:https://waverlychurch.org/event/book-study-group-the-artists-way-by-julia-cameron/2025-04-07/
LOCATION:Lounge
END:VEVENT
BEGIN:VEVENT
DTSTART;TZID=America/New_York:20250408T190000
DTEND;TZID=America/New_York:20250408T193000
DTSTAMP:20260422T180328
CREATED:20210711T201005Z
LAST-MODIFIED:20220704T150145Z
UID:10000278-1744138800-1744140600@waverlychurch.org
SUMMARY:Al-Anon [Beginners' Meeting]
DESCRIPTION:The Frick Park Al-Anon group may still be virtual. \nContact frickparkafg85[at]gmail.com with any questions.
URL:https://waverlychurch.org/event/al-anon-beginners-meeting-2022-01-04-2022-04-05/2025-04-08/
LOCATION:Social Hall
END:VEVENT
BEGIN:VEVENT
DTSTART;TZID=America/New_York:20250408T190000
DTEND;TZID=America/New_York:20250408T200000
DTSTAMP:20260422T180328
CREATED:20250220T165216Z
LAST-MODIFIED:20250220T165216Z
UID:10008972-1744138800-1744142400@waverlychurch.org
SUMMARY:Free for Good Lenten Series in the Lounge
DESCRIPTION:A safe space for exploring our faith’s connection to our thoughts\, feelings\, and actions.
URL:https://waverlychurch.org/event/free-for-good-lenten-series-in-the-lounge/2025-04-08/
LOCATION:Lounge
END:VEVENT
BEGIN:VEVENT
DTSTART;TZID=UTC:20250408T193000
DTEND;TZID=UTC:20250408T203000
DTSTAMP:20260422T180328
CREATED:20190310T185001Z
LAST-MODIFIED:20220331T225559Z
UID:10002507-1744140600-1744144200@waverlychurch.org
SUMMARY:Al-Anon
DESCRIPTION:The Frick Park Al-Anon is holding in-person meetings in the Social Hall. \nContact frickparkafg85[at]gmail.com with any questions.
URL:https://waverlychurch.org/event/al-anon-2020-03-24-2021-07-06-2021-07-13/2025-04-08/
END:VEVENT
BEGIN:VEVENT
DTSTART;TZID=America/New_York:20250410T103000
DTEND;TZID=America/New_York:20250410T113000
DTSTAMP:20260422T180328
CREATED:20250306T175833Z
LAST-MODIFIED:20250123T184638Z
UID:10008584-1744281000-1744284600@waverlychurch.org
SUMMARY:Yoga -rescheduled class
DESCRIPTION:Nurture a meaningful yoga practice that promotes a balanced body and mind. \nClasses incorporate gentle and hatha yoga with strengthening and restorative postures. Sequencing and anatomical awareness is structured to increase enjoyment and accessibility. \nWhether you have an established yoga practice or are interested in trying it out for the first time you will be encouraged to listen to your body\, and make adjustments that speak to your experience. \nThis class requires a yoga mat and a towel or blanket\, with yoga blocks and a strap highly suggested. \n$40 for a six-week session. Contact laurakbudde@gmail.com to register.
URL:https://waverlychurch.org/event/yoga-spring-session/2025-04-10/
END:VEVENT
BEGIN:VEVENT
DTSTART;TZID=America/New_York:20250411T100000
DTEND;TZID=America/New_York:20250411T104500
DTSTAMP:20260422T180328
CREATED:20250123T190034Z
LAST-MODIFIED:20250204T195403Z
UID:10008962-1744365600-1744368300@waverlychurch.org
SUMMARY:Qigong -Spring Session 2025
DESCRIPTION:
URL:https://waverlychurch.org/event/qigong-spring-session-2025/2025-04-11/
LOCATION:Social Hall
END:VEVENT
BEGIN:VEVENT
DTSTART;TZID=America/New_York:20250411T110000
DTEND;TZID=America/New_York:20250411T120000
DTSTAMP:20260422T180328
CREATED:20250123T190428Z
LAST-MODIFIED:20250123T190428Z
UID:10008705-1744369200-1744372800@waverlychurch.org
SUMMARY:Tai Chi Long Form - Spring Session 2025
DESCRIPTION:
URL:https://waverlychurch.org/event/tai-chi-long-form-spring-session-2025/2025-04-11/
END:VEVENT
BEGIN:VEVENT
DTSTART;TZID=America/New_York:20250413T100000
DTEND;TZID=America/New_York:20250413T105500
DTSTAMP:20260422T180328
CREATED:20250313T172933Z
LAST-MODIFIED:20250313T172934Z
UID:10007124-1744538400-1744541700@waverlychurch.org
SUMMARY:Sunday School
DESCRIPTION:All ages are welcome to join us each week for Sunday School in the following locations: \nChildren up through 1st grade: nursery (downstairs\, right side of front entrance – ring bell to enter) \nChildren and Youth 2nd grade through 12th grade in the “Wonka Room” – room off of our lower floor Social Hall. \nAdults: lounge (upstairs in back of church)
URL:https://waverlychurch.org/event/sunday-school-3-2-2-2-2/2025-04-13/
END:VEVENT
BEGIN:VEVENT
DTSTART;TZID=America/New_York:20250413T110000
DTEND;TZID=America/New_York:20250413T121500
DTSTAMP:20260422T180328
CREATED:20240507T182308Z
LAST-MODIFIED:20240507T182315Z
UID:10007692-1744542000-1744546500@waverlychurch.org
SUMMARY:Worship Service
DESCRIPTION:We meet on Sundays in our Sanctuary at 11am during the school year and stream services online. \nSunday’s worship service will be live-streamed over our Facebook page on Sunday mornings. \n \nhttps://www.facebook.com/pg/WaverlyChurch/videos/
URL:https://waverlychurch.org/event/worship-service-5/2025-04-13/
END:VEVENT
BEGIN:VEVENT
DTSTART;TZID=America/New_York:20250413T120000
DTEND;TZID=America/New_York:20250413T150000
DTSTAMP:20260422T180329
CREATED:20250304T171822Z
LAST-MODIFIED:20250304T171822Z
UID:10008975-1744545600-1744556400@waverlychurch.org
SUMMARY:Palm Sunday Brunch in the Social Hall
DESCRIPTION:
URL:https://waverlychurch.org/event/palm-sunday-brunch-in-the-social-hall/
LOCATION:Social Hall
END:VEVENT
BEGIN:VEVENT
DTSTART;TZID=America/New_York:20250413T121500
DTEND;TZID=America/New_York:20250413T133000
DTSTAMP:20260422T180329
CREATED:20250313T173302Z
LAST-MODIFIED:20250313T173951Z
UID:10006608-1744546500-1744551000@waverlychurch.org
SUMMARY:Coffee Hour
DESCRIPTION:Join us after service weekly for a chance to share fellowship over coffee and snacks
URL:https://waverlychurch.org/event/coffee-hour-3-2-2/2025-04-13/
LOCATION:Lounge
END:VEVENT
BEGIN:VEVENT
DTSTART;TZID=America/New_York:20250413T193000
DTEND;TZID=America/New_York:20250413T210000
DTSTAMP:20260422T180329
CREATED:20190310T184702Z
LAST-MODIFIED:20220704T145322Z
UID:10000630-1744572600-1744578000@waverlychurch.org
SUMMARY:Alcoholics Anonymous
DESCRIPTION:The Frick Park Group of Alcoholics Anonymous is holding in-person meetings in the Social Hall. \nAdditional links for AA groups are posted online at the AA Central Office.\nhttps://www.pghaa.org/
URL:https://waverlychurch.org/event/aa-2020-03-22-2021-07-04/2025-04-13/
LOCATION:Social Hall
END:VEVENT
BEGIN:VEVENT
DTSTART;TZID=America/New_York:20250414T170000
DTEND;TZID=America/New_York:20250414T180000
DTSTAMP:20260422T180329
CREATED:20240827T181303Z
LAST-MODIFIED:20260309T184828Z
UID:10008257-1744650000-1744653600@waverlychurch.org
SUMMARY:Drawing Closer - Meeting on Zoom
DESCRIPTION:This time of contemplative prayer and exploration of poetry is different every week and open to all\, no matter your beliefs. \nClick here for the Zoom link or call by phone:\n929-436-2866\nMeeting ID: 829 0407 0235\nPasscode: 056654
URL:https://waverlychurch.org/event/drawing-closer/2025-04-14/
LOCATION:https://waverlychurch.org/event/drawing-closer/2025-04-14/
END:VEVENT
BEGIN:VEVENT
DTSTART;TZID=America/New_York:20250414T190000
DTEND;TZID=America/New_York:20250414T210000
DTSTAMP:20260422T180329
CREATED:20250109T151630Z
LAST-MODIFIED:20250109T151630Z
UID:10008675-1744657200-1744664400@waverlychurch.org
SUMMARY:Book Study Group - "The Artists' Way" by Julia Cameron
DESCRIPTION:A book study of “The Artists’ Way” by Julia Cameron.
URL:https://waverlychurch.org/event/book-study-group-the-artists-way-by-julia-cameron/2025-04-14/
LOCATION:Lounge
END:VEVENT
BEGIN:VEVENT
DTSTART;TZID=America/New_York:20250415T190000
DTEND;TZID=America/New_York:20250415T193000
DTSTAMP:20260422T180329
CREATED:20210711T201005Z
LAST-MODIFIED:20220704T150145Z
UID:10000279-1744743600-1744745400@waverlychurch.org
SUMMARY:Al-Anon [Beginners' Meeting]
DESCRIPTION:The Frick Park Al-Anon group may still be virtual. \nContact frickparkafg85[at]gmail.com with any questions.
URL:https://waverlychurch.org/event/al-anon-beginners-meeting-2022-01-04-2022-04-05/2025-04-15/
LOCATION:Social Hall
END:VEVENT
BEGIN:VEVENT
DTSTART;TZID=America/New_York:20250415T190000
DTEND;TZID=America/New_York:20250415T200000
DTSTAMP:20260422T180329
CREATED:20250220T165216Z
LAST-MODIFIED:20250220T165216Z
UID:10008973-1744743600-1744747200@waverlychurch.org
SUMMARY:Free for Good Lenten Series in the Lounge
DESCRIPTION:A safe space for exploring our faith’s connection to our thoughts\, feelings\, and actions.
URL:https://waverlychurch.org/event/free-for-good-lenten-series-in-the-lounge/2025-04-15/
LOCATION:Lounge
END:VEVENT
BEGIN:VEVENT
DTSTART;TZID=UTC:20250415T193000
DTEND;TZID=UTC:20250415T203000
DTSTAMP:20260422T180329
CREATED:20190310T185001Z
LAST-MODIFIED:20220331T225559Z
UID:10002508-1744745400-1744749000@waverlychurch.org
SUMMARY:Al-Anon
DESCRIPTION:The Frick Park Al-Anon is holding in-person meetings in the Social Hall. \nContact frickparkafg85[at]gmail.com with any questions.
URL:https://waverlychurch.org/event/al-anon-2020-03-24-2021-07-06-2021-07-13/2025-04-15/
END:VEVENT
BEGIN:VEVENT
DTSTART;TZID=America/New_York:20250417T103000
DTEND;TZID=America/New_York:20250417T140000
DTSTAMP:20260422T180329
CREATED:20241211T164945Z
LAST-MODIFIED:20241211T164945Z
UID:10008594-1744885800-1744898400@waverlychurch.org
SUMMARY:Reiki with Bob Dove and Ross Marshall
DESCRIPTION:
URL:https://waverlychurch.org/event/reiki-with-bob-dove-and-ross-marshall-2/2025-04-17/
LOCATION:Social Hall
END:VEVENT
BEGIN:VEVENT
DTSTART;TZID=America/New_York:20250417T180000
DTEND;TZID=America/New_York:20250417T200000
DTSTAMP:20260422T180329
CREATED:20250304T171957Z
LAST-MODIFIED:20250403T193138Z
UID:10008976-1744912800-1744920000@waverlychurch.org
SUMMARY:Maundy Thursday Service with Foot Washing and Communion- Potluck Dinner in the Lounge
DESCRIPTION:
URL:https://waverlychurch.org/event/maundy-thursday-service-and-potluck-in-the-lounge/
LOCATION:Lounge
END:VEVENT
BEGIN:VEVENT
DTSTART;TZID=America/New_York:20250418T100000
DTEND;TZID=America/New_York:20250418T104500
DTSTAMP:20260422T180329
CREATED:20250123T190034Z
LAST-MODIFIED:20250204T195403Z
UID:10008963-1744970400-1744973100@waverlychurch.org
SUMMARY:Qigong -Spring Session 2025
DESCRIPTION:
URL:https://waverlychurch.org/event/qigong-spring-session-2025/2025-04-18/
LOCATION:Social Hall
END:VEVENT
BEGIN:VEVENT
DTSTART;TZID=America/New_York:20250418T100000
DTEND;TZID=America/New_York:20250418T123000
DTSTAMP:20260422T180329
CREATED:20250313T152640Z
LAST-MODIFIED:20250313T152640Z
UID:10008993-1744970400-1744979400@waverlychurch.org
SUMMARY:Good Friday - Stations of the Cross Walk
DESCRIPTION:Meet at 10am at the Wilkinsburg Community Ministry 702-704 Wood St\, Pittsburgh\, PA 15221 \nOr 9:45am at Waverly to carpool.  Walk ends at Waverly.
URL:https://waverlychurch.org/event/good-friday-stations-of-the-cross-walk/
END:VEVENT
BEGIN:VEVENT
DTSTART;TZID=America/New_York:20250418T110000
DTEND;TZID=America/New_York:20250418T120000
DTSTAMP:20260422T180329
CREATED:20250123T190428Z
LAST-MODIFIED:20250123T190428Z
UID:10008706-1744974000-1744977600@waverlychurch.org
SUMMARY:Tai Chi Long Form - Spring Session 2025
DESCRIPTION:
URL:https://waverlychurch.org/event/tai-chi-long-form-spring-session-2025/2025-04-18/
END:VEVENT
BEGIN:VEVENT
DTSTART;TZID=America/New_York:20250418T190000
DTEND;TZID=America/New_York:20250418T200000
DTSTAMP:20260422T180329
CREATED:20250304T172145Z
LAST-MODIFIED:20250304T172145Z
UID:10008977-1745002800-1745006400@waverlychurch.org
SUMMARY:Good Friday Tenebrae Service in the Sanctuary
DESCRIPTION:
URL:https://waverlychurch.org/event/good-friday-tenebrae-service-in-the-sanctuary/
LOCATION:Sanctuary
END:VEVENT
BEGIN:VEVENT
DTSTART;TZID=America/New_York:20250419T100000
DTEND;TZID=America/New_York:20250419T110000
DTSTAMP:20260422T180329
CREATED:20250304T172353Z
LAST-MODIFIED:20250304T172353Z
UID:10008978-1745056800-1745060400@waverlychurch.org
SUMMARY:Easter Egg Hunt on the Lawn or Sanctuary (weather dependent)
DESCRIPTION:
URL:https://waverlychurch.org/event/easter-egg-hunt-on-the-lawn-or-sanctuary-weather-dependent/
LOCATION:Front Lawn
END:VEVENT
BEGIN:VEVENT
DTSTART;TZID=America/New_York:20250420T110000
DTEND;TZID=America/New_York:20250420T121500
DTSTAMP:20260422T180329
CREATED:20240507T182308Z
LAST-MODIFIED:20240507T182315Z
UID:10007693-1745146800-1745151300@waverlychurch.org
SUMMARY:Worship Service
DESCRIPTION:We meet on Sundays in our Sanctuary at 11am during the school year and stream services online. \nSunday’s worship service will be live-streamed over our Facebook page on Sunday mornings. \n \nhttps://www.facebook.com/pg/WaverlyChurch/videos/
URL:https://waverlychurch.org/event/worship-service-5/2025-04-20/
END:VEVENT
BEGIN:VEVENT
DTSTART;TZID=America/New_York:20250420T193000
DTEND;TZID=America/New_York:20250420T210000
DTSTAMP:20260422T180329
CREATED:20190310T184702Z
LAST-MODIFIED:20220704T145322Z
UID:10000631-1745177400-1745182800@waverlychurch.org
SUMMARY:Alcoholics Anonymous
DESCRIPTION:The Frick Park Group of Alcoholics Anonymous is holding in-person meetings in the Social Hall. \nAdditional links for AA groups are posted online at the AA Central Office.\nhttps://www.pghaa.org/
URL:https://waverlychurch.org/event/aa-2020-03-22-2021-07-04/2025-04-20/
LOCATION:Social Hall
END:VEVENT
BEGIN:VEVENT
DTSTART;TZID=America/New_York:20250421T170000
DTEND;TZID=America/New_York:20250421T180000
DTSTAMP:20260422T180329
CREATED:20240827T181303Z
LAST-MODIFIED:20260309T184828Z
UID:10008258-1745254800-1745258400@waverlychurch.org
SUMMARY:Drawing Closer - Meeting on Zoom
DESCRIPTION:This time of contemplative prayer and exploration of poetry is different every week and open to all\, no matter your beliefs. \nClick here for the Zoom link or call by phone:\n929-436-2866\nMeeting ID: 829 0407 0235\nPasscode: 056654
URL:https://waverlychurch.org/event/drawing-closer/2025-04-21/
LOCATION:https://waverlychurch.org/event/drawing-closer/2025-04-21/
END:VEVENT
BEGIN:VEVENT
DTSTART;TZID=America/New_York:20250422T190000
DTEND;TZID=America/New_York:20250422T193000
DTSTAMP:20260422T180329
CREATED:20210711T201005Z
LAST-MODIFIED:20220704T150145Z
UID:10000280-1745348400-1745350200@waverlychurch.org
SUMMARY:Al-Anon [Beginners' Meeting]
DESCRIPTION:The Frick Park Al-Anon group may still be virtual. \nContact frickparkafg85[at]gmail.com with any questions.
URL:https://waverlychurch.org/event/al-anon-beginners-meeting-2022-01-04-2022-04-05/2025-04-22/
LOCATION:Social Hall
END:VEVENT
END:VCALENDAR