BEGIN:VCALENDAR
VERSION:2.0
PRODID:-//Waverly Presbyterian Church - ECPv6.15.20//NONSGML v1.0//EN
CALSCALE:GREGORIAN
METHOD:PUBLISH
X-WR-CALNAME:Waverly Presbyterian Church
X-ORIGINAL-URL:https://waverlychurch.org
X-WR-CALDESC:Events for Waverly Presbyterian Church
REFRESH-INTERVAL;VALUE=DURATION:PT1H
X-Robots-Tag:noindex
X-PUBLISHED-TTL:PT1H
BEGIN:VTIMEZONE
TZID:UTC
BEGIN:STANDARD
TZOFFSETFROM:+0000
TZOFFSETTO:+0000
TZNAME:UTC
DTSTART:20170101T000000
END:STANDARD
END:VTIMEZONE
BEGIN:VEVENT
DTSTART;TZID=UTC:20180314T180000
DTEND;TZID=UTC:20180314T203000
DTSTAMP:20260420T024933
CREATED:20170902T043916Z
LAST-MODIFIED:20170902T043916Z
UID:10002064-1521050400-1521059400@waverlychurch.org
SUMMARY:Buddhist Meditation
DESCRIPTION:
URL:https://waverlychurch.org/event/buddhist-meditation/2018-03-14/
LOCATION:Lounge
END:VEVENT
BEGIN:VEVENT
DTSTART;TZID=UTC:20180317T090000
DTEND;TZID=UTC:20180317T100000
DTSTAMP:20260420T024933
CREATED:20170902T043749Z
LAST-MODIFIED:20170902T043749Z
UID:10002026-1521277200-1521280800@waverlychurch.org
SUMMARY:Frick Park NA Group
DESCRIPTION:
URL:https://waverlychurch.org/event/frick-park-na-group/2018-03-17/
LOCATION:Social Hall
END:VEVENT
BEGIN:VEVENT
DTSTART;TZID=UTC:20180318T110000
DTEND;TZID=UTC:20180318T120000
DTSTAMP:20260420T024933
CREATED:20170902T042601Z
LAST-MODIFIED:20170902T042601Z
UID:10002147-1521370800-1521374400@waverlychurch.org
SUMMARY:Worship
DESCRIPTION:We celebrate the Lord’s supper typically on the first of each month.  All are welcome to the table.
URL:https://waverlychurch.org/event/worship/2018-03-18/
LOCATION:Sanctuary
END:VEVENT
BEGIN:VEVENT
DTSTART;TZID=UTC:20180318T170000
DTEND;TZID=UTC:20180318T190000
DTSTAMP:20260420T024933
CREATED:20170902T043458Z
LAST-MODIFIED:20170902T043458Z
UID:10001989-1521392400-1521399600@waverlychurch.org
SUMMARY:Youth Group
DESCRIPTION:Study\, games\, and mission for grades 6 – 12.  Did we mention fun and snacks\, too?
URL:https://waverlychurch.org/event/youth-group/2018-03-18/
LOCATION:Lounge
END:VEVENT
BEGIN:VEVENT
DTSTART;TZID=UTC:20180321T180000
DTEND;TZID=UTC:20180321T203000
DTSTAMP:20260420T024933
CREATED:20170902T043916Z
LAST-MODIFIED:20170902T043916Z
UID:10002065-1521655200-1521664200@waverlychurch.org
SUMMARY:Buddhist Meditation
DESCRIPTION:
URL:https://waverlychurch.org/event/buddhist-meditation/2018-03-21/
LOCATION:Lounge
END:VEVENT
BEGIN:VEVENT
DTSTART;TZID=UTC:20180324T090000
DTEND;TZID=UTC:20180324T100000
DTSTAMP:20260420T024933
CREATED:20170902T043749Z
LAST-MODIFIED:20170902T043749Z
UID:10002027-1521882000-1521885600@waverlychurch.org
SUMMARY:Frick Park NA Group
DESCRIPTION:
URL:https://waverlychurch.org/event/frick-park-na-group/2018-03-24/
LOCATION:Social Hall
END:VEVENT
BEGIN:VEVENT
DTSTART;TZID=UTC:20180325T110000
DTEND;TZID=UTC:20180325T120000
DTSTAMP:20260420T024933
CREATED:20170902T042601Z
LAST-MODIFIED:20170902T042601Z
UID:10002148-1521975600-1521979200@waverlychurch.org
SUMMARY:Worship
DESCRIPTION:We celebrate the Lord’s supper typically on the first of each month.  All are welcome to the table.
URL:https://waverlychurch.org/event/worship/2018-03-25/
LOCATION:Sanctuary
END:VEVENT
BEGIN:VEVENT
DTSTART;TZID=UTC:20180325T170000
DTEND;TZID=UTC:20180325T190000
DTSTAMP:20260420T024933
CREATED:20170902T043458Z
LAST-MODIFIED:20170902T043458Z
UID:10001990-1521997200-1522004400@waverlychurch.org
SUMMARY:Youth Group
DESCRIPTION:Study\, games\, and mission for grades 6 – 12.  Did we mention fun and snacks\, too?
URL:https://waverlychurch.org/event/youth-group/2018-03-25/
LOCATION:Lounge
END:VEVENT
BEGIN:VEVENT
DTSTART;TZID=UTC:20180328T180000
DTEND;TZID=UTC:20180328T203000
DTSTAMP:20260420T024933
CREATED:20170902T043916Z
LAST-MODIFIED:20170902T043916Z
UID:10002066-1522260000-1522269000@waverlychurch.org
SUMMARY:Buddhist Meditation
DESCRIPTION:
URL:https://waverlychurch.org/event/buddhist-meditation/2018-03-28/
LOCATION:Lounge
END:VEVENT
BEGIN:VEVENT
DTSTART;TZID=UTC:20180331T090000
DTEND;TZID=UTC:20180331T100000
DTSTAMP:20260420T024933
CREATED:20170902T043749Z
LAST-MODIFIED:20170902T043749Z
UID:10002028-1522486800-1522490400@waverlychurch.org
SUMMARY:Frick Park NA Group
DESCRIPTION:
URL:https://waverlychurch.org/event/frick-park-na-group/2018-03-31/
LOCATION:Social Hall
END:VEVENT
BEGIN:VEVENT
DTSTART;TZID=UTC:20180401T110000
DTEND;TZID=UTC:20180401T120000
DTSTAMP:20260420T024933
CREATED:20170902T042601Z
LAST-MODIFIED:20170902T042601Z
UID:10002149-1522580400-1522584000@waverlychurch.org
SUMMARY:Worship
DESCRIPTION:We celebrate the Lord’s supper typically on the first of each month.  All are welcome to the table.
URL:https://waverlychurch.org/event/worship/2018-04-01/
LOCATION:Sanctuary
END:VEVENT
BEGIN:VEVENT
DTSTART;TZID=UTC:20180404T180000
DTEND;TZID=UTC:20180404T203000
DTSTAMP:20260420T024933
CREATED:20170902T043916Z
LAST-MODIFIED:20170902T043916Z
UID:10002067-1522864800-1522873800@waverlychurch.org
SUMMARY:Buddhist Meditation
DESCRIPTION:
URL:https://waverlychurch.org/event/buddhist-meditation/2018-04-04/
LOCATION:Lounge
END:VEVENT
BEGIN:VEVENT
DTSTART;TZID=UTC:20180407T090000
DTEND;TZID=UTC:20180407T100000
DTSTAMP:20260420T024933
CREATED:20170902T043749Z
LAST-MODIFIED:20170902T043749Z
UID:10002029-1523091600-1523095200@waverlychurch.org
SUMMARY:Frick Park NA Group
DESCRIPTION:
URL:https://waverlychurch.org/event/frick-park-na-group/2018-04-07/
LOCATION:Social Hall
END:VEVENT
BEGIN:VEVENT
DTSTART;TZID=UTC:20180408T110000
DTEND;TZID=UTC:20180408T120000
DTSTAMP:20260420T024933
CREATED:20170902T042601Z
LAST-MODIFIED:20170902T042601Z
UID:10002150-1523185200-1523188800@waverlychurch.org
SUMMARY:Worship
DESCRIPTION:We celebrate the Lord’s supper typically on the first of each month.  All are welcome to the table.
URL:https://waverlychurch.org/event/worship/2018-04-08/
LOCATION:Sanctuary
END:VEVENT
BEGIN:VEVENT
DTSTART;TZID=UTC:20180408T170000
DTEND;TZID=UTC:20180408T190000
DTSTAMP:20260420T024933
CREATED:20170902T043458Z
LAST-MODIFIED:20170902T043458Z
UID:10001991-1523206800-1523214000@waverlychurch.org
SUMMARY:Youth Group
DESCRIPTION:Study\, games\, and mission for grades 6 – 12.  Did we mention fun and snacks\, too?
URL:https://waverlychurch.org/event/youth-group/2018-04-08/
LOCATION:Lounge
END:VEVENT
BEGIN:VEVENT
DTSTART;TZID=UTC:20180411T180000
DTEND;TZID=UTC:20180411T203000
DTSTAMP:20260420T024933
CREATED:20170902T043916Z
LAST-MODIFIED:20170902T043916Z
UID:10002068-1523469600-1523478600@waverlychurch.org
SUMMARY:Buddhist Meditation
DESCRIPTION:
URL:https://waverlychurch.org/event/buddhist-meditation/2018-04-11/
LOCATION:Lounge
END:VEVENT
BEGIN:VEVENT
DTSTART;TZID=UTC:20180414T090000
DTEND;TZID=UTC:20180414T100000
DTSTAMP:20260420T024933
CREATED:20170902T043749Z
LAST-MODIFIED:20170902T043749Z
UID:10002030-1523696400-1523700000@waverlychurch.org
SUMMARY:Frick Park NA Group
DESCRIPTION:
URL:https://waverlychurch.org/event/frick-park-na-group/2018-04-14/
LOCATION:Social Hall
END:VEVENT
BEGIN:VEVENT
DTSTART;TZID=UTC:20180415T110000
DTEND;TZID=UTC:20180415T120000
DTSTAMP:20260420T024933
CREATED:20170902T042601Z
LAST-MODIFIED:20170902T042601Z
UID:10002151-1523790000-1523793600@waverlychurch.org
SUMMARY:Worship
DESCRIPTION:We celebrate the Lord’s supper typically on the first of each month.  All are welcome to the table.
URL:https://waverlychurch.org/event/worship/2018-04-15/
LOCATION:Sanctuary
END:VEVENT
BEGIN:VEVENT
DTSTART;TZID=UTC:20180415T170000
DTEND;TZID=UTC:20180415T190000
DTSTAMP:20260420T024933
CREATED:20170902T043458Z
LAST-MODIFIED:20170902T043458Z
UID:10001992-1523811600-1523818800@waverlychurch.org
SUMMARY:Youth Group
DESCRIPTION:Study\, games\, and mission for grades 6 – 12.  Did we mention fun and snacks\, too?
URL:https://waverlychurch.org/event/youth-group/2018-04-15/
LOCATION:Lounge
END:VEVENT
BEGIN:VEVENT
DTSTART;TZID=UTC:20180418T180000
DTEND;TZID=UTC:20180418T203000
DTSTAMP:20260420T024933
CREATED:20170902T043916Z
LAST-MODIFIED:20170902T043916Z
UID:10002069-1524074400-1524083400@waverlychurch.org
SUMMARY:Buddhist Meditation
DESCRIPTION:
URL:https://waverlychurch.org/event/buddhist-meditation/2018-04-18/
LOCATION:Lounge
END:VEVENT
BEGIN:VEVENT
DTSTART;TZID=UTC:20180421T090000
DTEND;TZID=UTC:20180421T100000
DTSTAMP:20260420T024933
CREATED:20170902T043749Z
LAST-MODIFIED:20170902T043749Z
UID:10002031-1524301200-1524304800@waverlychurch.org
SUMMARY:Frick Park NA Group
DESCRIPTION:
URL:https://waverlychurch.org/event/frick-park-na-group/2018-04-21/
LOCATION:Social Hall
END:VEVENT
BEGIN:VEVENT
DTSTART;TZID=UTC:20180422T110000
DTEND;TZID=UTC:20180422T120000
DTSTAMP:20260420T024933
CREATED:20170902T042601Z
LAST-MODIFIED:20170902T042601Z
UID:10002152-1524394800-1524398400@waverlychurch.org
SUMMARY:Worship
DESCRIPTION:We celebrate the Lord’s supper typically on the first of each month.  All are welcome to the table.
URL:https://waverlychurch.org/event/worship/2018-04-22/
LOCATION:Sanctuary
END:VEVENT
BEGIN:VEVENT
DTSTART;TZID=UTC:20180422T170000
DTEND;TZID=UTC:20180422T190000
DTSTAMP:20260420T024933
CREATED:20170902T043458Z
LAST-MODIFIED:20170902T043458Z
UID:10001993-1524416400-1524423600@waverlychurch.org
SUMMARY:Youth Group
DESCRIPTION:Study\, games\, and mission for grades 6 – 12.  Did we mention fun and snacks\, too?
URL:https://waverlychurch.org/event/youth-group/2018-04-22/
LOCATION:Lounge
END:VEVENT
BEGIN:VEVENT
DTSTART;TZID=UTC:20180425T180000
DTEND;TZID=UTC:20180425T203000
DTSTAMP:20260420T024933
CREATED:20170902T043916Z
LAST-MODIFIED:20170902T043916Z
UID:10002070-1524679200-1524688200@waverlychurch.org
SUMMARY:Buddhist Meditation
DESCRIPTION:
URL:https://waverlychurch.org/event/buddhist-meditation/2018-04-25/
LOCATION:Lounge
END:VEVENT
BEGIN:VEVENT
DTSTART;TZID=UTC:20180428T090000
DTEND;TZID=UTC:20180428T100000
DTSTAMP:20260420T024933
CREATED:20170902T043749Z
LAST-MODIFIED:20170902T043749Z
UID:10002032-1524906000-1524909600@waverlychurch.org
SUMMARY:Frick Park NA Group
DESCRIPTION:
URL:https://waverlychurch.org/event/frick-park-na-group/2018-04-28/
LOCATION:Social Hall
END:VEVENT
BEGIN:VEVENT
DTSTART;TZID=UTC:20180429T110000
DTEND;TZID=UTC:20180429T120000
DTSTAMP:20260420T024933
CREATED:20170902T042601Z
LAST-MODIFIED:20170902T042601Z
UID:10002153-1524999600-1525003200@waverlychurch.org
SUMMARY:Worship
DESCRIPTION:We celebrate the Lord’s supper typically on the first of each month.  All are welcome to the table.
URL:https://waverlychurch.org/event/worship/2018-04-29/
LOCATION:Sanctuary
END:VEVENT
BEGIN:VEVENT
DTSTART;TZID=UTC:20180429T170000
DTEND;TZID=UTC:20180429T190000
DTSTAMP:20260420T024933
CREATED:20170902T043458Z
LAST-MODIFIED:20170902T043458Z
UID:10001994-1525021200-1525028400@waverlychurch.org
SUMMARY:Youth Group
DESCRIPTION:Study\, games\, and mission for grades 6 – 12.  Did we mention fun and snacks\, too?
URL:https://waverlychurch.org/event/youth-group/2018-04-29/
LOCATION:Lounge
END:VEVENT
BEGIN:VEVENT
DTSTART;TZID=UTC:20180502T180000
DTEND;TZID=UTC:20180502T203000
DTSTAMP:20260420T024933
CREATED:20170902T043916Z
LAST-MODIFIED:20170902T043916Z
UID:10002071-1525284000-1525293000@waverlychurch.org
SUMMARY:Buddhist Meditation
DESCRIPTION:
URL:https://waverlychurch.org/event/buddhist-meditation/2018-05-02/
LOCATION:Lounge
END:VEVENT
BEGIN:VEVENT
DTSTART;TZID=UTC:20180505T090000
DTEND;TZID=UTC:20180505T100000
DTSTAMP:20260420T024933
CREATED:20170902T043749Z
LAST-MODIFIED:20170902T043749Z
UID:10002033-1525510800-1525514400@waverlychurch.org
SUMMARY:Frick Park NA Group
DESCRIPTION:
URL:https://waverlychurch.org/event/frick-park-na-group/2018-05-05/
LOCATION:Social Hall
END:VEVENT
BEGIN:VEVENT
DTSTART;TZID=UTC:20180506T110000
DTEND;TZID=UTC:20180506T120000
DTSTAMP:20260420T024933
CREATED:20170902T042601Z
LAST-MODIFIED:20170902T042601Z
UID:10002154-1525604400-1525608000@waverlychurch.org
SUMMARY:Worship
DESCRIPTION:We celebrate the Lord’s supper typically on the first of each month.  All are welcome to the table.
URL:https://waverlychurch.org/event/worship/2018-05-06/
LOCATION:Sanctuary
END:VEVENT
END:VCALENDAR