BEGIN:VCALENDAR
VERSION:2.0
PRODID:-//Waverly Presbyterian Church - ECPv6.15.20//NONSGML v1.0//EN
CALSCALE:GREGORIAN
METHOD:PUBLISH
X-ORIGINAL-URL:https://waverlychurch.org
X-WR-CALDESC:Events for Waverly Presbyterian Church
REFRESH-INTERVAL;VALUE=DURATION:PT1H
X-Robots-Tag:noindex
X-PUBLISHED-TTL:PT1H
BEGIN:VTIMEZONE
TZID:America/New_York
BEGIN:DAYLIGHT
TZOFFSETFROM:-0500
TZOFFSETTO:-0400
TZNAME:EDT
DTSTART:20250309T070000
END:DAYLIGHT
BEGIN:STANDARD
TZOFFSETFROM:-0400
TZOFFSETTO:-0500
TZNAME:EST
DTSTART:20251102T060000
END:STANDARD
BEGIN:DAYLIGHT
TZOFFSETFROM:-0500
TZOFFSETTO:-0400
TZNAME:EDT
DTSTART:20260308T070000
END:DAYLIGHT
BEGIN:STANDARD
TZOFFSETFROM:-0400
TZOFFSETTO:-0500
TZNAME:EST
DTSTART:20261101T060000
END:STANDARD
BEGIN:DAYLIGHT
TZOFFSETFROM:-0500
TZOFFSETTO:-0400
TZNAME:EDT
DTSTART:20270314T070000
END:DAYLIGHT
BEGIN:STANDARD
TZOFFSETFROM:-0400
TZOFFSETTO:-0500
TZNAME:EST
DTSTART:20271107T060000
END:STANDARD
END:VTIMEZONE
BEGIN:VTIMEZONE
TZID:UTC
BEGIN:STANDARD
TZOFFSETFROM:+0000
TZOFFSETTO:+0000
TZNAME:UTC
DTSTART:20250101T000000
END:STANDARD
END:VTIMEZONE
BEGIN:VEVENT
DTSTART;TZID=America/New_York:20260717T110000
DTEND;TZID=America/New_York:20260717T120000
DTSTAMP:20260420T031458
CREATED:20260331T162831Z
LAST-MODIFIED:20260331T162831Z
UID:10133156-1784286000-1784289600@waverlychurch.org
SUMMARY:Tai Chi - Summer Session II - Social Hall
DESCRIPTION:
URL:https://waverlychurch.org/event/tai-chi-summer-session-ii-social-hall/2026-07-17/
END:VEVENT
BEGIN:VEVENT
DTSTART;TZID=America/New_York:20260719T093000
DTEND;TZID=America/New_York:20260719T100000
DTSTAMP:20260420T031458
CREATED:20251125T184126Z
LAST-MODIFIED:20251125T184126Z
UID:10132627-1784453400-1784455200@waverlychurch.org
SUMMARY:Choir Rehearsal in Sanctuary
DESCRIPTION:
URL:https://waverlychurch.org/event/choir-rehearsal-in-sanctuary/2026-07-19/
END:VEVENT
BEGIN:VEVENT
DTSTART;TZID=America/New_York:20260719T100000
DTEND;TZID=America/New_York:20260719T105500
DTSTAMP:20260420T031458
CREATED:20260305T170350Z
LAST-MODIFIED:20260305T170351Z
UID:10007190-1784455200-1784458500@waverlychurch.org
SUMMARY:Sunday School
DESCRIPTION:All ages are welcome to join us each week for Sunday School in the following locations: \nChildren up through 1st grade: nursery (downstairs\, right side of front entrance – ring bell to enter) \nChildren and Youth 2nd grade through 12th grade in the “Wonka Room” – room off of our lower floor Social Hall. \nAdults: lounge (upstairs in back of church)
URL:https://waverlychurch.org/event/sunday-school-3-2-2-2-2-2-2-2/2026-07-19/
END:VEVENT
BEGIN:VEVENT
DTSTART;TZID=America/New_York:20260719T110000
DTEND;TZID=America/New_York:20260719T121500
DTSTAMP:20260420T031458
CREATED:20250923T171614Z
LAST-MODIFIED:20250923T171615Z
UID:10007758-1784458800-1784463300@waverlychurch.org
SUMMARY:Worship Service
DESCRIPTION:We meet on Sundays in our Sanctuary at 11am during the school year and stream services online. \nSunday’s worship service will be live-streamed over our Facebook page on Sunday mornings. \n \nhttps://www.facebook.com/pg/WaverlyChurch/videos/
URL:https://waverlychurch.org/event/worship-service-5-2-2/2026-07-19/
END:VEVENT
BEGIN:VEVENT
DTSTART;TZID=America/New_York:20260719T121500
DTEND;TZID=America/New_York:20260719T133000
DTSTAMP:20260420T031458
CREATED:20260305T165302Z
LAST-MODIFIED:20260305T170242Z
UID:10006674-1784463300-1784467800@waverlychurch.org
SUMMARY:Coffee Hour
DESCRIPTION:Join us after service weekly for a chance to share fellowship over coffee and snacks
URL:https://waverlychurch.org/event/coffee-hour-3-2-2-2-2-2/2026-07-19/
LOCATION:Lounge
END:VEVENT
BEGIN:VEVENT
DTSTART;TZID=America/New_York:20260719T193000
DTEND;TZID=America/New_York:20260719T210000
DTSTAMP:20260420T031458
CREATED:20190310T184702Z
LAST-MODIFIED:20220704T145322Z
UID:10000696-1784489400-1784494800@waverlychurch.org
SUMMARY:Alcoholics Anonymous
DESCRIPTION:The Frick Park Group of Alcoholics Anonymous is holding in-person meetings in the Social Hall. \nAdditional links for AA groups are posted online at the AA Central Office.\nhttps://www.pghaa.org/
URL:https://waverlychurch.org/event/aa-2020-03-22-2021-07-04/2026-07-19/
LOCATION:Social Hall
END:VEVENT
BEGIN:VEVENT
DTSTART;TZID=America/New_York:20260720T090000
DTEND;TZID=America/New_York:20260720T200000
DTSTAMP:20260420T031458
CREATED:20251030T152456Z
LAST-MODIFIED:20251030T152456Z
UID:10131798-1784538000-1784577600@waverlychurch.org
SUMMARY:Guitar Lessons
DESCRIPTION:ian@cainsmusiclessons.com
URL:https://waverlychurch.org/event/guitar-lessons/2026-07-20/
LOCATION:Frog Room
END:VEVENT
BEGIN:VEVENT
DTSTART;TZID=America/New_York:20260721T190000
DTEND;TZID=America/New_York:20260721T193000
DTSTAMP:20260420T031458
CREATED:20210711T201005Z
LAST-MODIFIED:20220704T150145Z
UID:10000345-1784660400-1784662200@waverlychurch.org
SUMMARY:Al-Anon [Beginners' Meeting]
DESCRIPTION:The Frick Park Al-Anon group may still be virtual. \nContact frickparkafg85[at]gmail.com with any questions.
URL:https://waverlychurch.org/event/al-anon-beginners-meeting-2022-01-04-2022-04-05/2026-07-21/
LOCATION:Social Hall
END:VEVENT
BEGIN:VEVENT
DTSTART;TZID=UTC:20260721T193000
DTEND;TZID=UTC:20260721T203000
DTSTAMP:20260420T031458
CREATED:20190310T185001Z
LAST-MODIFIED:20220331T225559Z
UID:10002574-1784662200-1784665800@waverlychurch.org
SUMMARY:Al-Anon
DESCRIPTION:The Frick Park Al-Anon is holding in-person meetings in the Social Hall. \nContact frickparkafg85[at]gmail.com with any questions.
URL:https://waverlychurch.org/event/al-anon-2020-03-24-2021-07-06-2021-07-13/2026-07-21/
END:VEVENT
BEGIN:VEVENT
DTSTART;TZID=America/New_York:20260722T090000
DTEND;TZID=America/New_York:20260722T200000
DTSTAMP:20260420T031458
CREATED:20251030T152456Z
LAST-MODIFIED:20251030T152456Z
UID:10131799-1784710800-1784750400@waverlychurch.org
SUMMARY:Guitar Lessons
DESCRIPTION:ian@cainsmusiclessons.com
URL:https://waverlychurch.org/event/guitar-lessons/2026-07-22/
LOCATION:Frog Room
END:VEVENT
BEGIN:VEVENT
DTSTART;TZID=America/New_York:20260723T103000
DTEND;TZID=America/New_York:20260723T140000
DTSTAMP:20260420T031458
CREATED:20260324T153601Z
LAST-MODIFIED:20260324T153603Z
UID:10133070-1784802600-1784815200@waverlychurch.org
SUMMARY:Reiki with Bob Dove and Ross Marshall
DESCRIPTION:
URL:https://waverlychurch.org/event/reiki-with-bob-dove-and-ross-marshall-2-2/2026-07-23/
LOCATION:Social Hall
END:VEVENT
BEGIN:VEVENT
DTSTART;TZID=America/New_York:20260723T190000
DTEND;TZID=America/New_York:20260723T203000
DTSTAMP:20260420T031458
CREATED:20251125T183555Z
LAST-MODIFIED:20251125T183747Z
UID:10132367-1784833200-1784838600@waverlychurch.org
SUMMARY:Choir Rehearsal in Lounge
DESCRIPTION:
URL:https://waverlychurch.org/event/choir-rehearsal-in-lounge/2026-07-23/
LOCATION:Lounge
END:VEVENT
BEGIN:VEVENT
DTSTART;TZID=America/New_York:20260724T100000
DTEND;TZID=America/New_York:20260724T104500
DTSTAMP:20260420T031458
CREATED:20260331T162544Z
LAST-MODIFIED:20260331T162544Z
UID:10133145-1784887200-1784889900@waverlychurch.org
SUMMARY:Qigong - Summer Session II - Social Hall
DESCRIPTION:
URL:https://waverlychurch.org/event/qigong-summer-session-ii-social-hall/2026-07-24/
END:VEVENT
BEGIN:VEVENT
DTSTART;TZID=America/New_York:20260724T110000
DTEND;TZID=America/New_York:20260724T120000
DTSTAMP:20260420T031458
CREATED:20260331T162831Z
LAST-MODIFIED:20260331T162831Z
UID:10133157-1784890800-1784894400@waverlychurch.org
SUMMARY:Tai Chi - Summer Session II - Social Hall
DESCRIPTION:
URL:https://waverlychurch.org/event/tai-chi-summer-session-ii-social-hall/2026-07-24/
END:VEVENT
BEGIN:VEVENT
DTSTART;TZID=America/New_York:20260726T093000
DTEND;TZID=America/New_York:20260726T100000
DTSTAMP:20260420T031458
CREATED:20251125T184126Z
LAST-MODIFIED:20251125T184126Z
UID:10132628-1785058200-1785060000@waverlychurch.org
SUMMARY:Choir Rehearsal in Sanctuary
DESCRIPTION:
URL:https://waverlychurch.org/event/choir-rehearsal-in-sanctuary/2026-07-26/
END:VEVENT
BEGIN:VEVENT
DTSTART;TZID=America/New_York:20260726T100000
DTEND;TZID=America/New_York:20260726T105500
DTSTAMP:20260420T031458
CREATED:20260305T170350Z
LAST-MODIFIED:20260305T170351Z
UID:10007191-1785060000-1785063300@waverlychurch.org
SUMMARY:Sunday School
DESCRIPTION:All ages are welcome to join us each week for Sunday School in the following locations: \nChildren up through 1st grade: nursery (downstairs\, right side of front entrance – ring bell to enter) \nChildren and Youth 2nd grade through 12th grade in the “Wonka Room” – room off of our lower floor Social Hall. \nAdults: lounge (upstairs in back of church)
URL:https://waverlychurch.org/event/sunday-school-3-2-2-2-2-2-2-2/2026-07-26/
END:VEVENT
BEGIN:VEVENT
DTSTART;TZID=America/New_York:20260726T110000
DTEND;TZID=America/New_York:20260726T121500
DTSTAMP:20260420T031458
CREATED:20250923T171614Z
LAST-MODIFIED:20250923T171615Z
UID:10007759-1785063600-1785068100@waverlychurch.org
SUMMARY:Worship Service
DESCRIPTION:We meet on Sundays in our Sanctuary at 11am during the school year and stream services online. \nSunday’s worship service will be live-streamed over our Facebook page on Sunday mornings. \n \nhttps://www.facebook.com/pg/WaverlyChurch/videos/
URL:https://waverlychurch.org/event/worship-service-5-2-2/2026-07-26/
END:VEVENT
BEGIN:VEVENT
DTSTART;TZID=America/New_York:20260726T121500
DTEND;TZID=America/New_York:20260726T133000
DTSTAMP:20260420T031458
CREATED:20260305T165302Z
LAST-MODIFIED:20260305T170242Z
UID:10006675-1785068100-1785072600@waverlychurch.org
SUMMARY:Coffee Hour
DESCRIPTION:Join us after service weekly for a chance to share fellowship over coffee and snacks
URL:https://waverlychurch.org/event/coffee-hour-3-2-2-2-2-2/2026-07-26/
LOCATION:Lounge
END:VEVENT
BEGIN:VEVENT
DTSTART;TZID=America/New_York:20260726T193000
DTEND;TZID=America/New_York:20260726T210000
DTSTAMP:20260420T031458
CREATED:20190310T184702Z
LAST-MODIFIED:20220704T145322Z
UID:10000697-1785094200-1785099600@waverlychurch.org
SUMMARY:Alcoholics Anonymous
DESCRIPTION:The Frick Park Group of Alcoholics Anonymous is holding in-person meetings in the Social Hall. \nAdditional links for AA groups are posted online at the AA Central Office.\nhttps://www.pghaa.org/
URL:https://waverlychurch.org/event/aa-2020-03-22-2021-07-04/2026-07-26/
LOCATION:Social Hall
END:VEVENT
BEGIN:VEVENT
DTSTART;TZID=America/New_York:20260727T090000
DTEND;TZID=America/New_York:20260727T200000
DTSTAMP:20260420T031458
CREATED:20251030T152456Z
LAST-MODIFIED:20251030T152456Z
UID:10131800-1785142800-1785182400@waverlychurch.org
SUMMARY:Guitar Lessons
DESCRIPTION:ian@cainsmusiclessons.com
URL:https://waverlychurch.org/event/guitar-lessons/2026-07-27/
LOCATION:Frog Room
END:VEVENT
BEGIN:VEVENT
DTSTART;TZID=America/New_York:20260728T190000
DTEND;TZID=America/New_York:20260728T193000
DTSTAMP:20260420T031458
CREATED:20210711T201005Z
LAST-MODIFIED:20220704T150145Z
UID:10000346-1785265200-1785267000@waverlychurch.org
SUMMARY:Al-Anon [Beginners' Meeting]
DESCRIPTION:The Frick Park Al-Anon group may still be virtual. \nContact frickparkafg85[at]gmail.com with any questions.
URL:https://waverlychurch.org/event/al-anon-beginners-meeting-2022-01-04-2022-04-05/2026-07-28/
LOCATION:Social Hall
END:VEVENT
BEGIN:VEVENT
DTSTART;TZID=UTC:20260728T193000
DTEND;TZID=UTC:20260728T203000
DTSTAMP:20260420T031458
CREATED:20190310T185001Z
LAST-MODIFIED:20220331T225559Z
UID:10002575-1785267000-1785270600@waverlychurch.org
SUMMARY:Al-Anon
DESCRIPTION:The Frick Park Al-Anon is holding in-person meetings in the Social Hall. \nContact frickparkafg85[at]gmail.com with any questions.
URL:https://waverlychurch.org/event/al-anon-2020-03-24-2021-07-06-2021-07-13/2026-07-28/
END:VEVENT
BEGIN:VEVENT
DTSTART;TZID=America/New_York:20260729T090000
DTEND;TZID=America/New_York:20260729T200000
DTSTAMP:20260420T031458
CREATED:20251030T152456Z
LAST-MODIFIED:20251030T152456Z
UID:10131801-1785315600-1785355200@waverlychurch.org
SUMMARY:Guitar Lessons
DESCRIPTION:ian@cainsmusiclessons.com
URL:https://waverlychurch.org/event/guitar-lessons/2026-07-29/
LOCATION:Frog Room
END:VEVENT
BEGIN:VEVENT
DTSTART;TZID=America/New_York:20260730T190000
DTEND;TZID=America/New_York:20260730T203000
DTSTAMP:20260420T031458
CREATED:20251125T183555Z
LAST-MODIFIED:20251125T183747Z
UID:10132368-1785438000-1785443400@waverlychurch.org
SUMMARY:Choir Rehearsal in Lounge
DESCRIPTION:
URL:https://waverlychurch.org/event/choir-rehearsal-in-lounge/2026-07-30/
LOCATION:Lounge
END:VEVENT
BEGIN:VEVENT
DTSTART;TZID=America/New_York:20260731T100000
DTEND;TZID=America/New_York:20260731T104500
DTSTAMP:20260420T031458
CREATED:20260331T162544Z
LAST-MODIFIED:20260331T162544Z
UID:10133146-1785492000-1785494700@waverlychurch.org
SUMMARY:Qigong - Summer Session II - Social Hall
DESCRIPTION:
URL:https://waverlychurch.org/event/qigong-summer-session-ii-social-hall/2026-07-31/
END:VEVENT
BEGIN:VEVENT
DTSTART;TZID=America/New_York:20260731T110000
DTEND;TZID=America/New_York:20260731T120000
DTSTAMP:20260420T031458
CREATED:20260331T162831Z
LAST-MODIFIED:20260331T162831Z
UID:10133158-1785495600-1785499200@waverlychurch.org
SUMMARY:Tai Chi - Summer Session II - Social Hall
DESCRIPTION:
URL:https://waverlychurch.org/event/tai-chi-summer-session-ii-social-hall/2026-07-31/
END:VEVENT
BEGIN:VEVENT
DTSTART;TZID=America/New_York:20260801T110000
DTEND;TZID=America/New_York:20260801T143000
DTSTAMP:20260420T031458
CREATED:20251125T184526Z
LAST-MODIFIED:20251125T184526Z
UID:10132863-1785582000-1785594600@waverlychurch.org
SUMMARY:East End N.A. Business Meeting/Social Hall
DESCRIPTION:
URL:https://waverlychurch.org/event/east-end-n-a-business-meeting-social-hall/2026-08-01/
END:VEVENT
BEGIN:VEVENT
DTSTART;TZID=America/New_York:20260802T093000
DTEND;TZID=America/New_York:20260802T100000
DTSTAMP:20260420T031458
CREATED:20251125T184126Z
LAST-MODIFIED:20251125T184126Z
UID:10132629-1785663000-1785664800@waverlychurch.org
SUMMARY:Choir Rehearsal in Sanctuary
DESCRIPTION:
URL:https://waverlychurch.org/event/choir-rehearsal-in-sanctuary/2026-08-02/
END:VEVENT
BEGIN:VEVENT
DTSTART;TZID=America/New_York:20260802T100000
DTEND;TZID=America/New_York:20260802T105500
DTSTAMP:20260420T031458
CREATED:20260305T170350Z
LAST-MODIFIED:20260305T170351Z
UID:10007192-1785664800-1785668100@waverlychurch.org
SUMMARY:Sunday School
DESCRIPTION:All ages are welcome to join us each week for Sunday School in the following locations: \nChildren up through 1st grade: nursery (downstairs\, right side of front entrance – ring bell to enter) \nChildren and Youth 2nd grade through 12th grade in the “Wonka Room” – room off of our lower floor Social Hall. \nAdults: lounge (upstairs in back of church)
URL:https://waverlychurch.org/event/sunday-school-3-2-2-2-2-2-2-2/2026-08-02/
END:VEVENT
BEGIN:VEVENT
DTSTART;TZID=America/New_York:20260802T110000
DTEND;TZID=America/New_York:20260802T121500
DTSTAMP:20260420T031458
CREATED:20250923T171614Z
LAST-MODIFIED:20250923T171615Z
UID:10007760-1785668400-1785672900@waverlychurch.org
SUMMARY:Worship Service
DESCRIPTION:We meet on Sundays in our Sanctuary at 11am during the school year and stream services online. \nSunday’s worship service will be live-streamed over our Facebook page on Sunday mornings. \n \nhttps://www.facebook.com/pg/WaverlyChurch/videos/
URL:https://waverlychurch.org/event/worship-service-5-2-2/2026-08-02/
END:VEVENT
END:VCALENDAR