BEGIN:VCALENDAR
VERSION:2.0
PRODID:-//Waverly Presbyterian Church - ECPv6.15.20//NONSGML v1.0//EN
CALSCALE:GREGORIAN
METHOD:PUBLISH
X-WR-CALNAME:Waverly Presbyterian Church
X-ORIGINAL-URL:https://waverlychurch.org
X-WR-CALDESC:Events for Waverly Presbyterian Church
REFRESH-INTERVAL;VALUE=DURATION:PT1H
X-Robots-Tag:noindex
X-PUBLISHED-TTL:PT1H
BEGIN:VTIMEZONE
TZID:UTC
BEGIN:STANDARD
TZOFFSETFROM:+0000
TZOFFSETTO:+0000
TZNAME:UTC
DTSTART:20180101T000000
END:STANDARD
END:VTIMEZONE
BEGIN:VEVENT
DTSTART;TZID=UTC:20190312T093000
DTEND;TZID=UTC:20190312T103000
DTSTAMP:20260420T154235
CREATED:20190310T185153Z
LAST-MODIFIED:20190310T185153Z
UID:10002196-1552383000-1552386600@waverlychurch.org
SUMMARY:QiGong class
DESCRIPTION:
URL:https://waverlychurch.org/event/qigong-class/2019-03-12/
END:VEVENT
BEGIN:VEVENT
DTSTART;TZID=UTC:20190312T190000
DTEND;TZID=UTC:20190312T210000
DTSTAMP:20260420T154235
CREATED:20190310T191401Z
LAST-MODIFIED:20190310T191401Z
UID:10003149-1552417200-1552424400@waverlychurch.org
SUMMARY:Christian Education Committee
DESCRIPTION:
URL:https://waverlychurch.org/event/christian-education-committee/
LOCATION:Lounge
END:VEVENT
BEGIN:VEVENT
DTSTART;TZID=UTC:20190312T190000
DTEND;TZID=UTC:20190312T210000
DTSTAMP:20260420T154235
CREATED:20190310T185001Z
LAST-MODIFIED:20190310T185001Z
UID:10002265-1552417200-1552424400@waverlychurch.org
SUMMARY:Al Anon
DESCRIPTION:
URL:https://waverlychurch.org/event/al-anon/
END:VEVENT
BEGIN:VEVENT
DTSTART;TZID=UTC:20190313T100000
DTEND;TZID=UTC:20190313T120000
DTSTAMP:20260420T154235
CREATED:20190310T185812Z
LAST-MODIFIED:20190310T185812Z
UID:10002285-1552471200-1552478400@waverlychurch.org
SUMMARY:Wed Morning Playgroup
DESCRIPTION:Pre-K youth playgroup.
URL:https://waverlychurch.org/event/wed-morning-playgroup/2019-03-13/
END:VEVENT
BEGIN:VEVENT
DTSTART;TZID=UTC:20190313T180000
DTEND;TZID=UTC:20190313T203000
DTSTAMP:20260420T154235
CREATED:20190310T185922Z
LAST-MODIFIED:20190310T185922Z
UID:10003153-1552500000-1552509000@waverlychurch.org
SUMMARY:Tai Chi
DESCRIPTION:
URL:https://waverlychurch.org/event/tai-chi/2019-03-13/
LOCATION:Social Hall
END:VEVENT
BEGIN:VEVENT
DTSTART;TZID=UTC:20190314T193000
DTEND;TZID=UTC:20190314T210000
DTSTAMP:20260420T154235
CREATED:20190310T183828Z
LAST-MODIFIED:20190407T182944Z
UID:10002268-1552591800-1552597200@waverlychurch.org
SUMMARY:Chancel Choir
DESCRIPTION:Please come join us! Everyone is invited to come sing together.
URL:https://waverlychurch.org/event/chancel-choir/2019-03-14/
END:VEVENT
BEGIN:VEVENT
DTSTART;TZID=UTC:20190315T190000
DTEND;TZID=UTC:20190315T210000
DTSTAMP:20260420T154235
CREATED:20190310T190658Z
LAST-MODIFIED:20190310T190931Z
UID:10002663-1552676400-1552683600@waverlychurch.org
SUMMARY:Opera House
DESCRIPTION:Youth melodrama practice!!
URL:https://waverlychurch.org/event/opera-house/2019-03-15/
END:VEVENT
BEGIN:VEVENT
DTSTART;TZID=UTC:20190316T090000
DTEND;TZID=UTC:20190316T120000
DTSTAMP:20260420T154235
CREATED:20190310T191734Z
LAST-MODIFIED:20190310T191801Z
UID:10003150-1552726800-1552737600@waverlychurch.org
SUMMARY:Women’s Retreat
DESCRIPTION:Women’s Retreat 9:00-noon\, Honest John’s \nEveryone is welcome. Please Join us!
URL:https://waverlychurch.org/event/womens-retreat/
LOCATION:Honest John’s Restaurant\, 216 E 8th Ave\, Homestead\, PA\, 15120\, United States
END:VEVENT
BEGIN:VEVENT
DTSTART;TZID=UTC:20190317T100000
DTEND;TZID=UTC:20190317T110000
DTSTAMP:20260420T154235
CREATED:20190310T182806Z
LAST-MODIFIED:20190310T182806Z
UID:10002222-1552816800-1552820400@waverlychurch.org
SUMMARY:Sunday School
DESCRIPTION:Classes for pre-K through adult.
URL:https://waverlychurch.org/event/sunday-school-2/2019-03-17/
END:VEVENT
BEGIN:VEVENT
DTSTART;TZID=UTC:20190317T110000
DTEND;TZID=UTC:20190317T120000
DTSTAMP:20260420T154235
CREATED:20190310T183008Z
LAST-MODIFIED:20190310T192706Z
UID:10002234-1552820400-1552824000@waverlychurch.org
SUMMARY:Worship Service
DESCRIPTION:
URL:https://waverlychurch.org/event/worship-service/2019-03-17/
LOCATION:Sanctuary
END:VEVENT
BEGIN:VEVENT
DTSTART;TZID=UTC:20190317T190000
DTEND;TZID=UTC:20190317T210000
DTSTAMP:20260420T154235
CREATED:20190310T190658Z
LAST-MODIFIED:20190310T190931Z
UID:10002664-1552849200-1552856400@waverlychurch.org
SUMMARY:Opera House
DESCRIPTION:Youth melodrama practice!!
URL:https://waverlychurch.org/event/opera-house/2019-03-17/
END:VEVENT
BEGIN:VEVENT
DTSTART;TZID=UTC:20190318T190000
DTEND;TZID=UTC:20190318T200000
DTSTAMP:20260420T154235
CREATED:20190310T184856Z
LAST-MODIFIED:20190407T184613Z
UID:10002245-1552935600-1552939200@waverlychurch.org
SUMMARY:African Drumming
DESCRIPTION:
URL:https://waverlychurch.org/event/african-drumming/2019-03-18/
LOCATION:Social Hall
END:VEVENT
BEGIN:VEVENT
DTSTART;TZID=UTC:20190318T190000
DTEND;TZID=UTC:20190318T210000
DTSTAMP:20260420T154235
CREATED:20190310T190311Z
LAST-MODIFIED:20190310T190506Z
UID:10003179-1552935600-1552942800@waverlychurch.org
SUMMARY:Search for God Study group
DESCRIPTION:
URL:https://waverlychurch.org/event/search-for-god-study-group/2019-03-18/
LOCATION:Lounge
END:VEVENT
BEGIN:VEVENT
DTSTART;TZID=UTC:20190319T093000
DTEND;TZID=UTC:20190319T103000
DTSTAMP:20260420T154235
CREATED:20190310T185153Z
LAST-MODIFIED:20190310T185153Z
UID:10002197-1552987800-1552991400@waverlychurch.org
SUMMARY:QiGong class
DESCRIPTION:
URL:https://waverlychurch.org/event/qigong-class/2019-03-19/
END:VEVENT
BEGIN:VEVENT
DTSTART;TZID=UTC:20190319T190000
DTEND;TZID=UTC:20190319T200000
DTSTAMP:20260420T154235
CREATED:20190310T192259Z
LAST-MODIFIED:20190310T192259Z
UID:10002659-1553022000-1553025600@waverlychurch.org
SUMMARY:Property Committee Meeting
DESCRIPTION:Property Committee\, 7:00 pm\, Pastor’s office
URL:https://waverlychurch.org/event/property-committee-meeting/
LOCATION:Pastor’s Study
END:VEVENT
BEGIN:VEVENT
DTSTART;TZID=UTC:20190319T190000
DTEND;TZID=UTC:20190319T210000
DTSTAMP:20260420T154235
CREATED:20190310T191909Z
LAST-MODIFIED:20190310T191958Z
UID:10002311-1553022000-1553029200@waverlychurch.org
SUMMARY:Music and Worship Committee
DESCRIPTION:Music and Worship\, 7:00 pm\, Lounge
URL:https://waverlychurch.org/event/music-and-worship-committee/
LOCATION:Lounge
END:VEVENT
BEGIN:VEVENT
DTSTART;TZID=UTC:20190320T100000
DTEND;TZID=UTC:20190320T120000
DTSTAMP:20260420T154235
CREATED:20190310T185812Z
LAST-MODIFIED:20190310T185812Z
UID:10002286-1553076000-1553083200@waverlychurch.org
SUMMARY:Wed Morning Playgroup
DESCRIPTION:Pre-K youth playgroup.
URL:https://waverlychurch.org/event/wed-morning-playgroup/2019-03-20/
END:VEVENT
BEGIN:VEVENT
DTSTART;TZID=UTC:20190320T180000
DTEND;TZID=UTC:20190320T203000
DTSTAMP:20260420T154235
CREATED:20190310T185922Z
LAST-MODIFIED:20190310T185922Z
UID:10003154-1553104800-1553113800@waverlychurch.org
SUMMARY:Tai Chi
DESCRIPTION:
URL:https://waverlychurch.org/event/tai-chi/2019-03-20/
LOCATION:Social Hall
END:VEVENT
BEGIN:VEVENT
DTSTART;TZID=UTC:20190320T190000
DTEND;TZID=UTC:20190320T210000
DTSTAMP:20260420T154235
CREATED:20190310T192409Z
LAST-MODIFIED:20190310T192409Z
UID:10002660-1553108400-1553115600@waverlychurch.org
SUMMARY:Session Meeting
DESCRIPTION:Session\, 7:00 pm\, Lounge
URL:https://waverlychurch.org/event/session-meeting/
LOCATION:Lounge
END:VEVENT
BEGIN:VEVENT
DTSTART;TZID=UTC:20190322T190000
DTEND;TZID=UTC:20190322T210000
DTSTAMP:20260420T154235
CREATED:20190310T190658Z
LAST-MODIFIED:20190310T190931Z
UID:10002665-1553281200-1553288400@waverlychurch.org
SUMMARY:Opera House
DESCRIPTION:Youth melodrama practice!!
URL:https://waverlychurch.org/event/opera-house/2019-03-22/
END:VEVENT
BEGIN:VEVENT
DTSTART;TZID=UTC:20190324T100000
DTEND;TZID=UTC:20190324T110000
DTSTAMP:20260420T154235
CREATED:20190310T182806Z
LAST-MODIFIED:20190310T182806Z
UID:10002223-1553421600-1553425200@waverlychurch.org
SUMMARY:Sunday School
DESCRIPTION:Classes for pre-K through adult.
URL:https://waverlychurch.org/event/sunday-school-2/2019-03-24/
END:VEVENT
BEGIN:VEVENT
DTSTART;TZID=UTC:20190324T110000
DTEND;TZID=UTC:20190324T120000
DTSTAMP:20260420T154235
CREATED:20190310T183008Z
LAST-MODIFIED:20190310T192706Z
UID:10002235-1553425200-1553428800@waverlychurch.org
SUMMARY:Worship Service
DESCRIPTION:
URL:https://waverlychurch.org/event/worship-service/2019-03-24/
LOCATION:Sanctuary
END:VEVENT
BEGIN:VEVENT
DTSTART;TZID=UTC:20190324T190000
DTEND;TZID=UTC:20190324T210000
DTSTAMP:20260420T154235
CREATED:20190310T190658Z
LAST-MODIFIED:20190310T190931Z
UID:10002666-1553454000-1553461200@waverlychurch.org
SUMMARY:Opera House
DESCRIPTION:Youth melodrama practice!!
URL:https://waverlychurch.org/event/opera-house/2019-03-24/
END:VEVENT
BEGIN:VEVENT
DTSTART;TZID=UTC:20190325T190000
DTEND;TZID=UTC:20190325T200000
DTSTAMP:20260420T154235
CREATED:20190310T184856Z
LAST-MODIFIED:20190407T184613Z
UID:10002246-1553540400-1553544000@waverlychurch.org
SUMMARY:African Drumming
DESCRIPTION:
URL:https://waverlychurch.org/event/african-drumming/2019-03-25/
LOCATION:Social Hall
END:VEVENT
BEGIN:VEVENT
DTSTART;TZID=UTC:20190325T190000
DTEND;TZID=UTC:20190325T210000
DTSTAMP:20260420T154235
CREATED:20190310T190311Z
LAST-MODIFIED:20190310T190506Z
UID:10003180-1553540400-1553547600@waverlychurch.org
SUMMARY:Search for God Study group
DESCRIPTION:
URL:https://waverlychurch.org/event/search-for-god-study-group/2019-03-25/
LOCATION:Lounge
END:VEVENT
BEGIN:VEVENT
DTSTART;TZID=UTC:20190326T093000
DTEND;TZID=UTC:20190326T103000
DTSTAMP:20260420T154235
CREATED:20190310T185153Z
LAST-MODIFIED:20190310T185153Z
UID:10002198-1553592600-1553596200@waverlychurch.org
SUMMARY:QiGong class
DESCRIPTION:
URL:https://waverlychurch.org/event/qigong-class/2019-03-26/
END:VEVENT
BEGIN:VEVENT
DTSTART;TZID=UTC:20190327T100000
DTEND;TZID=UTC:20190327T120000
DTSTAMP:20260420T154235
CREATED:20190310T185812Z
LAST-MODIFIED:20190310T185812Z
UID:10002287-1553680800-1553688000@waverlychurch.org
SUMMARY:Wed Morning Playgroup
DESCRIPTION:Pre-K youth playgroup.
URL:https://waverlychurch.org/event/wed-morning-playgroup/2019-03-27/
END:VEVENT
BEGIN:VEVENT
DTSTART;TZID=UTC:20190327T180000
DTEND;TZID=UTC:20190327T203000
DTSTAMP:20260420T154235
CREATED:20190310T185922Z
LAST-MODIFIED:20190310T185922Z
UID:10003155-1553709600-1553718600@waverlychurch.org
SUMMARY:Tai Chi
DESCRIPTION:
URL:https://waverlychurch.org/event/tai-chi/2019-03-27/
LOCATION:Social Hall
END:VEVENT
BEGIN:VEVENT
DTSTART;TZID=UTC:20190329T190000
DTEND;TZID=UTC:20190329T210000
DTSTAMP:20260420T154235
CREATED:20190310T190658Z
LAST-MODIFIED:20190310T190931Z
UID:10002667-1553886000-1553893200@waverlychurch.org
SUMMARY:Opera House
DESCRIPTION:Youth melodrama practice!!
URL:https://waverlychurch.org/event/opera-house/2019-03-29/
END:VEVENT
BEGIN:VEVENT
DTSTART;TZID=UTC:20190331T100000
DTEND;TZID=UTC:20190331T110000
DTSTAMP:20260420T154235
CREATED:20190310T182806Z
LAST-MODIFIED:20190310T182806Z
UID:10002224-1554026400-1554030000@waverlychurch.org
SUMMARY:Sunday School
DESCRIPTION:Classes for pre-K through adult.
URL:https://waverlychurch.org/event/sunday-school-2/2019-03-31/
END:VEVENT
END:VCALENDAR