BEGIN:VCALENDAR
VERSION:2.0
PRODID:-//Waverly Presbyterian Church - ECPv6.15.20//NONSGML v1.0//EN
CALSCALE:GREGORIAN
METHOD:PUBLISH
X-WR-CALNAME:Waverly Presbyterian Church
X-ORIGINAL-URL:https://waverlychurch.org
X-WR-CALDESC:Events for Waverly Presbyterian Church
REFRESH-INTERVAL;VALUE=DURATION:PT1H
X-Robots-Tag:noindex
X-PUBLISHED-TTL:PT1H
BEGIN:VTIMEZONE
TZID:UTC
BEGIN:STANDARD
TZOFFSETFROM:+0000
TZOFFSETTO:+0000
TZNAME:UTC
DTSTART:20180101T000000
END:STANDARD
END:VTIMEZONE
BEGIN:VEVENT
DTSTART;TZID=UTC:20190325T190000
DTEND;TZID=UTC:20190325T210000
DTSTAMP:20260420T172238
CREATED:20190310T190311Z
LAST-MODIFIED:20190310T190506Z
UID:10003180-1553540400-1553547600@waverlychurch.org
SUMMARY:Search for God Study group
DESCRIPTION:
URL:https://waverlychurch.org/event/search-for-god-study-group/2019-03-25/
LOCATION:Lounge
END:VEVENT
BEGIN:VEVENT
DTSTART;TZID=UTC:20190326T093000
DTEND;TZID=UTC:20190326T103000
DTSTAMP:20260420T172238
CREATED:20190310T185153Z
LAST-MODIFIED:20190310T185153Z
UID:10002198-1553592600-1553596200@waverlychurch.org
SUMMARY:QiGong class
DESCRIPTION:
URL:https://waverlychurch.org/event/qigong-class/2019-03-26/
END:VEVENT
BEGIN:VEVENT
DTSTART;TZID=UTC:20190327T100000
DTEND;TZID=UTC:20190327T120000
DTSTAMP:20260420T172238
CREATED:20190310T185812Z
LAST-MODIFIED:20190310T185812Z
UID:10002287-1553680800-1553688000@waverlychurch.org
SUMMARY:Wed Morning Playgroup
DESCRIPTION:Pre-K youth playgroup.
URL:https://waverlychurch.org/event/wed-morning-playgroup/2019-03-27/
END:VEVENT
BEGIN:VEVENT
DTSTART;TZID=UTC:20190327T180000
DTEND;TZID=UTC:20190327T203000
DTSTAMP:20260420T172238
CREATED:20190310T185922Z
LAST-MODIFIED:20190310T185922Z
UID:10003155-1553709600-1553718600@waverlychurch.org
SUMMARY:Tai Chi
DESCRIPTION:
URL:https://waverlychurch.org/event/tai-chi/2019-03-27/
LOCATION:Social Hall
END:VEVENT
BEGIN:VEVENT
DTSTART;TZID=UTC:20190329T190000
DTEND;TZID=UTC:20190329T210000
DTSTAMP:20260420T172238
CREATED:20190310T190658Z
LAST-MODIFIED:20190310T190931Z
UID:10002667-1553886000-1553893200@waverlychurch.org
SUMMARY:Opera House
DESCRIPTION:Youth melodrama practice!!
URL:https://waverlychurch.org/event/opera-house/2019-03-29/
END:VEVENT
BEGIN:VEVENT
DTSTART;TZID=UTC:20190331T100000
DTEND;TZID=UTC:20190331T110000
DTSTAMP:20260420T172238
CREATED:20190310T182806Z
LAST-MODIFIED:20190310T182806Z
UID:10002224-1554026400-1554030000@waverlychurch.org
SUMMARY:Sunday School
DESCRIPTION:Classes for pre-K through adult.
URL:https://waverlychurch.org/event/sunday-school-2/2019-03-31/
END:VEVENT
BEGIN:VEVENT
DTSTART;TZID=UTC:20190331T110000
DTEND;TZID=UTC:20190331T120000
DTSTAMP:20260420T172238
CREATED:20190310T183008Z
LAST-MODIFIED:20190310T192706Z
UID:10002236-1554030000-1554033600@waverlychurch.org
SUMMARY:Worship Service
DESCRIPTION:
URL:https://waverlychurch.org/event/worship-service/2019-03-31/
LOCATION:Sanctuary
END:VEVENT
BEGIN:VEVENT
DTSTART;TZID=UTC:20190331T190000
DTEND;TZID=UTC:20190331T210000
DTSTAMP:20260420T172238
CREATED:20190310T190658Z
LAST-MODIFIED:20190310T190931Z
UID:10002668-1554058800-1554066000@waverlychurch.org
SUMMARY:Opera House
DESCRIPTION:Youth melodrama practice!!
URL:https://waverlychurch.org/event/opera-house/2019-03-31/
END:VEVENT
BEGIN:VEVENT
DTSTART;TZID=UTC:20190401T190000
DTEND;TZID=UTC:20190401T200000
DTSTAMP:20260420T172238
CREATED:20190310T184856Z
LAST-MODIFIED:20190407T184613Z
UID:10002247-1554145200-1554148800@waverlychurch.org
SUMMARY:African Drumming
DESCRIPTION:
URL:https://waverlychurch.org/event/african-drumming/2019-04-01/
LOCATION:Social Hall
END:VEVENT
BEGIN:VEVENT
DTSTART;TZID=UTC:20190401T190000
DTEND;TZID=UTC:20190401T210000
DTSTAMP:20260420T172238
CREATED:20190310T190311Z
LAST-MODIFIED:20190310T190506Z
UID:10003181-1554145200-1554152400@waverlychurch.org
SUMMARY:Search for God Study group
DESCRIPTION:
URL:https://waverlychurch.org/event/search-for-god-study-group/2019-04-01/
LOCATION:Lounge
END:VEVENT
BEGIN:VEVENT
DTSTART;TZID=UTC:20190402T093000
DTEND;TZID=UTC:20190402T103000
DTSTAMP:20260420T172238
CREATED:20190310T185153Z
LAST-MODIFIED:20190310T185153Z
UID:10002199-1554197400-1554201000@waverlychurch.org
SUMMARY:QiGong class
DESCRIPTION:
URL:https://waverlychurch.org/event/qigong-class/2019-04-02/
END:VEVENT
BEGIN:VEVENT
DTSTART;TZID=UTC:20190403T100000
DTEND;TZID=UTC:20190403T120000
DTSTAMP:20260420T172238
CREATED:20190310T185812Z
LAST-MODIFIED:20190310T185812Z
UID:10002288-1554285600-1554292800@waverlychurch.org
SUMMARY:Wed Morning Playgroup
DESCRIPTION:Pre-K youth playgroup.
URL:https://waverlychurch.org/event/wed-morning-playgroup/2019-04-03/
END:VEVENT
BEGIN:VEVENT
DTSTART;TZID=UTC:20190403T180000
DTEND;TZID=UTC:20190403T203000
DTSTAMP:20260420T172238
CREATED:20190310T185922Z
LAST-MODIFIED:20190310T185922Z
UID:10003156-1554314400-1554323400@waverlychurch.org
SUMMARY:Tai Chi
DESCRIPTION:
URL:https://waverlychurch.org/event/tai-chi/2019-04-03/
LOCATION:Social Hall
END:VEVENT
BEGIN:VEVENT
DTSTART;TZID=UTC:20190405T190000
DTEND;TZID=UTC:20190405T210000
DTSTAMP:20260420T172238
CREATED:20190310T190658Z
LAST-MODIFIED:20190310T190931Z
UID:10002669-1554490800-1554498000@waverlychurch.org
SUMMARY:Opera House
DESCRIPTION:Youth melodrama practice!!
URL:https://waverlychurch.org/event/opera-house/2019-04-05/
END:VEVENT
BEGIN:VEVENT
DTSTART;TZID=UTC:20190407T100000
DTEND;TZID=UTC:20190407T110000
DTSTAMP:20260420T172238
CREATED:20190310T182806Z
LAST-MODIFIED:20190310T182806Z
UID:10002225-1554631200-1554634800@waverlychurch.org
SUMMARY:Sunday School
DESCRIPTION:Classes for pre-K through adult.
URL:https://waverlychurch.org/event/sunday-school-2/2019-04-07/
END:VEVENT
BEGIN:VEVENT
DTSTART;TZID=UTC:20190407T110000
DTEND;TZID=UTC:20190407T120000
DTSTAMP:20260420T172238
CREATED:20190310T183008Z
LAST-MODIFIED:20190310T192706Z
UID:10002237-1554634800-1554638400@waverlychurch.org
SUMMARY:Worship Service
DESCRIPTION:
URL:https://waverlychurch.org/event/worship-service/2019-04-07/
LOCATION:Sanctuary
END:VEVENT
BEGIN:VEVENT
DTSTART;TZID=UTC:20190407T190000
DTEND;TZID=UTC:20190407T210000
DTSTAMP:20260420T172238
CREATED:20190310T190658Z
LAST-MODIFIED:20190310T190931Z
UID:10002670-1554663600-1554670800@waverlychurch.org
SUMMARY:Opera House
DESCRIPTION:Youth melodrama practice!!
URL:https://waverlychurch.org/event/opera-house/2019-04-07/
END:VEVENT
BEGIN:VEVENT
DTSTART;TZID=UTC:20190408T190000
DTEND;TZID=UTC:20190408T210000
DTSTAMP:20260420T172238
CREATED:20190310T190311Z
LAST-MODIFIED:20190310T190506Z
UID:10003182-1554750000-1554757200@waverlychurch.org
SUMMARY:Search for God Study group
DESCRIPTION:
URL:https://waverlychurch.org/event/search-for-god-study-group/2019-04-08/
LOCATION:Lounge
END:VEVENT
BEGIN:VEVENT
DTSTART;TZID=UTC:20190409T093000
DTEND;TZID=UTC:20190409T103000
DTSTAMP:20260420T172238
CREATED:20190310T185153Z
LAST-MODIFIED:20190310T185153Z
UID:10002200-1554802200-1554805800@waverlychurch.org
SUMMARY:QiGong class
DESCRIPTION:
URL:https://waverlychurch.org/event/qigong-class/2019-04-09/
END:VEVENT
BEGIN:VEVENT
DTSTART;TZID=UTC:20190410T100000
DTEND;TZID=UTC:20190410T120000
DTSTAMP:20260420T172238
CREATED:20190310T185812Z
LAST-MODIFIED:20190310T185812Z
UID:10002289-1554890400-1554897600@waverlychurch.org
SUMMARY:Wed Morning Playgroup
DESCRIPTION:Pre-K youth playgroup.
URL:https://waverlychurch.org/event/wed-morning-playgroup/2019-04-10/
END:VEVENT
BEGIN:VEVENT
DTSTART;TZID=UTC:20190410T180000
DTEND;TZID=UTC:20190410T203000
DTSTAMP:20260420T172238
CREATED:20190310T185922Z
LAST-MODIFIED:20190310T185922Z
UID:10003157-1554919200-1554928200@waverlychurch.org
SUMMARY:Tai Chi
DESCRIPTION:
URL:https://waverlychurch.org/event/tai-chi/2019-04-10/
LOCATION:Social Hall
END:VEVENT
BEGIN:VEVENT
DTSTART;TZID=UTC:20190412T190000
DTEND;TZID=UTC:20190412T210000
DTSTAMP:20260420T172238
CREATED:20190310T190658Z
LAST-MODIFIED:20190310T190931Z
UID:10002671-1555095600-1555102800@waverlychurch.org
SUMMARY:Opera House
DESCRIPTION:Youth melodrama practice!!
URL:https://waverlychurch.org/event/opera-house/2019-04-12/
END:VEVENT
BEGIN:VEVENT
DTSTART;TZID=UTC:20190414T100000
DTEND;TZID=UTC:20190414T110000
DTSTAMP:20260420T172238
CREATED:20190310T182806Z
LAST-MODIFIED:20190310T182806Z
UID:10002226-1555236000-1555239600@waverlychurch.org
SUMMARY:Sunday School
DESCRIPTION:Classes for pre-K through adult.
URL:https://waverlychurch.org/event/sunday-school-2/2019-04-14/
END:VEVENT
BEGIN:VEVENT
DTSTART;TZID=UTC:20190414T110000
DTEND;TZID=UTC:20190414T133000
DTSTAMP:20260420T172238
CREATED:20190407T193924Z
LAST-MODIFIED:20190407T193939Z
UID:10002271-1555239600-1555248600@waverlychurch.org
SUMMARY:Palm/Passion Sunday & brunch
DESCRIPTION:Please join us for Worship at 11:00 AM and Palm Sunday Brunch following at 12:15 PM. Everyone is invited!
URL:https://waverlychurch.org/event/palm-passion-sunday-brunch/
LOCATION:Sanctuary
END:VEVENT
BEGIN:VEVENT
DTSTART;TZID=UTC:20190414T190000
DTEND;TZID=UTC:20190414T210000
DTSTAMP:20260420T172238
CREATED:20190310T190658Z
LAST-MODIFIED:20190310T190931Z
UID:10002672-1555268400-1555275600@waverlychurch.org
SUMMARY:Opera House
DESCRIPTION:Youth melodrama practice!!
URL:https://waverlychurch.org/event/opera-house/2019-04-14/
END:VEVENT
BEGIN:VEVENT
DTSTART;TZID=UTC:20190415T190000
DTEND;TZID=UTC:20190415T210000
DTSTAMP:20260420T172238
CREATED:20190310T190311Z
LAST-MODIFIED:20190310T190506Z
UID:10003183-1555354800-1555362000@waverlychurch.org
SUMMARY:Search for God Study group
DESCRIPTION:
URL:https://waverlychurch.org/event/search-for-god-study-group/2019-04-15/
LOCATION:Lounge
END:VEVENT
BEGIN:VEVENT
DTSTART;TZID=UTC:20190416T093000
DTEND;TZID=UTC:20190416T103000
DTSTAMP:20260420T172238
CREATED:20190310T185153Z
LAST-MODIFIED:20190310T185153Z
UID:10002201-1555407000-1555410600@waverlychurch.org
SUMMARY:QiGong class
DESCRIPTION:
URL:https://waverlychurch.org/event/qigong-class/2019-04-16/
END:VEVENT
BEGIN:VEVENT
DTSTART;TZID=UTC:20190417T100000
DTEND;TZID=UTC:20190417T120000
DTSTAMP:20260420T172238
CREATED:20190310T185812Z
LAST-MODIFIED:20190310T185812Z
UID:10002290-1555495200-1555502400@waverlychurch.org
SUMMARY:Wed Morning Playgroup
DESCRIPTION:Pre-K youth playgroup.
URL:https://waverlychurch.org/event/wed-morning-playgroup/2019-04-17/
END:VEVENT
BEGIN:VEVENT
DTSTART;TZID=UTC:20190417T180000
DTEND;TZID=UTC:20190417T203000
DTSTAMP:20260420T172238
CREATED:20190310T185922Z
LAST-MODIFIED:20190310T185922Z
UID:10003158-1555524000-1555533000@waverlychurch.org
SUMMARY:Tai Chi
DESCRIPTION:
URL:https://waverlychurch.org/event/tai-chi/2019-04-17/
LOCATION:Social Hall
END:VEVENT
BEGIN:VEVENT
DTSTART;TZID=UTC:20190418T183000
DTEND;TZID=UTC:20190418T200000
DTSTAMP:20260420T172238
CREATED:20190407T194119Z
LAST-MODIFIED:20190407T194120Z
UID:10002272-1555612200-1555617600@waverlychurch.org
SUMMARY:Maundy Thursday
DESCRIPTION:Please join us for a reenactment of the Seder followed by a simple supper of soup and bread. 
URL:https://waverlychurch.org/event/maundy-thursday/
LOCATION:Social Hall
END:VEVENT
END:VCALENDAR