BEGIN:VCALENDAR
VERSION:2.0
PRODID:-//Waverly Presbyterian Church - ECPv6.15.20//NONSGML v1.0//EN
CALSCALE:GREGORIAN
METHOD:PUBLISH
X-ORIGINAL-URL:https://waverlychurch.org
X-WR-CALDESC:Events for Waverly Presbyterian Church
REFRESH-INTERVAL;VALUE=DURATION:PT1H
X-Robots-Tag:noindex
X-PUBLISHED-TTL:PT1H
BEGIN:VTIMEZONE
TZID:America/New_York
BEGIN:DAYLIGHT
TZOFFSETFROM:-0500
TZOFFSETTO:-0400
TZNAME:EDT
DTSTART:20280312T070000
END:DAYLIGHT
BEGIN:STANDARD
TZOFFSETFROM:-0400
TZOFFSETTO:-0500
TZNAME:EST
DTSTART:20281105T060000
END:STANDARD
BEGIN:DAYLIGHT
TZOFFSETFROM:-0500
TZOFFSETTO:-0400
TZNAME:EDT
DTSTART:20290311T070000
END:DAYLIGHT
BEGIN:STANDARD
TZOFFSETFROM:-0400
TZOFFSETTO:-0500
TZNAME:EST
DTSTART:20291104T060000
END:STANDARD
BEGIN:DAYLIGHT
TZOFFSETFROM:-0500
TZOFFSETTO:-0400
TZNAME:EDT
DTSTART:20300310T070000
END:DAYLIGHT
BEGIN:STANDARD
TZOFFSETFROM:-0400
TZOFFSETTO:-0500
TZNAME:EST
DTSTART:20301103T060000
END:STANDARD
BEGIN:DAYLIGHT
TZOFFSETFROM:-0500
TZOFFSETTO:-0400
TZNAME:EDT
DTSTART:20310309T070000
END:DAYLIGHT
BEGIN:STANDARD
TZOFFSETFROM:-0400
TZOFFSETTO:-0500
TZNAME:EST
DTSTART:20311102T060000
END:STANDARD
END:VTIMEZONE
BEGIN:VEVENT
DTSTART;TZID=America/New_York:20291224T090000
DTEND;TZID=America/New_York:20291224T200000
DTSTAMP:20260424T221434
CREATED:20251030T152456Z
LAST-MODIFIED:20251030T152456Z
UID:10132156-1892797200-1892836800@waverlychurch.org
SUMMARY:Guitar Lessons
DESCRIPTION:ian@cainsmusiclessons.com
URL:https://waverlychurch.org/event/guitar-lessons/2029-12-24/
LOCATION:Frog Room
END:VEVENT
BEGIN:VEVENT
DTSTART;TZID=America/New_York:20291226T090000
DTEND;TZID=America/New_York:20291226T200000
DTSTAMP:20260424T221434
CREATED:20251030T152456Z
LAST-MODIFIED:20251030T152456Z
UID:10132157-1892970000-1893009600@waverlychurch.org
SUMMARY:Guitar Lessons
DESCRIPTION:ian@cainsmusiclessons.com
URL:https://waverlychurch.org/event/guitar-lessons/2029-12-26/
LOCATION:Frog Room
END:VEVENT
BEGIN:VEVENT
DTSTART;TZID=America/New_York:20291227T103000
DTEND;TZID=America/New_York:20291227T140000
DTSTAMP:20260424T221434
CREATED:20260324T153601Z
LAST-MODIFIED:20260324T153603Z
UID:10133111-1893061800-1893074400@waverlychurch.org
SUMMARY:Reiki with Bob Dove and Ross Marshall
DESCRIPTION:
URL:https://waverlychurch.org/event/reiki-with-bob-dove-and-ross-marshall-2-2/2029-12-27/
LOCATION:Social Hall
END:VEVENT
BEGIN:VEVENT
DTSTART;TZID=America/New_York:20291227T190000
DTEND;TZID=America/New_York:20291227T203000
DTSTAMP:20260424T221434
CREATED:20251125T183555Z
LAST-MODIFIED:20251125T183747Z
UID:10132546-1893092400-1893097800@waverlychurch.org
SUMMARY:Choir Rehearsal in Lounge
DESCRIPTION:
URL:https://waverlychurch.org/event/choir-rehearsal-in-lounge/2029-12-27/
LOCATION:Lounge
END:VEVENT
BEGIN:VEVENT
DTSTART;TZID=America/New_York:20291230T093000
DTEND;TZID=America/New_York:20291230T100000
DTSTAMP:20260424T221434
CREATED:20251125T184126Z
LAST-MODIFIED:20251125T184126Z
UID:10132807-1893317400-1893319200@waverlychurch.org
SUMMARY:Choir Rehearsal in Sanctuary
DESCRIPTION:
URL:https://waverlychurch.org/event/choir-rehearsal-in-sanctuary/2029-12-30/
END:VEVENT
BEGIN:VEVENT
DTSTART;TZID=America/New_York:20291230T100000
DTEND;TZID=America/New_York:20291230T105500
DTSTAMP:20260424T221434
CREATED:20260305T170350Z
LAST-MODIFIED:20260305T170351Z
UID:10008741-1893319200-1893322500@waverlychurch.org
SUMMARY:Sunday School
DESCRIPTION:All ages are welcome to join us each week for Sunday School in the following locations: \nChildren up through 1st grade: nursery (downstairs\, right side of front entrance – ring bell to enter) \nChildren and Youth 2nd grade through 12th grade in the “Wonka Room” – room off of our lower floor Social Hall. \nAdults: lounge (upstairs in back of church)
URL:https://waverlychurch.org/event/sunday-school-3-2-2-2-2-2-2-2/2029-12-30/
END:VEVENT
BEGIN:VEVENT
DTSTART;TZID=America/New_York:20291230T110000
DTEND;TZID=America/New_York:20291230T121500
DTSTAMP:20260424T221434
CREATED:20250923T171614Z
LAST-MODIFIED:20250923T171615Z
UID:10129131-1893322800-1893327300@waverlychurch.org
SUMMARY:Worship Service
DESCRIPTION:We meet on Sundays in our Sanctuary at 11am during the school year and stream services online. \nSunday’s worship service will be live-streamed over our Facebook page on Sunday mornings. \n \nhttps://www.facebook.com/pg/WaverlyChurch/videos/
URL:https://waverlychurch.org/event/worship-service-5-2-2/2029-12-30/
END:VEVENT
BEGIN:VEVENT
DTSTART;TZID=America/New_York:20291230T121500
DTEND;TZID=America/New_York:20291230T133000
DTSTAMP:20260424T221434
CREATED:20260305T165302Z
LAST-MODIFIED:20260423T181455Z
UID:10009016-1893327300-1893331800@waverlychurch.org
SUMMARY:Coffee Hour
DESCRIPTION:Join us after service weekly for a chance to share fellowship over coffee and snacks
URL:https://waverlychurch.org/event/coffee-hour-3-2-2-2-2-2/2029-12-30/
LOCATION:Lounge
END:VEVENT
BEGIN:VEVENT
DTSTART;TZID=America/New_York:20291231T090000
DTEND;TZID=America/New_York:20291231T200000
DTSTAMP:20260424T221434
CREATED:20251030T152456Z
LAST-MODIFIED:20251030T152456Z
UID:10132158-1893402000-1893441600@waverlychurch.org
SUMMARY:Guitar Lessons
DESCRIPTION:ian@cainsmusiclessons.com
URL:https://waverlychurch.org/event/guitar-lessons/2029-12-31/
LOCATION:Frog Room
END:VEVENT
BEGIN:VEVENT
DTSTART;TZID=America/New_York:20300102T090000
DTEND;TZID=America/New_York:20300102T200000
DTSTAMP:20260424T221434
CREATED:20251030T152456Z
LAST-MODIFIED:20251030T152456Z
UID:10132159-1893574800-1893614400@waverlychurch.org
SUMMARY:Guitar Lessons
DESCRIPTION:ian@cainsmusiclessons.com
URL:https://waverlychurch.org/event/guitar-lessons/2030-01-02/
LOCATION:Frog Room
END:VEVENT
BEGIN:VEVENT
DTSTART;TZID=America/New_York:20300103T190000
DTEND;TZID=America/New_York:20300103T203000
DTSTAMP:20260424T221434
CREATED:20251125T183555Z
LAST-MODIFIED:20251125T183747Z
UID:10132547-1893697200-1893702600@waverlychurch.org
SUMMARY:Choir Rehearsal in Lounge
DESCRIPTION:
URL:https://waverlychurch.org/event/choir-rehearsal-in-lounge/2030-01-03/
LOCATION:Lounge
END:VEVENT
BEGIN:VEVENT
DTSTART;TZID=America/New_York:20300105T110000
DTEND;TZID=America/New_York:20300105T143000
DTSTAMP:20260424T221434
CREATED:20251125T184526Z
LAST-MODIFIED:20251125T184526Z
UID:10132904-1893841200-1893853800@waverlychurch.org
SUMMARY:East End N.A. Business Meeting/Social Hall
DESCRIPTION:
URL:https://waverlychurch.org/event/east-end-n-a-business-meeting-social-hall/2030-01-05/
END:VEVENT
BEGIN:VEVENT
DTSTART;TZID=America/New_York:20300106T093000
DTEND;TZID=America/New_York:20300106T100000
DTSTAMP:20260424T221434
CREATED:20251125T184126Z
LAST-MODIFIED:20251125T184126Z
UID:10132808-1893922200-1893924000@waverlychurch.org
SUMMARY:Choir Rehearsal in Sanctuary
DESCRIPTION:
URL:https://waverlychurch.org/event/choir-rehearsal-in-sanctuary/2030-01-06/
END:VEVENT
BEGIN:VEVENT
DTSTART;TZID=America/New_York:20300106T100000
DTEND;TZID=America/New_York:20300106T105500
DTSTAMP:20260424T221434
CREATED:20260305T170350Z
LAST-MODIFIED:20260305T170351Z
UID:10008742-1893924000-1893927300@waverlychurch.org
SUMMARY:Sunday School
DESCRIPTION:All ages are welcome to join us each week for Sunday School in the following locations: \nChildren up through 1st grade: nursery (downstairs\, right side of front entrance – ring bell to enter) \nChildren and Youth 2nd grade through 12th grade in the “Wonka Room” – room off of our lower floor Social Hall. \nAdults: lounge (upstairs in back of church)
URL:https://waverlychurch.org/event/sunday-school-3-2-2-2-2-2-2-2/2030-01-06/
END:VEVENT
BEGIN:VEVENT
DTSTART;TZID=America/New_York:20300106T110000
DTEND;TZID=America/New_York:20300106T121500
DTSTAMP:20260424T221434
CREATED:20250923T171614Z
LAST-MODIFIED:20250923T171615Z
UID:10129132-1893927600-1893932100@waverlychurch.org
SUMMARY:Worship Service
DESCRIPTION:We meet on Sundays in our Sanctuary at 11am during the school year and stream services online. \nSunday’s worship service will be live-streamed over our Facebook page on Sunday mornings. \n \nhttps://www.facebook.com/pg/WaverlyChurch/videos/
URL:https://waverlychurch.org/event/worship-service-5-2-2/2030-01-06/
END:VEVENT
BEGIN:VEVENT
DTSTART;TZID=America/New_York:20300106T121500
DTEND;TZID=America/New_York:20300106T133000
DTSTAMP:20260424T221434
CREATED:20260305T165302Z
LAST-MODIFIED:20260423T181455Z
UID:10009017-1893932100-1893936600@waverlychurch.org
SUMMARY:Coffee Hour
DESCRIPTION:Join us after service weekly for a chance to share fellowship over coffee and snacks
URL:https://waverlychurch.org/event/coffee-hour-3-2-2-2-2-2/2030-01-06/
LOCATION:Lounge
END:VEVENT
BEGIN:VEVENT
DTSTART;TZID=America/New_York:20300107T090000
DTEND;TZID=America/New_York:20300107T200000
DTSTAMP:20260424T221434
CREATED:20251030T152456Z
LAST-MODIFIED:20251030T152456Z
UID:10132160-1894006800-1894046400@waverlychurch.org
SUMMARY:Guitar Lessons
DESCRIPTION:ian@cainsmusiclessons.com
URL:https://waverlychurch.org/event/guitar-lessons/2030-01-07/
LOCATION:Frog Room
END:VEVENT
BEGIN:VEVENT
DTSTART;TZID=America/New_York:20300109T090000
DTEND;TZID=America/New_York:20300109T200000
DTSTAMP:20260424T221434
CREATED:20251030T152456Z
LAST-MODIFIED:20251030T152456Z
UID:10132161-1894179600-1894219200@waverlychurch.org
SUMMARY:Guitar Lessons
DESCRIPTION:ian@cainsmusiclessons.com
URL:https://waverlychurch.org/event/guitar-lessons/2030-01-09/
LOCATION:Frog Room
END:VEVENT
BEGIN:VEVENT
DTSTART;TZID=America/New_York:20300110T190000
DTEND;TZID=America/New_York:20300110T203000
DTSTAMP:20260424T221434
CREATED:20251125T183555Z
LAST-MODIFIED:20251125T183747Z
UID:10132548-1894302000-1894307400@waverlychurch.org
SUMMARY:Choir Rehearsal in Lounge
DESCRIPTION:
URL:https://waverlychurch.org/event/choir-rehearsal-in-lounge/2030-01-10/
LOCATION:Lounge
END:VEVENT
BEGIN:VEVENT
DTSTART;TZID=America/New_York:20300113T093000
DTEND;TZID=America/New_York:20300113T100000
DTSTAMP:20260424T221434
CREATED:20251125T184126Z
LAST-MODIFIED:20251125T184126Z
UID:10132809-1894527000-1894528800@waverlychurch.org
SUMMARY:Choir Rehearsal in Sanctuary
DESCRIPTION:
URL:https://waverlychurch.org/event/choir-rehearsal-in-sanctuary/2030-01-13/
END:VEVENT
BEGIN:VEVENT
DTSTART;TZID=America/New_York:20300113T100000
DTEND;TZID=America/New_York:20300113T105500
DTSTAMP:20260424T221434
CREATED:20260305T170350Z
LAST-MODIFIED:20260305T170351Z
UID:10008743-1894528800-1894532100@waverlychurch.org
SUMMARY:Sunday School
DESCRIPTION:All ages are welcome to join us each week for Sunday School in the following locations: \nChildren up through 1st grade: nursery (downstairs\, right side of front entrance – ring bell to enter) \nChildren and Youth 2nd grade through 12th grade in the “Wonka Room” – room off of our lower floor Social Hall. \nAdults: lounge (upstairs in back of church)
URL:https://waverlychurch.org/event/sunday-school-3-2-2-2-2-2-2-2/2030-01-13/
END:VEVENT
BEGIN:VEVENT
DTSTART;TZID=America/New_York:20300113T110000
DTEND;TZID=America/New_York:20300113T121500
DTSTAMP:20260424T221434
CREATED:20250923T171614Z
LAST-MODIFIED:20250923T171615Z
UID:10129133-1894532400-1894536900@waverlychurch.org
SUMMARY:Worship Service
DESCRIPTION:We meet on Sundays in our Sanctuary at 11am during the school year and stream services online. \nSunday’s worship service will be live-streamed over our Facebook page on Sunday mornings. \n \nhttps://www.facebook.com/pg/WaverlyChurch/videos/
URL:https://waverlychurch.org/event/worship-service-5-2-2/2030-01-13/
END:VEVENT
BEGIN:VEVENT
DTSTART;TZID=America/New_York:20300113T121500
DTEND;TZID=America/New_York:20300113T133000
DTSTAMP:20260424T221434
CREATED:20260305T165302Z
LAST-MODIFIED:20260423T181455Z
UID:10009018-1894536900-1894541400@waverlychurch.org
SUMMARY:Coffee Hour
DESCRIPTION:Join us after service weekly for a chance to share fellowship over coffee and snacks
URL:https://waverlychurch.org/event/coffee-hour-3-2-2-2-2-2/2030-01-13/
LOCATION:Lounge
END:VEVENT
BEGIN:VEVENT
DTSTART;TZID=America/New_York:20300114T090000
DTEND;TZID=America/New_York:20300114T200000
DTSTAMP:20260424T221434
CREATED:20251030T152456Z
LAST-MODIFIED:20251030T152456Z
UID:10132162-1894611600-1894651200@waverlychurch.org
SUMMARY:Guitar Lessons
DESCRIPTION:ian@cainsmusiclessons.com
URL:https://waverlychurch.org/event/guitar-lessons/2030-01-14/
LOCATION:Frog Room
END:VEVENT
BEGIN:VEVENT
DTSTART;TZID=America/New_York:20300114T190000
DTEND;TZID=America/New_York:20300114T203000
DTSTAMP:20260424T221434
CREATED:20251125T185647Z
LAST-MODIFIED:20251125T185647Z
UID:10132964-1894647600-1894653000@waverlychurch.org
SUMMARY:Amnesty Meeting-Social Hall
DESCRIPTION:
URL:https://waverlychurch.org/event/amnesty-meeting-social-hall/2030-01-14/
END:VEVENT
BEGIN:VEVENT
DTSTART;TZID=America/New_York:20300116T090000
DTEND;TZID=America/New_York:20300116T200000
DTSTAMP:20260424T221434
CREATED:20251030T152456Z
LAST-MODIFIED:20251030T152456Z
UID:10132163-1894784400-1894824000@waverlychurch.org
SUMMARY:Guitar Lessons
DESCRIPTION:ian@cainsmusiclessons.com
URL:https://waverlychurch.org/event/guitar-lessons/2030-01-16/
LOCATION:Frog Room
END:VEVENT
BEGIN:VEVENT
DTSTART;TZID=America/New_York:20300117T190000
DTEND;TZID=America/New_York:20300117T203000
DTSTAMP:20260424T221434
CREATED:20251125T183555Z
LAST-MODIFIED:20251125T183747Z
UID:10132549-1894906800-1894912200@waverlychurch.org
SUMMARY:Choir Rehearsal in Lounge
DESCRIPTION:
URL:https://waverlychurch.org/event/choir-rehearsal-in-lounge/2030-01-17/
LOCATION:Lounge
END:VEVENT
BEGIN:VEVENT
DTSTART;TZID=America/New_York:20300120T093000
DTEND;TZID=America/New_York:20300120T100000
DTSTAMP:20260424T221434
CREATED:20251125T184126Z
LAST-MODIFIED:20251125T184126Z
UID:10132810-1895131800-1895133600@waverlychurch.org
SUMMARY:Choir Rehearsal in Sanctuary
DESCRIPTION:
URL:https://waverlychurch.org/event/choir-rehearsal-in-sanctuary/2030-01-20/
END:VEVENT
BEGIN:VEVENT
DTSTART;TZID=America/New_York:20300120T100000
DTEND;TZID=America/New_York:20300120T105500
DTSTAMP:20260424T221434
CREATED:20260305T170350Z
LAST-MODIFIED:20260305T170351Z
UID:10008744-1895133600-1895136900@waverlychurch.org
SUMMARY:Sunday School
DESCRIPTION:All ages are welcome to join us each week for Sunday School in the following locations: \nChildren up through 1st grade: nursery (downstairs\, right side of front entrance – ring bell to enter) \nChildren and Youth 2nd grade through 12th grade in the “Wonka Room” – room off of our lower floor Social Hall. \nAdults: lounge (upstairs in back of church)
URL:https://waverlychurch.org/event/sunday-school-3-2-2-2-2-2-2-2/2030-01-20/
END:VEVENT
BEGIN:VEVENT
DTSTART;TZID=America/New_York:20300120T110000
DTEND;TZID=America/New_York:20300120T121500
DTSTAMP:20260424T221434
CREATED:20250923T171614Z
LAST-MODIFIED:20250923T171615Z
UID:10129134-1895137200-1895141700@waverlychurch.org
SUMMARY:Worship Service
DESCRIPTION:We meet on Sundays in our Sanctuary at 11am during the school year and stream services online. \nSunday’s worship service will be live-streamed over our Facebook page on Sunday mornings. \n \nhttps://www.facebook.com/pg/WaverlyChurch/videos/
URL:https://waverlychurch.org/event/worship-service-5-2-2/2030-01-20/
END:VEVENT
END:VCALENDAR