BEGIN:VCALENDAR
VERSION:2.0
PRODID:-//Waverly Presbyterian Church - ECPv6.15.20//NONSGML v1.0//EN
CALSCALE:GREGORIAN
METHOD:PUBLISH
X-WR-CALNAME:Waverly Presbyterian Church
X-ORIGINAL-URL:https://waverlychurch.org
X-WR-CALDESC:Events for Waverly Presbyterian Church
REFRESH-INTERVAL;VALUE=DURATION:PT1H
X-Robots-Tag:noindex
X-PUBLISHED-TTL:PT1H
BEGIN:VTIMEZONE
TZID:UTC
BEGIN:STANDARD
TZOFFSETFROM:+0000
TZOFFSETTO:+0000
TZNAME:UTC
DTSTART:20210101T000000
END:STANDARD
END:VTIMEZONE
BEGIN:VTIMEZONE
TZID:America/New_York
BEGIN:DAYLIGHT
TZOFFSETFROM:-0500
TZOFFSETTO:-0400
TZNAME:EDT
DTSTART:20210314T070000
END:DAYLIGHT
BEGIN:STANDARD
TZOFFSETFROM:-0400
TZOFFSETTO:-0500
TZNAME:EST
DTSTART:20211107T060000
END:STANDARD
BEGIN:DAYLIGHT
TZOFFSETFROM:-0500
TZOFFSETTO:-0400
TZNAME:EDT
DTSTART:20220313T070000
END:DAYLIGHT
BEGIN:STANDARD
TZOFFSETFROM:-0400
TZOFFSETTO:-0500
TZNAME:EST
DTSTART:20221106T060000
END:STANDARD
BEGIN:DAYLIGHT
TZOFFSETFROM:-0500
TZOFFSETTO:-0400
TZNAME:EDT
DTSTART:20230312T070000
END:DAYLIGHT
BEGIN:STANDARD
TZOFFSETFROM:-0400
TZOFFSETTO:-0500
TZNAME:EST
DTSTART:20231105T060000
END:STANDARD
END:VTIMEZONE
BEGIN:VEVENT
DTSTART;TZID=UTC:20220906T193000
DTEND;TZID=UTC:20220906T203000
DTSTAMP:20260424T105841
CREATED:20190310T185001Z
LAST-MODIFIED:20220331T225559Z
UID:10002372-1662492600-1662496200@waverlychurch.org
SUMMARY:Al-Anon
DESCRIPTION:The Frick Park Al-Anon is holding in-person meetings in the Social Hall. \nContact frickparkafg85[at]gmail.com with any questions.
URL:https://waverlychurch.org/event/al-anon-2020-03-24-2021-07-06-2021-07-13/2022-09-06/
END:VEVENT
BEGIN:VEVENT
DTSTART;TZID=America/New_York:20220906T193000
DTEND;TZID=America/New_York:20220906T203000
DTSTAMP:20260424T105841
CREATED:20190310T185001Z
LAST-MODIFIED:20220704T150031Z
UID:10004132-1662492600-1662496200@waverlychurch.org
SUMMARY:Al-Anon
DESCRIPTION:The Frick Park Al-Anon group may still be virtual. \nContact frickparkafg85[at]gmail.com with any questions.
URL:https://waverlychurch.org/event/al-anon-2020-03-24-2021-07-06-2021-07-20-2022-01-04-2022-04-05/2022-09-06/
END:VEVENT
BEGIN:VEVENT
DTSTART;TZID=UTC:20220906T193000
DTEND;TZID=UTC:20220906T210000
DTSTAMP:20260424T105841
CREATED:20190310T185001Z
LAST-MODIFIED:20201211T021356Z
UID:10001679-1662492600-1662498000@waverlychurch.org
SUMMARY:Al-Anon [Virtual Meeting]
DESCRIPTION:Due to COVID-19 precautions\, the Frick Park Al-Anon is meeting virtually. \nContact frickparkafg85[at]gmail.com for the link. \nIn-person meetings will resume when it is safe to do so.
URL:https://waverlychurch.org/event/al-anon-2020-03-24/2022-09-06/
END:VEVENT
BEGIN:VEVENT
DTSTART;TZID=America/New_York:20220908T120000
DTEND;TZID=America/New_York:20220908T170000
DTSTAMP:20260424T105841
CREATED:20220512T233651Z
LAST-MODIFIED:20220623T205155Z
UID:10003219-1662638400-1662656400@waverlychurch.org
SUMMARY:Foundation of HOPE Aftercare Program
DESCRIPTION:Aftercare support for anyone who was previously incarcerated by appointment only – Tuesdays from 9am – 2pm and Thursdays from 12pm – 5pm – call 412-321-3343 to schedule; www.foundationofhope.org for more information.
URL:https://waverlychurch.org/event/foundation-of-hope-aftercare-program-2/2022-09-08/
LOCATION:Social Hall
END:VEVENT
BEGIN:VEVENT
DTSTART;TZID=UTC:20220910T090000
DTEND;TZID=UTC:20220910T102000
DTSTAMP:20260424T105841
CREATED:20190310T191142Z
LAST-MODIFIED:20230830T175415Z
UID:10001265-1662800400-1662805200@waverlychurch.org
SUMMARY:Narcotics Anonymous
DESCRIPTION:Narcotics Anonymous is holding in-person meetings in the Social Hall.
URL:https://waverlychurch.org/event/na-2020-03-21-2021-07-10/2022-09-10/
END:VEVENT
BEGIN:VEVENT
DTSTART;TZID=America/New_York:20220911T110000
DTEND;TZID=America/New_York:20220911T120000
DTSTAMP:20260424T105841
CREATED:20210715T194724Z
LAST-MODIFIED:20230529T213105Z
UID:10000840-1662894000-1662897600@waverlychurch.org
SUMMARY:Worship Service
DESCRIPTION:We meet on Sundays in our Sanctuary at 11am and stream services online. \nSunday’s worship service will be live-streamed over our Facebook page on Sunday morning and the scripture and sermon will be on SoundCloud. \nhttps://waverlychurch.org/worship/guidelines-for-in-person-worship/ \nhttps://www.facebook.com/pg/WaverlyChurch/videos/ \n  \n 
URL:https://waverlychurch.org/event/worship-service-3-2022-06-05-2022-08-07-2022-09-11/2022-09-11/
LOCATION:Sanctuary
END:VEVENT
BEGIN:VEVENT
DTSTART;TZID=America/New_York:20220911T120000
DTEND;TZID=America/New_York:20220911T123000
DTSTAMP:20260424T105841
CREATED:20220623T210815Z
LAST-MODIFIED:20220623T210831Z
UID:10005046-1662897600-1662899400@waverlychurch.org
SUMMARY:Coffee Hour
DESCRIPTION:Immediately following the service\, we hope you can stay to enjoy fellowship with the Waverly community.
URL:https://waverlychurch.org/event/coffee-hour-2/2022-09-11/
LOCATION:Social Hall
END:VEVENT
BEGIN:VEVENT
DTSTART;TZID=America/New_York:20220911T193000
DTEND;TZID=America/New_York:20220911T210000
DTSTAMP:20260424T105841
CREATED:20190310T184702Z
LAST-MODIFIED:20220704T145322Z
UID:10000495-1662924600-1662930000@waverlychurch.org
SUMMARY:Alcoholics Anonymous
DESCRIPTION:The Frick Park Group of Alcoholics Anonymous is holding in-person meetings in the Social Hall. \nAdditional links for AA groups are posted online at the AA Central Office.\nhttps://www.pghaa.org/
URL:https://waverlychurch.org/event/aa-2020-03-22-2021-07-04/2022-09-11/
LOCATION:Social Hall
END:VEVENT
BEGIN:VEVENT
DTSTART;TZID=America/New_York:20220913T090000
DTEND;TZID=America/New_York:20220913T140000
DTSTAMP:20260424T105841
CREATED:20220512T233522Z
LAST-MODIFIED:20220704T145940Z
UID:10003555-1663059600-1663077600@waverlychurch.org
SUMMARY:Foundation of HOPE Aftercare Program
DESCRIPTION:Aftercare support for anyone who was previously incarcerated by appointment only – Tuesdays from 9am – 2pm and Thursdays from 12pm – 5pm – call 412-321-3343 to schedule; www.foundationofhope.org for more information.
URL:https://waverlychurch.org/event/foundation-of-hope-aftercare-program/2022-09-13/
LOCATION:Social Hall
END:VEVENT
BEGIN:VEVENT
DTSTART;TZID=America/New_York:20220913T190000
DTEND;TZID=America/New_York:20220913T193000
DTSTAMP:20260424T105841
CREATED:20210711T201005Z
LAST-MODIFIED:20220704T150145Z
UID:10000144-1663095600-1663097400@waverlychurch.org
SUMMARY:Al-Anon [Beginners' Meeting]
DESCRIPTION:The Frick Park Al-Anon group may still be virtual. \nContact frickparkafg85[at]gmail.com with any questions.
URL:https://waverlychurch.org/event/al-anon-beginners-meeting-2022-01-04-2022-04-05/2022-09-13/
LOCATION:Social Hall
END:VEVENT
BEGIN:VEVENT
DTSTART;TZID=UTC:20220913T193000
DTEND;TZID=UTC:20220913T203000
DTSTAMP:20260424T105841
CREATED:20190310T185001Z
LAST-MODIFIED:20220331T225559Z
UID:10002373-1663097400-1663101000@waverlychurch.org
SUMMARY:Al-Anon
DESCRIPTION:The Frick Park Al-Anon is holding in-person meetings in the Social Hall. \nContact frickparkafg85[at]gmail.com with any questions.
URL:https://waverlychurch.org/event/al-anon-2020-03-24-2021-07-06-2021-07-13/2022-09-13/
END:VEVENT
BEGIN:VEVENT
DTSTART;TZID=America/New_York:20220913T193000
DTEND;TZID=America/New_York:20220913T203000
DTSTAMP:20260424T105841
CREATED:20190310T185001Z
LAST-MODIFIED:20220704T150031Z
UID:10004133-1663097400-1663101000@waverlychurch.org
SUMMARY:Al-Anon
DESCRIPTION:The Frick Park Al-Anon group may still be virtual. \nContact frickparkafg85[at]gmail.com with any questions.
URL:https://waverlychurch.org/event/al-anon-2020-03-24-2021-07-06-2021-07-20-2022-01-04-2022-04-05/2022-09-13/
END:VEVENT
BEGIN:VEVENT
DTSTART;TZID=UTC:20220913T193000
DTEND;TZID=UTC:20220913T210000
DTSTAMP:20260424T105841
CREATED:20190310T185001Z
LAST-MODIFIED:20201211T021356Z
UID:10001680-1663097400-1663102800@waverlychurch.org
SUMMARY:Al-Anon [Virtual Meeting]
DESCRIPTION:Due to COVID-19 precautions\, the Frick Park Al-Anon is meeting virtually. \nContact frickparkafg85[at]gmail.com for the link. \nIn-person meetings will resume when it is safe to do so.
URL:https://waverlychurch.org/event/al-anon-2020-03-24/2022-09-13/
END:VEVENT
BEGIN:VEVENT
DTSTART;TZID=America/New_York:20220915T120000
DTEND;TZID=America/New_York:20220915T170000
DTSTAMP:20260424T105841
CREATED:20220512T233651Z
LAST-MODIFIED:20220623T205155Z
UID:10003220-1663243200-1663261200@waverlychurch.org
SUMMARY:Foundation of HOPE Aftercare Program
DESCRIPTION:Aftercare support for anyone who was previously incarcerated by appointment only – Tuesdays from 9am – 2pm and Thursdays from 12pm – 5pm – call 412-321-3343 to schedule; www.foundationofhope.org for more information.
URL:https://waverlychurch.org/event/foundation-of-hope-aftercare-program-2/2022-09-15/
LOCATION:Social Hall
END:VEVENT
BEGIN:VEVENT
DTSTART;TZID=UTC:20220917T090000
DTEND;TZID=UTC:20220917T102000
DTSTAMP:20260424T105841
CREATED:20190310T191142Z
LAST-MODIFIED:20230830T175415Z
UID:10001266-1663405200-1663410000@waverlychurch.org
SUMMARY:Narcotics Anonymous
DESCRIPTION:Narcotics Anonymous is holding in-person meetings in the Social Hall.
URL:https://waverlychurch.org/event/na-2020-03-21-2021-07-10/2022-09-17/
END:VEVENT
BEGIN:VEVENT
DTSTART;TZID=America/New_York:20220917T190000
DTEND;TZID=America/New_York:20220917T200000
DTSTAMP:20260424T105841
CREATED:20220817T194110Z
LAST-MODIFIED:20220817T194110Z
UID:10005351-1663441200-1663444800@waverlychurch.org
SUMMARY:Game Night
DESCRIPTION:Fun and games in the Social Hall. All are welcome\, all ages. \nGames will be provided but you can bring your own\, too.
URL:https://waverlychurch.org/event/game-night-2/
LOCATION:Social Hall
END:VEVENT
BEGIN:VEVENT
DTSTART;TZID=America/New_York:20220918T110000
DTEND;TZID=America/New_York:20220918T120000
DTSTAMP:20260424T105841
CREATED:20210715T194724Z
LAST-MODIFIED:20230529T213105Z
UID:10000841-1663498800-1663502400@waverlychurch.org
SUMMARY:Worship Service
DESCRIPTION:We meet on Sundays in our Sanctuary at 11am and stream services online. \nSunday’s worship service will be live-streamed over our Facebook page on Sunday morning and the scripture and sermon will be on SoundCloud. \nhttps://waverlychurch.org/worship/guidelines-for-in-person-worship/ \nhttps://www.facebook.com/pg/WaverlyChurch/videos/ \n  \n 
URL:https://waverlychurch.org/event/worship-service-3-2022-06-05-2022-08-07-2022-09-11/2022-09-18/
LOCATION:Sanctuary
END:VEVENT
BEGIN:VEVENT
DTSTART;TZID=America/New_York:20220918T120000
DTEND;TZID=America/New_York:20220918T123000
DTSTAMP:20260424T105841
CREATED:20220623T210815Z
LAST-MODIFIED:20220623T210831Z
UID:10005047-1663502400-1663504200@waverlychurch.org
SUMMARY:Coffee Hour
DESCRIPTION:Immediately following the service\, we hope you can stay to enjoy fellowship with the Waverly community.
URL:https://waverlychurch.org/event/coffee-hour-2/2022-09-18/
LOCATION:Social Hall
END:VEVENT
BEGIN:VEVENT
DTSTART;TZID=America/New_York:20220918T193000
DTEND;TZID=America/New_York:20220918T210000
DTSTAMP:20260424T105841
CREATED:20190310T184702Z
LAST-MODIFIED:20220704T145322Z
UID:10000496-1663529400-1663534800@waverlychurch.org
SUMMARY:Alcoholics Anonymous
DESCRIPTION:The Frick Park Group of Alcoholics Anonymous is holding in-person meetings in the Social Hall. \nAdditional links for AA groups are posted online at the AA Central Office.\nhttps://www.pghaa.org/
URL:https://waverlychurch.org/event/aa-2020-03-22-2021-07-04/2022-09-18/
LOCATION:Social Hall
END:VEVENT
BEGIN:VEVENT
DTSTART;TZID=America/New_York:20220920T090000
DTEND;TZID=America/New_York:20220920T140000
DTSTAMP:20260424T105841
CREATED:20220512T233522Z
LAST-MODIFIED:20220704T145940Z
UID:10003556-1663664400-1663682400@waverlychurch.org
SUMMARY:Foundation of HOPE Aftercare Program
DESCRIPTION:Aftercare support for anyone who was previously incarcerated by appointment only – Tuesdays from 9am – 2pm and Thursdays from 12pm – 5pm – call 412-321-3343 to schedule; www.foundationofhope.org for more information.
URL:https://waverlychurch.org/event/foundation-of-hope-aftercare-program/2022-09-20/
LOCATION:Social Hall
END:VEVENT
BEGIN:VEVENT
DTSTART;TZID=America/New_York:20220920T190000
DTEND;TZID=America/New_York:20220920T193000
DTSTAMP:20260424T105841
CREATED:20210711T201005Z
LAST-MODIFIED:20220704T150145Z
UID:10000145-1663700400-1663702200@waverlychurch.org
SUMMARY:Al-Anon [Beginners' Meeting]
DESCRIPTION:The Frick Park Al-Anon group may still be virtual. \nContact frickparkafg85[at]gmail.com with any questions.
URL:https://waverlychurch.org/event/al-anon-beginners-meeting-2022-01-04-2022-04-05/2022-09-20/
LOCATION:Social Hall
END:VEVENT
BEGIN:VEVENT
DTSTART;TZID=UTC:20220920T193000
DTEND;TZID=UTC:20220920T203000
DTSTAMP:20260424T105841
CREATED:20190310T185001Z
LAST-MODIFIED:20220331T225559Z
UID:10002374-1663702200-1663705800@waverlychurch.org
SUMMARY:Al-Anon
DESCRIPTION:The Frick Park Al-Anon is holding in-person meetings in the Social Hall. \nContact frickparkafg85[at]gmail.com with any questions.
URL:https://waverlychurch.org/event/al-anon-2020-03-24-2021-07-06-2021-07-13/2022-09-20/
END:VEVENT
BEGIN:VEVENT
DTSTART;TZID=America/New_York:20220920T193000
DTEND;TZID=America/New_York:20220920T203000
DTSTAMP:20260424T105841
CREATED:20190310T185001Z
LAST-MODIFIED:20220704T150031Z
UID:10004134-1663702200-1663705800@waverlychurch.org
SUMMARY:Al-Anon
DESCRIPTION:The Frick Park Al-Anon group may still be virtual. \nContact frickparkafg85[at]gmail.com with any questions.
URL:https://waverlychurch.org/event/al-anon-2020-03-24-2021-07-06-2021-07-20-2022-01-04-2022-04-05/2022-09-20/
END:VEVENT
BEGIN:VEVENT
DTSTART;TZID=UTC:20220920T193000
DTEND;TZID=UTC:20220920T210000
DTSTAMP:20260424T105841
CREATED:20190310T185001Z
LAST-MODIFIED:20201211T021356Z
UID:10001681-1663702200-1663707600@waverlychurch.org
SUMMARY:Al-Anon [Virtual Meeting]
DESCRIPTION:Due to COVID-19 precautions\, the Frick Park Al-Anon is meeting virtually. \nContact frickparkafg85[at]gmail.com for the link. \nIn-person meetings will resume when it is safe to do so.
URL:https://waverlychurch.org/event/al-anon-2020-03-24/2022-09-20/
END:VEVENT
BEGIN:VEVENT
DTSTART;TZID=America/New_York:20220922T120000
DTEND;TZID=America/New_York:20220922T170000
DTSTAMP:20260424T105841
CREATED:20220512T233651Z
LAST-MODIFIED:20220623T205155Z
UID:10003221-1663848000-1663866000@waverlychurch.org
SUMMARY:Foundation of HOPE Aftercare Program
DESCRIPTION:Aftercare support for anyone who was previously incarcerated by appointment only – Tuesdays from 9am – 2pm and Thursdays from 12pm – 5pm – call 412-321-3343 to schedule; www.foundationofhope.org for more information.
URL:https://waverlychurch.org/event/foundation-of-hope-aftercare-program-2/2022-09-22/
LOCATION:Social Hall
END:VEVENT
BEGIN:VEVENT
DTSTART;TZID=UTC:20220924T090000
DTEND;TZID=UTC:20220924T102000
DTSTAMP:20260424T105841
CREATED:20190310T191142Z
LAST-MODIFIED:20230830T175415Z
UID:10001267-1664010000-1664014800@waverlychurch.org
SUMMARY:Narcotics Anonymous
DESCRIPTION:Narcotics Anonymous is holding in-person meetings in the Social Hall.
URL:https://waverlychurch.org/event/na-2020-03-21-2021-07-10/2022-09-24/
END:VEVENT
BEGIN:VEVENT
DTSTART;TZID=America/New_York:20220925T110000
DTEND;TZID=America/New_York:20220925T120000
DTSTAMP:20260424T105841
CREATED:20210715T194724Z
LAST-MODIFIED:20230529T213105Z
UID:10000842-1664103600-1664107200@waverlychurch.org
SUMMARY:Worship Service
DESCRIPTION:We meet on Sundays in our Sanctuary at 11am and stream services online. \nSunday’s worship service will be live-streamed over our Facebook page on Sunday morning and the scripture and sermon will be on SoundCloud. \nhttps://waverlychurch.org/worship/guidelines-for-in-person-worship/ \nhttps://www.facebook.com/pg/WaverlyChurch/videos/ \n  \n 
URL:https://waverlychurch.org/event/worship-service-3-2022-06-05-2022-08-07-2022-09-11/2022-09-25/
LOCATION:Sanctuary
END:VEVENT
BEGIN:VEVENT
DTSTART;TZID=America/New_York:20220925T120000
DTEND;TZID=America/New_York:20220925T123000
DTSTAMP:20260424T105841
CREATED:20220623T210815Z
LAST-MODIFIED:20220623T210831Z
UID:10005048-1664107200-1664109000@waverlychurch.org
SUMMARY:Coffee Hour
DESCRIPTION:Immediately following the service\, we hope you can stay to enjoy fellowship with the Waverly community.
URL:https://waverlychurch.org/event/coffee-hour-2/2022-09-25/
LOCATION:Social Hall
END:VEVENT
BEGIN:VEVENT
DTSTART;TZID=America/New_York:20220925T193000
DTEND;TZID=America/New_York:20220925T210000
DTSTAMP:20260424T105841
CREATED:20190310T184702Z
LAST-MODIFIED:20220704T145322Z
UID:10000497-1664134200-1664139600@waverlychurch.org
SUMMARY:Alcoholics Anonymous
DESCRIPTION:The Frick Park Group of Alcoholics Anonymous is holding in-person meetings in the Social Hall. \nAdditional links for AA groups are posted online at the AA Central Office.\nhttps://www.pghaa.org/
URL:https://waverlychurch.org/event/aa-2020-03-22-2021-07-04/2022-09-25/
LOCATION:Social Hall
END:VEVENT
BEGIN:VEVENT
DTSTART;TZID=America/New_York:20220927T090000
DTEND;TZID=America/New_York:20220927T140000
DTSTAMP:20260424T105841
CREATED:20220512T233522Z
LAST-MODIFIED:20220704T145940Z
UID:10003557-1664269200-1664287200@waverlychurch.org
SUMMARY:Foundation of HOPE Aftercare Program
DESCRIPTION:Aftercare support for anyone who was previously incarcerated by appointment only – Tuesdays from 9am – 2pm and Thursdays from 12pm – 5pm – call 412-321-3343 to schedule; www.foundationofhope.org for more information.
URL:https://waverlychurch.org/event/foundation-of-hope-aftercare-program/2022-09-27/
LOCATION:Social Hall
END:VEVENT
END:VCALENDAR