BEGIN:VCALENDAR
VERSION:2.0
PRODID:-//Waverly Presbyterian Church - ECPv6.15.20//NONSGML v1.0//EN
CALSCALE:GREGORIAN
METHOD:PUBLISH
X-WR-CALNAME:Waverly Presbyterian Church
X-ORIGINAL-URL:https://waverlychurch.org
X-WR-CALDESC:Events for Waverly Presbyterian Church
REFRESH-INTERVAL;VALUE=DURATION:PT1H
X-Robots-Tag:noindex
X-PUBLISHED-TTL:PT1H
BEGIN:VTIMEZONE
TZID:America/New_York
BEGIN:DAYLIGHT
TZOFFSETFROM:-0500
TZOFFSETTO:-0400
TZNAME:EDT
DTSTART:20220313T070000
END:DAYLIGHT
BEGIN:STANDARD
TZOFFSETFROM:-0400
TZOFFSETTO:-0500
TZNAME:EST
DTSTART:20221106T060000
END:STANDARD
BEGIN:DAYLIGHT
TZOFFSETFROM:-0500
TZOFFSETTO:-0400
TZNAME:EDT
DTSTART:20230312T070000
END:DAYLIGHT
BEGIN:STANDARD
TZOFFSETFROM:-0400
TZOFFSETTO:-0500
TZNAME:EST
DTSTART:20231105T060000
END:STANDARD
BEGIN:DAYLIGHT
TZOFFSETFROM:-0500
TZOFFSETTO:-0400
TZNAME:EDT
DTSTART:20240310T070000
END:DAYLIGHT
BEGIN:STANDARD
TZOFFSETFROM:-0400
TZOFFSETTO:-0500
TZNAME:EST
DTSTART:20241103T060000
END:STANDARD
END:VTIMEZONE
BEGIN:VTIMEZONE
TZID:UTC
BEGIN:STANDARD
TZOFFSETFROM:+0000
TZOFFSETTO:+0000
TZNAME:UTC
DTSTART:20220101T000000
END:STANDARD
END:VTIMEZONE
BEGIN:VEVENT
DTSTART;TZID=America/New_York:20230314T090000
DTEND;TZID=America/New_York:20230314T140000
DTSTAMP:20260423T190149
CREATED:20220512T233522Z
LAST-MODIFIED:20220704T145940Z
UID:10003581-1678784400-1678802400@waverlychurch.org
SUMMARY:Foundation of HOPE Aftercare Program
DESCRIPTION:Aftercare support for anyone who was previously incarcerated by appointment only – Tuesdays from 9am – 2pm and Thursdays from 12pm – 5pm – call 412-321-3343 to schedule; www.foundationofhope.org for more information.
URL:https://waverlychurch.org/event/foundation-of-hope-aftercare-program/2023-03-14/
LOCATION:Social Hall
END:VEVENT
BEGIN:VEVENT
DTSTART;TZID=America/New_York:20230314T190000
DTEND;TZID=America/New_York:20230314T193000
DTSTAMP:20260423T190149
CREATED:20210711T201005Z
LAST-MODIFIED:20220704T150145Z
UID:10000170-1678820400-1678822200@waverlychurch.org
SUMMARY:Al-Anon [Beginners' Meeting]
DESCRIPTION:The Frick Park Al-Anon group may still be virtual. \nContact frickparkafg85[at]gmail.com with any questions.
URL:https://waverlychurch.org/event/al-anon-beginners-meeting-2022-01-04-2022-04-05/2023-03-14/
LOCATION:Social Hall
END:VEVENT
BEGIN:VEVENT
DTSTART;TZID=UTC:20230314T193000
DTEND;TZID=UTC:20230314T203000
DTSTAMP:20260423T190149
CREATED:20190310T185001Z
LAST-MODIFIED:20220331T225559Z
UID:10002399-1678822200-1678825800@waverlychurch.org
SUMMARY:Al-Anon
DESCRIPTION:The Frick Park Al-Anon is holding in-person meetings in the Social Hall. \nContact frickparkafg85[at]gmail.com with any questions.
URL:https://waverlychurch.org/event/al-anon-2020-03-24-2021-07-06-2021-07-13/2023-03-14/
END:VEVENT
BEGIN:VEVENT
DTSTART;TZID=America/New_York:20230314T193000
DTEND;TZID=America/New_York:20230314T203000
DTSTAMP:20260423T190149
CREATED:20190310T185001Z
LAST-MODIFIED:20220704T150031Z
UID:10004159-1678822200-1678825800@waverlychurch.org
SUMMARY:Al-Anon
DESCRIPTION:The Frick Park Al-Anon group may still be virtual. \nContact frickparkafg85[at]gmail.com with any questions.
URL:https://waverlychurch.org/event/al-anon-2020-03-24-2021-07-06-2021-07-20-2022-01-04-2022-04-05/2023-03-14/
END:VEVENT
BEGIN:VEVENT
DTSTART;TZID=UTC:20230314T193000
DTEND;TZID=UTC:20230314T210000
DTSTAMP:20260423T190149
CREATED:20190310T185001Z
LAST-MODIFIED:20201211T021356Z
UID:10001706-1678822200-1678827600@waverlychurch.org
SUMMARY:Al-Anon [Virtual Meeting]
DESCRIPTION:Due to COVID-19 precautions\, the Frick Park Al-Anon is meeting virtually. \nContact frickparkafg85[at]gmail.com for the link. \nIn-person meetings will resume when it is safe to do so.
URL:https://waverlychurch.org/event/al-anon-2020-03-24/2023-03-14/
END:VEVENT
BEGIN:VEVENT
DTSTART;TZID=America/New_York:20230316T120000
DTEND;TZID=America/New_York:20230316T170000
DTSTAMP:20260423T190149
CREATED:20220512T233651Z
LAST-MODIFIED:20220623T205155Z
UID:10003246-1678968000-1678986000@waverlychurch.org
SUMMARY:Foundation of HOPE Aftercare Program
DESCRIPTION:Aftercare support for anyone who was previously incarcerated by appointment only – Tuesdays from 9am – 2pm and Thursdays from 12pm – 5pm – call 412-321-3343 to schedule; www.foundationofhope.org for more information.
URL:https://waverlychurch.org/event/foundation-of-hope-aftercare-program-2/2023-03-16/
LOCATION:Social Hall
END:VEVENT
BEGIN:VEVENT
DTSTART;TZID=UTC:20230318T090000
DTEND;TZID=UTC:20230318T102000
DTSTAMP:20260423T190149
CREATED:20190310T191142Z
LAST-MODIFIED:20230830T175415Z
UID:10001292-1679130000-1679134800@waverlychurch.org
SUMMARY:Narcotics Anonymous
DESCRIPTION:Narcotics Anonymous is holding in-person meetings in the Social Hall.
URL:https://waverlychurch.org/event/na-2020-03-21-2021-07-10/2023-03-18/
END:VEVENT
BEGIN:VEVENT
DTSTART;TZID=America/New_York:20230319T110000
DTEND;TZID=America/New_York:20230319T120000
DTSTAMP:20260423T190149
CREATED:20210715T194724Z
LAST-MODIFIED:20230529T213105Z
UID:10000867-1679223600-1679227200@waverlychurch.org
SUMMARY:Worship Service
DESCRIPTION:We meet on Sundays in our Sanctuary at 11am and stream services online. \nSunday’s worship service will be live-streamed over our Facebook page on Sunday morning and the scripture and sermon will be on SoundCloud. \nhttps://waverlychurch.org/worship/guidelines-for-in-person-worship/ \nhttps://www.facebook.com/pg/WaverlyChurch/videos/ \n  \n 
URL:https://waverlychurch.org/event/worship-service-3-2022-06-05-2022-08-07-2022-09-11/2023-03-19/
LOCATION:Sanctuary
END:VEVENT
BEGIN:VEVENT
DTSTART;TZID=America/New_York:20230319T120000
DTEND;TZID=America/New_York:20230319T123000
DTSTAMP:20260423T190149
CREATED:20220623T210815Z
LAST-MODIFIED:20220623T210831Z
UID:10005073-1679227200-1679229000@waverlychurch.org
SUMMARY:Coffee Hour
DESCRIPTION:Immediately following the service\, we hope you can stay to enjoy fellowship with the Waverly community.
URL:https://waverlychurch.org/event/coffee-hour-2/2023-03-19/
LOCATION:Social Hall
END:VEVENT
BEGIN:VEVENT
DTSTART;TZID=America/New_York:20230319T193000
DTEND;TZID=America/New_York:20230319T210000
DTSTAMP:20260423T190149
CREATED:20190310T184702Z
LAST-MODIFIED:20220704T145322Z
UID:10000522-1679254200-1679259600@waverlychurch.org
SUMMARY:Alcoholics Anonymous
DESCRIPTION:The Frick Park Group of Alcoholics Anonymous is holding in-person meetings in the Social Hall. \nAdditional links for AA groups are posted online at the AA Central Office.\nhttps://www.pghaa.org/
URL:https://waverlychurch.org/event/aa-2020-03-22-2021-07-04/2023-03-19/
LOCATION:Social Hall
END:VEVENT
BEGIN:VEVENT
DTSTART;TZID=America/New_York:20230320T190000
DTEND;TZID=America/New_York:20230320T200000
DTSTAMP:20260423T190149
CREATED:20230109T224328Z
LAST-MODIFIED:20230109T224328Z
UID:10005357-1679338800-1679342400@waverlychurch.org
SUMMARY:Free for Good
DESCRIPTION:Free for Good is a recovery-style group for anyone looking to live freely in faith. Mondays Feb 27 – April 3\, 7pm in the lounge
URL:https://waverlychurch.org/event/free-for-good/2023-03-20/
LOCATION:Lounge
END:VEVENT
BEGIN:VEVENT
DTSTART;TZID=America/New_York:20230321T190000
DTEND;TZID=America/New_York:20230321T193000
DTSTAMP:20260423T190149
CREATED:20210711T201005Z
LAST-MODIFIED:20220704T150145Z
UID:10000171-1679425200-1679427000@waverlychurch.org
SUMMARY:Al-Anon [Beginners' Meeting]
DESCRIPTION:The Frick Park Al-Anon group may still be virtual. \nContact frickparkafg85[at]gmail.com with any questions.
URL:https://waverlychurch.org/event/al-anon-beginners-meeting-2022-01-04-2022-04-05/2023-03-21/
LOCATION:Social Hall
END:VEVENT
BEGIN:VEVENT
DTSTART;TZID=UTC:20230321T193000
DTEND;TZID=UTC:20230321T203000
DTSTAMP:20260423T190149
CREATED:20190310T185001Z
LAST-MODIFIED:20220331T225559Z
UID:10002400-1679427000-1679430600@waverlychurch.org
SUMMARY:Al-Anon
DESCRIPTION:The Frick Park Al-Anon is holding in-person meetings in the Social Hall. \nContact frickparkafg85[at]gmail.com with any questions.
URL:https://waverlychurch.org/event/al-anon-2020-03-24-2021-07-06-2021-07-13/2023-03-21/
END:VEVENT
BEGIN:VEVENT
DTSTART;TZID=America/New_York:20230321T193000
DTEND;TZID=America/New_York:20230321T203000
DTSTAMP:20260423T190149
CREATED:20190310T185001Z
LAST-MODIFIED:20220704T150031Z
UID:10004160-1679427000-1679430600@waverlychurch.org
SUMMARY:Al-Anon
DESCRIPTION:The Frick Park Al-Anon group may still be virtual. \nContact frickparkafg85[at]gmail.com with any questions.
URL:https://waverlychurch.org/event/al-anon-2020-03-24-2021-07-06-2021-07-20-2022-01-04-2022-04-05/2023-03-21/
END:VEVENT
BEGIN:VEVENT
DTSTART;TZID=UTC:20230321T193000
DTEND;TZID=UTC:20230321T210000
DTSTAMP:20260423T190149
CREATED:20190310T185001Z
LAST-MODIFIED:20201211T021356Z
UID:10001707-1679427000-1679432400@waverlychurch.org
SUMMARY:Al-Anon [Virtual Meeting]
DESCRIPTION:Due to COVID-19 precautions\, the Frick Park Al-Anon is meeting virtually. \nContact frickparkafg85[at]gmail.com for the link. \nIn-person meetings will resume when it is safe to do so.
URL:https://waverlychurch.org/event/al-anon-2020-03-24/2023-03-21/
END:VEVENT
BEGIN:VEVENT
DTSTART;TZID=UTC:20230325T090000
DTEND;TZID=UTC:20230325T102000
DTSTAMP:20260423T190149
CREATED:20190310T191142Z
LAST-MODIFIED:20230830T175415Z
UID:10001293-1679734800-1679739600@waverlychurch.org
SUMMARY:Narcotics Anonymous
DESCRIPTION:Narcotics Anonymous is holding in-person meetings in the Social Hall.
URL:https://waverlychurch.org/event/na-2020-03-21-2021-07-10/2023-03-25/
END:VEVENT
BEGIN:VEVENT
DTSTART;TZID=America/New_York:20230325T180000
DTEND;TZID=America/New_York:20230325T210000
DTSTAMP:20260423T190149
CREATED:20230302T194722Z
LAST-MODIFIED:20230302T194722Z
UID:10005364-1679767200-1679778000@waverlychurch.org
SUMMARY:Coffee House/Open Mic Night
DESCRIPTION:Join us for Coffee House/Open Mic Night in the Social Hall.
URL:https://waverlychurch.org/event/coffee-house-open-mic-night/
LOCATION:Social Hall
END:VEVENT
BEGIN:VEVENT
DTSTART;TZID=America/New_York:20230326T110000
DTEND;TZID=America/New_York:20230326T120000
DTSTAMP:20260423T190149
CREATED:20210715T194724Z
LAST-MODIFIED:20230529T213105Z
UID:10000868-1679828400-1679832000@waverlychurch.org
SUMMARY:Worship Service
DESCRIPTION:We meet on Sundays in our Sanctuary at 11am and stream services online. \nSunday’s worship service will be live-streamed over our Facebook page on Sunday morning and the scripture and sermon will be on SoundCloud. \nhttps://waverlychurch.org/worship/guidelines-for-in-person-worship/ \nhttps://www.facebook.com/pg/WaverlyChurch/videos/ \n  \n 
URL:https://waverlychurch.org/event/worship-service-3-2022-06-05-2022-08-07-2022-09-11/2023-03-26/
LOCATION:Sanctuary
END:VEVENT
BEGIN:VEVENT
DTSTART;TZID=America/New_York:20230326T120000
DTEND;TZID=America/New_York:20230326T123000
DTSTAMP:20260423T190149
CREATED:20220623T210815Z
LAST-MODIFIED:20220623T210831Z
UID:10005074-1679832000-1679833800@waverlychurch.org
SUMMARY:Coffee Hour
DESCRIPTION:Immediately following the service\, we hope you can stay to enjoy fellowship with the Waverly community.
URL:https://waverlychurch.org/event/coffee-hour-2/2023-03-26/
LOCATION:Social Hall
END:VEVENT
BEGIN:VEVENT
DTSTART;TZID=America/New_York:20230326T193000
DTEND;TZID=America/New_York:20230326T210000
DTSTAMP:20260423T190149
CREATED:20190310T184702Z
LAST-MODIFIED:20220704T145322Z
UID:10000523-1679859000-1679864400@waverlychurch.org
SUMMARY:Alcoholics Anonymous
DESCRIPTION:The Frick Park Group of Alcoholics Anonymous is holding in-person meetings in the Social Hall. \nAdditional links for AA groups are posted online at the AA Central Office.\nhttps://www.pghaa.org/
URL:https://waverlychurch.org/event/aa-2020-03-22-2021-07-04/2023-03-26/
LOCATION:Social Hall
END:VEVENT
BEGIN:VEVENT
DTSTART;TZID=America/New_York:20230327T190000
DTEND;TZID=America/New_York:20230327T200000
DTSTAMP:20260423T190149
CREATED:20230109T224328Z
LAST-MODIFIED:20230109T224328Z
UID:10005358-1679943600-1679947200@waverlychurch.org
SUMMARY:Free for Good
DESCRIPTION:Free for Good is a recovery-style group for anyone looking to live freely in faith. Mondays Feb 27 – April 3\, 7pm in the lounge
URL:https://waverlychurch.org/event/free-for-good/2023-03-27/
LOCATION:Lounge
END:VEVENT
BEGIN:VEVENT
DTSTART;TZID=America/New_York:20230328T190000
DTEND;TZID=America/New_York:20230328T193000
DTSTAMP:20260423T190149
CREATED:20210711T201005Z
LAST-MODIFIED:20220704T150145Z
UID:10000172-1680030000-1680031800@waverlychurch.org
SUMMARY:Al-Anon [Beginners' Meeting]
DESCRIPTION:The Frick Park Al-Anon group may still be virtual. \nContact frickparkafg85[at]gmail.com with any questions.
URL:https://waverlychurch.org/event/al-anon-beginners-meeting-2022-01-04-2022-04-05/2023-03-28/
LOCATION:Social Hall
END:VEVENT
BEGIN:VEVENT
DTSTART;TZID=UTC:20230328T193000
DTEND;TZID=UTC:20230328T203000
DTSTAMP:20260423T190149
CREATED:20190310T185001Z
LAST-MODIFIED:20220331T225559Z
UID:10002401-1680031800-1680035400@waverlychurch.org
SUMMARY:Al-Anon
DESCRIPTION:The Frick Park Al-Anon is holding in-person meetings in the Social Hall. \nContact frickparkafg85[at]gmail.com with any questions.
URL:https://waverlychurch.org/event/al-anon-2020-03-24-2021-07-06-2021-07-13/2023-03-28/
END:VEVENT
BEGIN:VEVENT
DTSTART;TZID=America/New_York:20230328T193000
DTEND;TZID=America/New_York:20230328T203000
DTSTAMP:20260423T190149
CREATED:20190310T185001Z
LAST-MODIFIED:20220704T150031Z
UID:10004161-1680031800-1680035400@waverlychurch.org
SUMMARY:Al-Anon
DESCRIPTION:The Frick Park Al-Anon group may still be virtual. \nContact frickparkafg85[at]gmail.com with any questions.
URL:https://waverlychurch.org/event/al-anon-2020-03-24-2021-07-06-2021-07-20-2022-01-04-2022-04-05/2023-03-28/
END:VEVENT
BEGIN:VEVENT
DTSTART;TZID=UTC:20230401T090000
DTEND;TZID=UTC:20230401T102000
DTSTAMP:20260423T190149
CREATED:20190310T191142Z
LAST-MODIFIED:20230830T175415Z
UID:10001294-1680339600-1680344400@waverlychurch.org
SUMMARY:Narcotics Anonymous
DESCRIPTION:Narcotics Anonymous is holding in-person meetings in the Social Hall.
URL:https://waverlychurch.org/event/na-2020-03-21-2021-07-10/2023-04-01/
END:VEVENT
BEGIN:VEVENT
DTSTART;TZID=America/New_York:20230401T110000
DTEND;TZID=America/New_York:20230401T120000
DTSTAMP:20260423T190149
CREATED:20230302T194819Z
LAST-MODIFIED:20230302T194819Z
UID:10005365-1680346800-1680350400@waverlychurch.org
SUMMARY:Easter Egg Hunt
DESCRIPTION:Join us for an Easter Egg hunt on the lawn (indoors if weather requires).
URL:https://waverlychurch.org/event/easter-egg-hunt-2/
LOCATION:Front Lawn
END:VEVENT
BEGIN:VEVENT
DTSTART;TZID=America/New_York:20230402T110000
DTEND;TZID=America/New_York:20230402T120000
DTSTAMP:20260423T190149
CREATED:20230109T224512Z
LAST-MODIFIED:20230109T224513Z
UID:10005361-1680433200-1680436800@waverlychurch.org
SUMMARY:Palm Sunday Unity Service at Pittsburgh Theological Seminary (No worship at Waverly)
DESCRIPTION:Palm Sunday Unity Service at Pittsburgh Theological Seminary (No worship at Waverly)
URL:https://waverlychurch.org/event/palm-sunday-unity-service-at-pittsburgh-theological-seminary-no-worship-at-waverly/
LOCATION:Pittsburgh Theological Seminary\, 616 N Highland Ave\, Pittsburgh\, PA\, 15206
END:VEVENT
BEGIN:VEVENT
DTSTART;TZID=America/New_York:20230402T193000
DTEND;TZID=America/New_York:20230402T210000
DTSTAMP:20260423T190149
CREATED:20190310T184702Z
LAST-MODIFIED:20220704T145322Z
UID:10000524-1680463800-1680469200@waverlychurch.org
SUMMARY:Alcoholics Anonymous
DESCRIPTION:The Frick Park Group of Alcoholics Anonymous is holding in-person meetings in the Social Hall. \nAdditional links for AA groups are posted online at the AA Central Office.\nhttps://www.pghaa.org/
URL:https://waverlychurch.org/event/aa-2020-03-22-2021-07-04/2023-04-02/
LOCATION:Social Hall
END:VEVENT
BEGIN:VEVENT
DTSTART;TZID=America/New_York:20230403T190000
DTEND;TZID=America/New_York:20230403T200000
DTSTAMP:20260423T190149
CREATED:20230109T224328Z
LAST-MODIFIED:20230109T224328Z
UID:10005359-1680548400-1680552000@waverlychurch.org
SUMMARY:Free for Good
DESCRIPTION:Free for Good is a recovery-style group for anyone looking to live freely in faith. Mondays Feb 27 – April 3\, 7pm in the lounge
URL:https://waverlychurch.org/event/free-for-good/2023-04-03/
LOCATION:Lounge
END:VEVENT
BEGIN:VEVENT
DTSTART;TZID=America/New_York:20230404T190000
DTEND;TZID=America/New_York:20230404T193000
DTSTAMP:20260423T190149
CREATED:20210711T201005Z
LAST-MODIFIED:20220704T150145Z
UID:10000173-1680634800-1680636600@waverlychurch.org
SUMMARY:Al-Anon [Beginners' Meeting]
DESCRIPTION:The Frick Park Al-Anon group may still be virtual. \nContact frickparkafg85[at]gmail.com with any questions.
URL:https://waverlychurch.org/event/al-anon-beginners-meeting-2022-01-04-2022-04-05/2023-04-04/
LOCATION:Social Hall
END:VEVENT
END:VCALENDAR