BEGIN:VCALENDAR
VERSION:2.0
PRODID:-//Waverly Presbyterian Church - ECPv6.15.20//NONSGML v1.0//EN
CALSCALE:GREGORIAN
METHOD:PUBLISH
X-WR-CALNAME:Waverly Presbyterian Church
X-ORIGINAL-URL:https://waverlychurch.org
X-WR-CALDESC:Events for Waverly Presbyterian Church
REFRESH-INTERVAL;VALUE=DURATION:PT1H
X-Robots-Tag:noindex
X-PUBLISHED-TTL:PT1H
BEGIN:VTIMEZONE
TZID:America/New_York
BEGIN:DAYLIGHT
TZOFFSETFROM:-0500
TZOFFSETTO:-0400
TZNAME:EDT
DTSTART:20280312T070000
END:DAYLIGHT
BEGIN:STANDARD
TZOFFSETFROM:-0400
TZOFFSETTO:-0500
TZNAME:EST
DTSTART:20281105T060000
END:STANDARD
BEGIN:DAYLIGHT
TZOFFSETFROM:-0500
TZOFFSETTO:-0400
TZNAME:EDT
DTSTART:20290311T070000
END:DAYLIGHT
BEGIN:STANDARD
TZOFFSETFROM:-0400
TZOFFSETTO:-0500
TZNAME:EST
DTSTART:20291104T060000
END:STANDARD
BEGIN:DAYLIGHT
TZOFFSETFROM:-0500
TZOFFSETTO:-0400
TZNAME:EDT
DTSTART:20300310T070000
END:DAYLIGHT
BEGIN:STANDARD
TZOFFSETFROM:-0400
TZOFFSETTO:-0500
TZNAME:EST
DTSTART:20301103T060000
END:STANDARD
END:VTIMEZONE
BEGIN:VEVENT
DTSTART;TZID=America/New_York:20290212T190000
DTEND;TZID=America/New_York:20290212T203000
DTSTAMP:20260422T175208
CREATED:20251125T185647Z
LAST-MODIFIED:20251125T185647Z
UID:10132953-1865617200-1865622600@waverlychurch.org
SUMMARY:Amnesty Meeting-Social Hall
DESCRIPTION:
URL:https://waverlychurch.org/event/amnesty-meeting-social-hall/2029-02-12/
END:VEVENT
BEGIN:VEVENT
DTSTART;TZID=America/New_York:20290214T090000
DTEND;TZID=America/New_York:20290214T200000
DTSTAMP:20260422T175208
CREATED:20251030T152456Z
LAST-MODIFIED:20251030T152456Z
UID:10132067-1865754000-1865793600@waverlychurch.org
SUMMARY:Guitar Lessons
DESCRIPTION:ian@cainsmusiclessons.com
URL:https://waverlychurch.org/event/guitar-lessons/2029-02-14/
LOCATION:Frog Room
END:VEVENT
BEGIN:VEVENT
DTSTART;TZID=America/New_York:20290215T190000
DTEND;TZID=America/New_York:20290215T203000
DTSTAMP:20260422T175208
CREATED:20251125T183555Z
LAST-MODIFIED:20251125T183747Z
UID:10132501-1865876400-1865881800@waverlychurch.org
SUMMARY:Choir Rehearsal in Lounge
DESCRIPTION:
URL:https://waverlychurch.org/event/choir-rehearsal-in-lounge/2029-02-15/
LOCATION:Lounge
END:VEVENT
BEGIN:VEVENT
DTSTART;TZID=America/New_York:20290218T093000
DTEND;TZID=America/New_York:20290218T100000
DTSTAMP:20260422T175208
CREATED:20251125T184126Z
LAST-MODIFIED:20251125T184126Z
UID:10132762-1866101400-1866103200@waverlychurch.org
SUMMARY:Choir Rehearsal in Sanctuary
DESCRIPTION:
URL:https://waverlychurch.org/event/choir-rehearsal-in-sanctuary/2029-02-18/
END:VEVENT
BEGIN:VEVENT
DTSTART;TZID=America/New_York:20290218T100000
DTEND;TZID=America/New_York:20290218T105500
DTSTAMP:20260422T175208
CREATED:20260305T170350Z
LAST-MODIFIED:20260305T170351Z
UID:10007325-1866103200-1866106500@waverlychurch.org
SUMMARY:Sunday School
DESCRIPTION:All ages are welcome to join us each week for Sunday School in the following locations: \nChildren up through 1st grade: nursery (downstairs\, right side of front entrance – ring bell to enter) \nChildren and Youth 2nd grade through 12th grade in the “Wonka Room” – room off of our lower floor Social Hall. \nAdults: lounge (upstairs in back of church)
URL:https://waverlychurch.org/event/sunday-school-3-2-2-2-2-2-2-2/2029-02-18/
END:VEVENT
BEGIN:VEVENT
DTSTART;TZID=America/New_York:20290218T110000
DTEND;TZID=America/New_York:20290218T121500
DTSTAMP:20260422T175208
CREATED:20250923T171614Z
LAST-MODIFIED:20250923T171615Z
UID:10007893-1866106800-1866111300@waverlychurch.org
SUMMARY:Worship Service
DESCRIPTION:We meet on Sundays in our Sanctuary at 11am during the school year and stream services online. \nSunday’s worship service will be live-streamed over our Facebook page on Sunday mornings. \n \nhttps://www.facebook.com/pg/WaverlyChurch/videos/
URL:https://waverlychurch.org/event/worship-service-5-2-2/2029-02-18/
END:VEVENT
BEGIN:VEVENT
DTSTART;TZID=America/New_York:20290218T121500
DTEND;TZID=America/New_York:20290218T133000
DTSTAMP:20260422T175208
CREATED:20260305T165302Z
LAST-MODIFIED:20260305T170242Z
UID:10007918-1866111300-1866115800@waverlychurch.org
SUMMARY:Coffee Hour
DESCRIPTION:Join us after service weekly for a chance to share fellowship over coffee and snacks
URL:https://waverlychurch.org/event/coffee-hour-3-2-2-2-2-2/2029-02-18/
LOCATION:Lounge
END:VEVENT
BEGIN:VEVENT
DTSTART;TZID=America/New_York:20290219T090000
DTEND;TZID=America/New_York:20290219T200000
DTSTAMP:20260422T175208
CREATED:20251030T152456Z
LAST-MODIFIED:20251030T152456Z
UID:10132068-1866186000-1866225600@waverlychurch.org
SUMMARY:Guitar Lessons
DESCRIPTION:ian@cainsmusiclessons.com
URL:https://waverlychurch.org/event/guitar-lessons/2029-02-19/
LOCATION:Frog Room
END:VEVENT
BEGIN:VEVENT
DTSTART;TZID=America/New_York:20290221T090000
DTEND;TZID=America/New_York:20290221T200000
DTSTAMP:20260422T175208
CREATED:20251030T152456Z
LAST-MODIFIED:20251030T152456Z
UID:10132069-1866358800-1866398400@waverlychurch.org
SUMMARY:Guitar Lessons
DESCRIPTION:ian@cainsmusiclessons.com
URL:https://waverlychurch.org/event/guitar-lessons/2029-02-21/
LOCATION:Frog Room
END:VEVENT
BEGIN:VEVENT
DTSTART;TZID=America/New_York:20290222T103000
DTEND;TZID=America/New_York:20290222T140000
DTSTAMP:20260422T175208
CREATED:20260324T153601Z
LAST-MODIFIED:20260324T153603Z
UID:10133101-1866450600-1866463200@waverlychurch.org
SUMMARY:Reiki with Bob Dove and Ross Marshall
DESCRIPTION:
URL:https://waverlychurch.org/event/reiki-with-bob-dove-and-ross-marshall-2-2/2029-02-22/
LOCATION:Social Hall
END:VEVENT
BEGIN:VEVENT
DTSTART;TZID=America/New_York:20290222T190000
DTEND;TZID=America/New_York:20290222T203000
DTSTAMP:20260422T175208
CREATED:20251125T183555Z
LAST-MODIFIED:20251125T183747Z
UID:10132502-1866481200-1866486600@waverlychurch.org
SUMMARY:Choir Rehearsal in Lounge
DESCRIPTION:
URL:https://waverlychurch.org/event/choir-rehearsal-in-lounge/2029-02-22/
LOCATION:Lounge
END:VEVENT
BEGIN:VEVENT
DTSTART;TZID=America/New_York:20290225T093000
DTEND;TZID=America/New_York:20290225T100000
DTSTAMP:20260422T175208
CREATED:20251125T184126Z
LAST-MODIFIED:20251125T184126Z
UID:10132763-1866706200-1866708000@waverlychurch.org
SUMMARY:Choir Rehearsal in Sanctuary
DESCRIPTION:
URL:https://waverlychurch.org/event/choir-rehearsal-in-sanctuary/2029-02-25/
END:VEVENT
BEGIN:VEVENT
DTSTART;TZID=America/New_York:20290225T100000
DTEND;TZID=America/New_York:20290225T105500
DTSTAMP:20260422T175208
CREATED:20260305T170350Z
LAST-MODIFIED:20260305T170351Z
UID:10007326-1866708000-1866711300@waverlychurch.org
SUMMARY:Sunday School
DESCRIPTION:All ages are welcome to join us each week for Sunday School in the following locations: \nChildren up through 1st grade: nursery (downstairs\, right side of front entrance – ring bell to enter) \nChildren and Youth 2nd grade through 12th grade in the “Wonka Room” – room off of our lower floor Social Hall. \nAdults: lounge (upstairs in back of church)
URL:https://waverlychurch.org/event/sunday-school-3-2-2-2-2-2-2-2/2029-02-25/
END:VEVENT
BEGIN:VEVENT
DTSTART;TZID=America/New_York:20290225T110000
DTEND;TZID=America/New_York:20290225T121500
DTSTAMP:20260422T175208
CREATED:20250923T171614Z
LAST-MODIFIED:20250923T171615Z
UID:10007894-1866711600-1866716100@waverlychurch.org
SUMMARY:Worship Service
DESCRIPTION:We meet on Sundays in our Sanctuary at 11am during the school year and stream services online. \nSunday’s worship service will be live-streamed over our Facebook page on Sunday mornings. \n \nhttps://www.facebook.com/pg/WaverlyChurch/videos/
URL:https://waverlychurch.org/event/worship-service-5-2-2/2029-02-25/
END:VEVENT
BEGIN:VEVENT
DTSTART;TZID=America/New_York:20290225T121500
DTEND;TZID=America/New_York:20290225T133000
DTSTAMP:20260422T175208
CREATED:20260305T165302Z
LAST-MODIFIED:20260305T170242Z
UID:10007919-1866716100-1866720600@waverlychurch.org
SUMMARY:Coffee Hour
DESCRIPTION:Join us after service weekly for a chance to share fellowship over coffee and snacks
URL:https://waverlychurch.org/event/coffee-hour-3-2-2-2-2-2/2029-02-25/
LOCATION:Lounge
END:VEVENT
BEGIN:VEVENT
DTSTART;TZID=America/New_York:20290226T090000
DTEND;TZID=America/New_York:20290226T200000
DTSTAMP:20260422T175208
CREATED:20251030T152456Z
LAST-MODIFIED:20251030T152456Z
UID:10132070-1866790800-1866830400@waverlychurch.org
SUMMARY:Guitar Lessons
DESCRIPTION:ian@cainsmusiclessons.com
URL:https://waverlychurch.org/event/guitar-lessons/2029-02-26/
LOCATION:Frog Room
END:VEVENT
BEGIN:VEVENT
DTSTART;TZID=America/New_York:20290228T090000
DTEND;TZID=America/New_York:20290228T200000
DTSTAMP:20260422T175208
CREATED:20251030T152456Z
LAST-MODIFIED:20251030T152456Z
UID:10132071-1866963600-1867003200@waverlychurch.org
SUMMARY:Guitar Lessons
DESCRIPTION:ian@cainsmusiclessons.com
URL:https://waverlychurch.org/event/guitar-lessons/2029-02-28/
LOCATION:Frog Room
END:VEVENT
BEGIN:VEVENT
DTSTART;TZID=America/New_York:20290301T190000
DTEND;TZID=America/New_York:20290301T203000
DTSTAMP:20260422T175208
CREATED:20251125T183555Z
LAST-MODIFIED:20251125T183747Z
UID:10132503-1867086000-1867091400@waverlychurch.org
SUMMARY:Choir Rehearsal in Lounge
DESCRIPTION:
URL:https://waverlychurch.org/event/choir-rehearsal-in-lounge/2029-03-01/
LOCATION:Lounge
END:VEVENT
BEGIN:VEVENT
DTSTART;TZID=America/New_York:20290303T110000
DTEND;TZID=America/New_York:20290303T143000
DTSTAMP:20260422T175208
CREATED:20251125T184526Z
LAST-MODIFIED:20251125T184526Z
UID:10132894-1867230000-1867242600@waverlychurch.org
SUMMARY:East End N.A. Business Meeting/Social Hall
DESCRIPTION:
URL:https://waverlychurch.org/event/east-end-n-a-business-meeting-social-hall/2029-03-03/
END:VEVENT
BEGIN:VEVENT
DTSTART;TZID=America/New_York:20290304T093000
DTEND;TZID=America/New_York:20290304T100000
DTSTAMP:20260422T175208
CREATED:20251125T184126Z
LAST-MODIFIED:20251125T184126Z
UID:10132764-1867311000-1867312800@waverlychurch.org
SUMMARY:Choir Rehearsal in Sanctuary
DESCRIPTION:
URL:https://waverlychurch.org/event/choir-rehearsal-in-sanctuary/2029-03-04/
END:VEVENT
BEGIN:VEVENT
DTSTART;TZID=America/New_York:20290304T100000
DTEND;TZID=America/New_York:20290304T105500
DTSTAMP:20260422T175208
CREATED:20260305T170350Z
LAST-MODIFIED:20260305T170351Z
UID:10007327-1867312800-1867316100@waverlychurch.org
SUMMARY:Sunday School
DESCRIPTION:All ages are welcome to join us each week for Sunday School in the following locations: \nChildren up through 1st grade: nursery (downstairs\, right side of front entrance – ring bell to enter) \nChildren and Youth 2nd grade through 12th grade in the “Wonka Room” – room off of our lower floor Social Hall. \nAdults: lounge (upstairs in back of church)
URL:https://waverlychurch.org/event/sunday-school-3-2-2-2-2-2-2-2/2029-03-04/
END:VEVENT
BEGIN:VEVENT
DTSTART;TZID=America/New_York:20290304T110000
DTEND;TZID=America/New_York:20290304T121500
DTSTAMP:20260422T175208
CREATED:20250923T171614Z
LAST-MODIFIED:20250923T171615Z
UID:10007895-1867316400-1867320900@waverlychurch.org
SUMMARY:Worship Service
DESCRIPTION:We meet on Sundays in our Sanctuary at 11am during the school year and stream services online. \nSunday’s worship service will be live-streamed over our Facebook page on Sunday mornings. \n \nhttps://www.facebook.com/pg/WaverlyChurch/videos/
URL:https://waverlychurch.org/event/worship-service-5-2-2/2029-03-04/
END:VEVENT
BEGIN:VEVENT
DTSTART;TZID=America/New_York:20290304T121500
DTEND;TZID=America/New_York:20290304T133000
DTSTAMP:20260422T175208
CREATED:20260305T165302Z
LAST-MODIFIED:20260305T170242Z
UID:10007920-1867320900-1867325400@waverlychurch.org
SUMMARY:Coffee Hour
DESCRIPTION:Join us after service weekly for a chance to share fellowship over coffee and snacks
URL:https://waverlychurch.org/event/coffee-hour-3-2-2-2-2-2/2029-03-04/
LOCATION:Lounge
END:VEVENT
BEGIN:VEVENT
DTSTART;TZID=America/New_York:20290305T090000
DTEND;TZID=America/New_York:20290305T200000
DTSTAMP:20260422T175208
CREATED:20251030T152456Z
LAST-MODIFIED:20251030T152456Z
UID:10132072-1867395600-1867435200@waverlychurch.org
SUMMARY:Guitar Lessons
DESCRIPTION:ian@cainsmusiclessons.com
URL:https://waverlychurch.org/event/guitar-lessons/2029-03-05/
LOCATION:Frog Room
END:VEVENT
BEGIN:VEVENT
DTSTART;TZID=America/New_York:20290307T090000
DTEND;TZID=America/New_York:20290307T200000
DTSTAMP:20260422T175208
CREATED:20251030T152456Z
LAST-MODIFIED:20251030T152456Z
UID:10132073-1867568400-1867608000@waverlychurch.org
SUMMARY:Guitar Lessons
DESCRIPTION:ian@cainsmusiclessons.com
URL:https://waverlychurch.org/event/guitar-lessons/2029-03-07/
LOCATION:Frog Room
END:VEVENT
BEGIN:VEVENT
DTSTART;TZID=America/New_York:20290308T190000
DTEND;TZID=America/New_York:20290308T203000
DTSTAMP:20260422T175208
CREATED:20251125T183555Z
LAST-MODIFIED:20251125T183747Z
UID:10132504-1867690800-1867696200@waverlychurch.org
SUMMARY:Choir Rehearsal in Lounge
DESCRIPTION:
URL:https://waverlychurch.org/event/choir-rehearsal-in-lounge/2029-03-08/
LOCATION:Lounge
END:VEVENT
BEGIN:VEVENT
DTSTART;TZID=America/New_York:20290311T093000
DTEND;TZID=America/New_York:20290311T100000
DTSTAMP:20260422T175208
CREATED:20251125T184126Z
LAST-MODIFIED:20251125T184126Z
UID:10132765-1867915800-1867917600@waverlychurch.org
SUMMARY:Choir Rehearsal in Sanctuary
DESCRIPTION:
URL:https://waverlychurch.org/event/choir-rehearsal-in-sanctuary/2029-03-11/
END:VEVENT
BEGIN:VEVENT
DTSTART;TZID=America/New_York:20290311T100000
DTEND;TZID=America/New_York:20290311T105500
DTSTAMP:20260422T175208
CREATED:20260305T170350Z
LAST-MODIFIED:20260305T170351Z
UID:10007328-1867917600-1867920900@waverlychurch.org
SUMMARY:Sunday School
DESCRIPTION:All ages are welcome to join us each week for Sunday School in the following locations: \nChildren up through 1st grade: nursery (downstairs\, right side of front entrance – ring bell to enter) \nChildren and Youth 2nd grade through 12th grade in the “Wonka Room” – room off of our lower floor Social Hall. \nAdults: lounge (upstairs in back of church)
URL:https://waverlychurch.org/event/sunday-school-3-2-2-2-2-2-2-2/2029-03-11/
END:VEVENT
BEGIN:VEVENT
DTSTART;TZID=America/New_York:20290311T110000
DTEND;TZID=America/New_York:20290311T121500
DTSTAMP:20260422T175208
CREATED:20250923T171614Z
LAST-MODIFIED:20250923T171615Z
UID:10007896-1867921200-1867925700@waverlychurch.org
SUMMARY:Worship Service
DESCRIPTION:We meet on Sundays in our Sanctuary at 11am during the school year and stream services online. \nSunday’s worship service will be live-streamed over our Facebook page on Sunday mornings. \n \nhttps://www.facebook.com/pg/WaverlyChurch/videos/
URL:https://waverlychurch.org/event/worship-service-5-2-2/2029-03-11/
END:VEVENT
BEGIN:VEVENT
DTSTART;TZID=America/New_York:20290311T121500
DTEND;TZID=America/New_York:20290311T133000
DTSTAMP:20260422T175208
CREATED:20260305T165302Z
LAST-MODIFIED:20260305T170242Z
UID:10007921-1867925700-1867930200@waverlychurch.org
SUMMARY:Coffee Hour
DESCRIPTION:Join us after service weekly for a chance to share fellowship over coffee and snacks
URL:https://waverlychurch.org/event/coffee-hour-3-2-2-2-2-2/2029-03-11/
LOCATION:Lounge
END:VEVENT
END:VCALENDAR