BEGIN:VCALENDAR
VERSION:2.0
PRODID:-//Waverly Presbyterian Church - ECPv6.15.20//NONSGML v1.0//EN
CALSCALE:GREGORIAN
METHOD:PUBLISH
X-WR-CALNAME:Waverly Presbyterian Church
X-ORIGINAL-URL:https://waverlychurch.org
X-WR-CALDESC:Events for Waverly Presbyterian Church
REFRESH-INTERVAL;VALUE=DURATION:PT1H
X-Robots-Tag:noindex
X-PUBLISHED-TTL:PT1H
BEGIN:VTIMEZONE
TZID:America/New_York
BEGIN:DAYLIGHT
TZOFFSETFROM:-0500
TZOFFSETTO:-0400
TZNAME:EDT
DTSTART:20280312T070000
END:DAYLIGHT
BEGIN:STANDARD
TZOFFSETFROM:-0400
TZOFFSETTO:-0500
TZNAME:EST
DTSTART:20281105T060000
END:STANDARD
BEGIN:DAYLIGHT
TZOFFSETFROM:-0500
TZOFFSETTO:-0400
TZNAME:EDT
DTSTART:20290311T070000
END:DAYLIGHT
BEGIN:STANDARD
TZOFFSETFROM:-0400
TZOFFSETTO:-0500
TZNAME:EST
DTSTART:20291104T060000
END:STANDARD
BEGIN:DAYLIGHT
TZOFFSETFROM:-0500
TZOFFSETTO:-0400
TZNAME:EDT
DTSTART:20300310T070000
END:DAYLIGHT
BEGIN:STANDARD
TZOFFSETFROM:-0400
TZOFFSETTO:-0500
TZNAME:EST
DTSTART:20301103T060000
END:STANDARD
END:VTIMEZONE
BEGIN:VEVENT
DTSTART;TZID=America/New_York:20290513T121500
DTEND;TZID=America/New_York:20290513T133000
DTSTAMP:20260422T201757
CREATED:20260305T165302Z
LAST-MODIFIED:20260305T170242Z
UID:10008517-1873368900-1873373400@waverlychurch.org
SUMMARY:Coffee Hour
DESCRIPTION:Join us after service weekly for a chance to share fellowship over coffee and snacks
URL:https://waverlychurch.org/event/coffee-hour-3-2-2-2-2-2/2029-05-13/
LOCATION:Lounge
END:VEVENT
BEGIN:VEVENT
DTSTART;TZID=America/New_York:20290514T090000
DTEND;TZID=America/New_York:20290514T200000
DTSTAMP:20260422T201757
CREATED:20251030T152456Z
LAST-MODIFIED:20251030T152456Z
UID:10132092-1873443600-1873483200@waverlychurch.org
SUMMARY:Guitar Lessons
DESCRIPTION:ian@cainsmusiclessons.com
URL:https://waverlychurch.org/event/guitar-lessons/2029-05-14/
LOCATION:Frog Room
END:VEVENT
BEGIN:VEVENT
DTSTART;TZID=America/New_York:20290514T190000
DTEND;TZID=America/New_York:20290514T203000
DTSTAMP:20260422T201757
CREATED:20251125T185647Z
LAST-MODIFIED:20251125T185647Z
UID:10132956-1873479600-1873485000@waverlychurch.org
SUMMARY:Amnesty Meeting-Social Hall
DESCRIPTION:
URL:https://waverlychurch.org/event/amnesty-meeting-social-hall/2029-05-14/
END:VEVENT
BEGIN:VEVENT
DTSTART;TZID=America/New_York:20290516T090000
DTEND;TZID=America/New_York:20290516T200000
DTSTAMP:20260422T201757
CREATED:20251030T152456Z
LAST-MODIFIED:20251030T152456Z
UID:10132093-1873616400-1873656000@waverlychurch.org
SUMMARY:Guitar Lessons
DESCRIPTION:ian@cainsmusiclessons.com
URL:https://waverlychurch.org/event/guitar-lessons/2029-05-16/
LOCATION:Frog Room
END:VEVENT
BEGIN:VEVENT
DTSTART;TZID=America/New_York:20290517T190000
DTEND;TZID=America/New_York:20290517T203000
DTSTAMP:20260422T201757
CREATED:20251125T183555Z
LAST-MODIFIED:20251125T183747Z
UID:10132514-1873738800-1873744200@waverlychurch.org
SUMMARY:Choir Rehearsal in Lounge
DESCRIPTION:
URL:https://waverlychurch.org/event/choir-rehearsal-in-lounge/2029-05-17/
LOCATION:Lounge
END:VEVENT
BEGIN:VEVENT
DTSTART;TZID=America/New_York:20290520T093000
DTEND;TZID=America/New_York:20290520T100000
DTSTAMP:20260422T201757
CREATED:20251125T184126Z
LAST-MODIFIED:20251125T184126Z
UID:10132775-1873963800-1873965600@waverlychurch.org
SUMMARY:Choir Rehearsal in Sanctuary
DESCRIPTION:
URL:https://waverlychurch.org/event/choir-rehearsal-in-sanctuary/2029-05-20/
END:VEVENT
BEGIN:VEVENT
DTSTART;TZID=America/New_York:20290520T100000
DTEND;TZID=America/New_York:20290520T105500
DTSTAMP:20260422T201757
CREATED:20260305T170350Z
LAST-MODIFIED:20260305T170351Z
UID:10008709-1873965600-1873968900@waverlychurch.org
SUMMARY:Sunday School
DESCRIPTION:All ages are welcome to join us each week for Sunday School in the following locations: \nChildren up through 1st grade: nursery (downstairs\, right side of front entrance – ring bell to enter) \nChildren and Youth 2nd grade through 12th grade in the “Wonka Room” – room off of our lower floor Social Hall. \nAdults: lounge (upstairs in back of church)
URL:https://waverlychurch.org/event/sunday-school-3-2-2-2-2-2-2-2/2029-05-20/
END:VEVENT
BEGIN:VEVENT
DTSTART;TZID=America/New_York:20290520T110000
DTEND;TZID=America/New_York:20290520T121500
DTSTAMP:20260422T201757
CREATED:20250923T171614Z
LAST-MODIFIED:20250923T171615Z
UID:10129099-1873969200-1873973700@waverlychurch.org
SUMMARY:Worship Service
DESCRIPTION:We meet on Sundays in our Sanctuary at 11am during the school year and stream services online. \nSunday’s worship service will be live-streamed over our Facebook page on Sunday mornings. \n \nhttps://www.facebook.com/pg/WaverlyChurch/videos/
URL:https://waverlychurch.org/event/worship-service-5-2-2/2029-05-20/
END:VEVENT
BEGIN:VEVENT
DTSTART;TZID=America/New_York:20290520T121500
DTEND;TZID=America/New_York:20290520T133000
DTSTAMP:20260422T201757
CREATED:20260305T165302Z
LAST-MODIFIED:20260305T170242Z
UID:10008518-1873973700-1873978200@waverlychurch.org
SUMMARY:Coffee Hour
DESCRIPTION:Join us after service weekly for a chance to share fellowship over coffee and snacks
URL:https://waverlychurch.org/event/coffee-hour-3-2-2-2-2-2/2029-05-20/
LOCATION:Lounge
END:VEVENT
BEGIN:VEVENT
DTSTART;TZID=America/New_York:20290521T090000
DTEND;TZID=America/New_York:20290521T200000
DTSTAMP:20260422T201757
CREATED:20251030T152456Z
LAST-MODIFIED:20251030T152456Z
UID:10132094-1874048400-1874088000@waverlychurch.org
SUMMARY:Guitar Lessons
DESCRIPTION:ian@cainsmusiclessons.com
URL:https://waverlychurch.org/event/guitar-lessons/2029-05-21/
LOCATION:Frog Room
END:VEVENT
BEGIN:VEVENT
DTSTART;TZID=America/New_York:20290523T090000
DTEND;TZID=America/New_York:20290523T200000
DTSTAMP:20260422T201757
CREATED:20251030T152456Z
LAST-MODIFIED:20251030T152456Z
UID:10132095-1874221200-1874260800@waverlychurch.org
SUMMARY:Guitar Lessons
DESCRIPTION:ian@cainsmusiclessons.com
URL:https://waverlychurch.org/event/guitar-lessons/2029-05-23/
LOCATION:Frog Room
END:VEVENT
BEGIN:VEVENT
DTSTART;TZID=America/New_York:20290524T103000
DTEND;TZID=America/New_York:20290524T140000
DTSTAMP:20260422T201757
CREATED:20260324T153601Z
LAST-MODIFIED:20260324T153603Z
UID:10133104-1874313000-1874325600@waverlychurch.org
SUMMARY:Reiki with Bob Dove and Ross Marshall
DESCRIPTION:
URL:https://waverlychurch.org/event/reiki-with-bob-dove-and-ross-marshall-2-2/2029-05-24/
LOCATION:Social Hall
END:VEVENT
BEGIN:VEVENT
DTSTART;TZID=America/New_York:20290524T190000
DTEND;TZID=America/New_York:20290524T203000
DTSTAMP:20260422T201757
CREATED:20251125T183555Z
LAST-MODIFIED:20251125T183747Z
UID:10132515-1874343600-1874349000@waverlychurch.org
SUMMARY:Choir Rehearsal in Lounge
DESCRIPTION:
URL:https://waverlychurch.org/event/choir-rehearsal-in-lounge/2029-05-24/
LOCATION:Lounge
END:VEVENT
BEGIN:VEVENT
DTSTART;TZID=America/New_York:20290527T093000
DTEND;TZID=America/New_York:20290527T100000
DTSTAMP:20260422T201757
CREATED:20251125T184126Z
LAST-MODIFIED:20251125T184126Z
UID:10132776-1874568600-1874570400@waverlychurch.org
SUMMARY:Choir Rehearsal in Sanctuary
DESCRIPTION:
URL:https://waverlychurch.org/event/choir-rehearsal-in-sanctuary/2029-05-27/
END:VEVENT
BEGIN:VEVENT
DTSTART;TZID=America/New_York:20290527T100000
DTEND;TZID=America/New_York:20290527T105500
DTSTAMP:20260422T201757
CREATED:20260305T170350Z
LAST-MODIFIED:20260305T170351Z
UID:10008710-1874570400-1874573700@waverlychurch.org
SUMMARY:Sunday School
DESCRIPTION:All ages are welcome to join us each week for Sunday School in the following locations: \nChildren up through 1st grade: nursery (downstairs\, right side of front entrance – ring bell to enter) \nChildren and Youth 2nd grade through 12th grade in the “Wonka Room” – room off of our lower floor Social Hall. \nAdults: lounge (upstairs in back of church)
URL:https://waverlychurch.org/event/sunday-school-3-2-2-2-2-2-2-2/2029-05-27/
END:VEVENT
BEGIN:VEVENT
DTSTART;TZID=America/New_York:20290527T110000
DTEND;TZID=America/New_York:20290527T121500
DTSTAMP:20260422T201757
CREATED:20250923T171614Z
LAST-MODIFIED:20250923T171615Z
UID:10129100-1874574000-1874578500@waverlychurch.org
SUMMARY:Worship Service
DESCRIPTION:We meet on Sundays in our Sanctuary at 11am during the school year and stream services online. \nSunday’s worship service will be live-streamed over our Facebook page on Sunday mornings. \n \nhttps://www.facebook.com/pg/WaverlyChurch/videos/
URL:https://waverlychurch.org/event/worship-service-5-2-2/2029-05-27/
END:VEVENT
BEGIN:VEVENT
DTSTART;TZID=America/New_York:20290527T121500
DTEND;TZID=America/New_York:20290527T133000
DTSTAMP:20260422T201757
CREATED:20260305T165302Z
LAST-MODIFIED:20260305T170242Z
UID:10008519-1874578500-1874583000@waverlychurch.org
SUMMARY:Coffee Hour
DESCRIPTION:Join us after service weekly for a chance to share fellowship over coffee and snacks
URL:https://waverlychurch.org/event/coffee-hour-3-2-2-2-2-2/2029-05-27/
LOCATION:Lounge
END:VEVENT
BEGIN:VEVENT
DTSTART;TZID=America/New_York:20290528T090000
DTEND;TZID=America/New_York:20290528T200000
DTSTAMP:20260422T201757
CREATED:20251030T152456Z
LAST-MODIFIED:20251030T152456Z
UID:10132096-1874653200-1874692800@waverlychurch.org
SUMMARY:Guitar Lessons
DESCRIPTION:ian@cainsmusiclessons.com
URL:https://waverlychurch.org/event/guitar-lessons/2029-05-28/
LOCATION:Frog Room
END:VEVENT
BEGIN:VEVENT
DTSTART;TZID=America/New_York:20290530T090000
DTEND;TZID=America/New_York:20290530T200000
DTSTAMP:20260422T201757
CREATED:20251030T152456Z
LAST-MODIFIED:20251030T152456Z
UID:10132097-1874826000-1874865600@waverlychurch.org
SUMMARY:Guitar Lessons
DESCRIPTION:ian@cainsmusiclessons.com
URL:https://waverlychurch.org/event/guitar-lessons/2029-05-30/
LOCATION:Frog Room
END:VEVENT
BEGIN:VEVENT
DTSTART;TZID=America/New_York:20290531T190000
DTEND;TZID=America/New_York:20290531T203000
DTSTAMP:20260422T201757
CREATED:20251125T183555Z
LAST-MODIFIED:20251125T183747Z
UID:10132516-1874948400-1874953800@waverlychurch.org
SUMMARY:Choir Rehearsal in Lounge
DESCRIPTION:
URL:https://waverlychurch.org/event/choir-rehearsal-in-lounge/2029-05-31/
LOCATION:Lounge
END:VEVENT
BEGIN:VEVENT
DTSTART;TZID=America/New_York:20290602T110000
DTEND;TZID=America/New_York:20290602T143000
DTSTAMP:20260422T201757
CREATED:20251125T184526Z
LAST-MODIFIED:20251125T184526Z
UID:10132897-1875092400-1875105000@waverlychurch.org
SUMMARY:East End N.A. Business Meeting/Social Hall
DESCRIPTION:
URL:https://waverlychurch.org/event/east-end-n-a-business-meeting-social-hall/2029-06-02/
END:VEVENT
BEGIN:VEVENT
DTSTART;TZID=America/New_York:20290603T093000
DTEND;TZID=America/New_York:20290603T100000
DTSTAMP:20260422T201757
CREATED:20251125T184126Z
LAST-MODIFIED:20251125T184126Z
UID:10132777-1875173400-1875175200@waverlychurch.org
SUMMARY:Choir Rehearsal in Sanctuary
DESCRIPTION:
URL:https://waverlychurch.org/event/choir-rehearsal-in-sanctuary/2029-06-03/
END:VEVENT
BEGIN:VEVENT
DTSTART;TZID=America/New_York:20290603T100000
DTEND;TZID=America/New_York:20290603T105500
DTSTAMP:20260422T201757
CREATED:20260305T170350Z
LAST-MODIFIED:20260305T170351Z
UID:10008711-1875175200-1875178500@waverlychurch.org
SUMMARY:Sunday School
DESCRIPTION:All ages are welcome to join us each week for Sunday School in the following locations: \nChildren up through 1st grade: nursery (downstairs\, right side of front entrance – ring bell to enter) \nChildren and Youth 2nd grade through 12th grade in the “Wonka Room” – room off of our lower floor Social Hall. \nAdults: lounge (upstairs in back of church)
URL:https://waverlychurch.org/event/sunday-school-3-2-2-2-2-2-2-2/2029-06-03/
END:VEVENT
BEGIN:VEVENT
DTSTART;TZID=America/New_York:20290603T110000
DTEND;TZID=America/New_York:20290603T121500
DTSTAMP:20260422T201757
CREATED:20250923T171614Z
LAST-MODIFIED:20250923T171615Z
UID:10129101-1875178800-1875183300@waverlychurch.org
SUMMARY:Worship Service
DESCRIPTION:We meet on Sundays in our Sanctuary at 11am during the school year and stream services online. \nSunday’s worship service will be live-streamed over our Facebook page on Sunday mornings. \n \nhttps://www.facebook.com/pg/WaverlyChurch/videos/
URL:https://waverlychurch.org/event/worship-service-5-2-2/2029-06-03/
END:VEVENT
BEGIN:VEVENT
DTSTART;TZID=America/New_York:20290603T121500
DTEND;TZID=America/New_York:20290603T133000
DTSTAMP:20260422T201757
CREATED:20260305T165302Z
LAST-MODIFIED:20260305T170242Z
UID:10008520-1875183300-1875187800@waverlychurch.org
SUMMARY:Coffee Hour
DESCRIPTION:Join us after service weekly for a chance to share fellowship over coffee and snacks
URL:https://waverlychurch.org/event/coffee-hour-3-2-2-2-2-2/2029-06-03/
LOCATION:Lounge
END:VEVENT
BEGIN:VEVENT
DTSTART;TZID=America/New_York:20290604T090000
DTEND;TZID=America/New_York:20290604T200000
DTSTAMP:20260422T201757
CREATED:20251030T152456Z
LAST-MODIFIED:20251030T152456Z
UID:10132098-1875258000-1875297600@waverlychurch.org
SUMMARY:Guitar Lessons
DESCRIPTION:ian@cainsmusiclessons.com
URL:https://waverlychurch.org/event/guitar-lessons/2029-06-04/
LOCATION:Frog Room
END:VEVENT
BEGIN:VEVENT
DTSTART;TZID=America/New_York:20290606T090000
DTEND;TZID=America/New_York:20290606T200000
DTSTAMP:20260422T201757
CREATED:20251030T152456Z
LAST-MODIFIED:20251030T152456Z
UID:10132099-1875430800-1875470400@waverlychurch.org
SUMMARY:Guitar Lessons
DESCRIPTION:ian@cainsmusiclessons.com
URL:https://waverlychurch.org/event/guitar-lessons/2029-06-06/
LOCATION:Frog Room
END:VEVENT
BEGIN:VEVENT
DTSTART;TZID=America/New_York:20290607T190000
DTEND;TZID=America/New_York:20290607T203000
DTSTAMP:20260422T201757
CREATED:20251125T183555Z
LAST-MODIFIED:20251125T183747Z
UID:10132517-1875553200-1875558600@waverlychurch.org
SUMMARY:Choir Rehearsal in Lounge
DESCRIPTION:
URL:https://waverlychurch.org/event/choir-rehearsal-in-lounge/2029-06-07/
LOCATION:Lounge
END:VEVENT
BEGIN:VEVENT
DTSTART;TZID=America/New_York:20290610T093000
DTEND;TZID=America/New_York:20290610T100000
DTSTAMP:20260422T201757
CREATED:20251125T184126Z
LAST-MODIFIED:20251125T184126Z
UID:10132778-1875778200-1875780000@waverlychurch.org
SUMMARY:Choir Rehearsal in Sanctuary
DESCRIPTION:
URL:https://waverlychurch.org/event/choir-rehearsal-in-sanctuary/2029-06-10/
END:VEVENT
BEGIN:VEVENT
DTSTART;TZID=America/New_York:20290610T100000
DTEND;TZID=America/New_York:20290610T105500
DTSTAMP:20260422T201757
CREATED:20260305T170350Z
LAST-MODIFIED:20260305T170351Z
UID:10008712-1875780000-1875783300@waverlychurch.org
SUMMARY:Sunday School
DESCRIPTION:All ages are welcome to join us each week for Sunday School in the following locations: \nChildren up through 1st grade: nursery (downstairs\, right side of front entrance – ring bell to enter) \nChildren and Youth 2nd grade through 12th grade in the “Wonka Room” – room off of our lower floor Social Hall. \nAdults: lounge (upstairs in back of church)
URL:https://waverlychurch.org/event/sunday-school-3-2-2-2-2-2-2-2/2029-06-10/
END:VEVENT
END:VCALENDAR