BEGIN:VCALENDAR
VERSION:2.0
PRODID:-//Waverly Presbyterian Church - ECPv6.15.20//NONSGML v1.0//EN
CALSCALE:GREGORIAN
METHOD:PUBLISH
X-ORIGINAL-URL:https://waverlychurch.org
X-WR-CALDESC:Events for Waverly Presbyterian Church
REFRESH-INTERVAL;VALUE=DURATION:PT1H
X-Robots-Tag:noindex
X-PUBLISHED-TTL:PT1H
BEGIN:VTIMEZONE
TZID:America/New_York
BEGIN:DAYLIGHT
TZOFFSETFROM:-0500
TZOFFSETTO:-0400
TZNAME:EDT
DTSTART:20280312T070000
END:DAYLIGHT
BEGIN:STANDARD
TZOFFSETFROM:-0400
TZOFFSETTO:-0500
TZNAME:EST
DTSTART:20281105T060000
END:STANDARD
BEGIN:DAYLIGHT
TZOFFSETFROM:-0500
TZOFFSETTO:-0400
TZNAME:EDT
DTSTART:20290311T070000
END:DAYLIGHT
BEGIN:STANDARD
TZOFFSETFROM:-0400
TZOFFSETTO:-0500
TZNAME:EST
DTSTART:20291104T060000
END:STANDARD
BEGIN:DAYLIGHT
TZOFFSETFROM:-0500
TZOFFSETTO:-0400
TZNAME:EDT
DTSTART:20300310T070000
END:DAYLIGHT
BEGIN:STANDARD
TZOFFSETFROM:-0400
TZOFFSETTO:-0500
TZNAME:EST
DTSTART:20301103T060000
END:STANDARD
END:VTIMEZONE
BEGIN:VEVENT
DTSTART;TZID=America/New_York:20290114T100000
DTEND;TZID=America/New_York:20290114T105500
DTSTAMP:20260422T180412
CREATED:20260305T170350Z
LAST-MODIFIED:20260305T170351Z
UID:10007320-1863079200-1863082500@waverlychurch.org
SUMMARY:Sunday School
DESCRIPTION:All ages are welcome to join us each week for Sunday School in the following locations: \nChildren up through 1st grade: nursery (downstairs\, right side of front entrance – ring bell to enter) \nChildren and Youth 2nd grade through 12th grade in the “Wonka Room” – room off of our lower floor Social Hall. \nAdults: lounge (upstairs in back of church)
URL:https://waverlychurch.org/event/sunday-school-3-2-2-2-2-2-2-2/2029-01-14/
END:VEVENT
BEGIN:VEVENT
DTSTART;TZID=America/New_York:20290114T110000
DTEND;TZID=America/New_York:20290114T121500
DTSTAMP:20260422T180412
CREATED:20250923T171614Z
LAST-MODIFIED:20250923T171615Z
UID:10007888-1863082800-1863087300@waverlychurch.org
SUMMARY:Worship Service
DESCRIPTION:We meet on Sundays in our Sanctuary at 11am during the school year and stream services online. \nSunday’s worship service will be live-streamed over our Facebook page on Sunday mornings. \n \nhttps://www.facebook.com/pg/WaverlyChurch/videos/
URL:https://waverlychurch.org/event/worship-service-5-2-2/2029-01-14/
END:VEVENT
BEGIN:VEVENT
DTSTART;TZID=America/New_York:20290114T121500
DTEND;TZID=America/New_York:20290114T133000
DTSTAMP:20260422T180412
CREATED:20260305T165302Z
LAST-MODIFIED:20260305T170242Z
UID:10007913-1863087300-1863091800@waverlychurch.org
SUMMARY:Coffee Hour
DESCRIPTION:Join us after service weekly for a chance to share fellowship over coffee and snacks
URL:https://waverlychurch.org/event/coffee-hour-3-2-2-2-2-2/2029-01-14/
LOCATION:Lounge
END:VEVENT
BEGIN:VEVENT
DTSTART;TZID=America/New_York:20290115T090000
DTEND;TZID=America/New_York:20290115T200000
DTSTAMP:20260422T180412
CREATED:20251030T152456Z
LAST-MODIFIED:20251030T152456Z
UID:10132058-1863162000-1863201600@waverlychurch.org
SUMMARY:Guitar Lessons
DESCRIPTION:ian@cainsmusiclessons.com
URL:https://waverlychurch.org/event/guitar-lessons/2029-01-15/
LOCATION:Frog Room
END:VEVENT
BEGIN:VEVENT
DTSTART;TZID=America/New_York:20290117T090000
DTEND;TZID=America/New_York:20290117T200000
DTSTAMP:20260422T180412
CREATED:20251030T152456Z
LAST-MODIFIED:20251030T152456Z
UID:10132059-1863334800-1863374400@waverlychurch.org
SUMMARY:Guitar Lessons
DESCRIPTION:ian@cainsmusiclessons.com
URL:https://waverlychurch.org/event/guitar-lessons/2029-01-17/
LOCATION:Frog Room
END:VEVENT
BEGIN:VEVENT
DTSTART;TZID=America/New_York:20290118T190000
DTEND;TZID=America/New_York:20290118T203000
DTSTAMP:20260422T180412
CREATED:20251125T183555Z
LAST-MODIFIED:20251125T183747Z
UID:10132497-1863457200-1863462600@waverlychurch.org
SUMMARY:Choir Rehearsal in Lounge
DESCRIPTION:
URL:https://waverlychurch.org/event/choir-rehearsal-in-lounge/2029-01-18/
LOCATION:Lounge
END:VEVENT
BEGIN:VEVENT
DTSTART;TZID=America/New_York:20290121T093000
DTEND;TZID=America/New_York:20290121T100000
DTSTAMP:20260422T180412
CREATED:20251125T184126Z
LAST-MODIFIED:20251125T184126Z
UID:10132758-1863682200-1863684000@waverlychurch.org
SUMMARY:Choir Rehearsal in Sanctuary
DESCRIPTION:
URL:https://waverlychurch.org/event/choir-rehearsal-in-sanctuary/2029-01-21/
END:VEVENT
BEGIN:VEVENT
DTSTART;TZID=America/New_York:20290121T100000
DTEND;TZID=America/New_York:20290121T105500
DTSTAMP:20260422T180412
CREATED:20260305T170350Z
LAST-MODIFIED:20260305T170351Z
UID:10007321-1863684000-1863687300@waverlychurch.org
SUMMARY:Sunday School
DESCRIPTION:All ages are welcome to join us each week for Sunday School in the following locations: \nChildren up through 1st grade: nursery (downstairs\, right side of front entrance – ring bell to enter) \nChildren and Youth 2nd grade through 12th grade in the “Wonka Room” – room off of our lower floor Social Hall. \nAdults: lounge (upstairs in back of church)
URL:https://waverlychurch.org/event/sunday-school-3-2-2-2-2-2-2-2/2029-01-21/
END:VEVENT
BEGIN:VEVENT
DTSTART;TZID=America/New_York:20290121T110000
DTEND;TZID=America/New_York:20290121T121500
DTSTAMP:20260422T180412
CREATED:20250923T171614Z
LAST-MODIFIED:20250923T171615Z
UID:10007889-1863687600-1863692100@waverlychurch.org
SUMMARY:Worship Service
DESCRIPTION:We meet on Sundays in our Sanctuary at 11am during the school year and stream services online. \nSunday’s worship service will be live-streamed over our Facebook page on Sunday mornings. \n \nhttps://www.facebook.com/pg/WaverlyChurch/videos/
URL:https://waverlychurch.org/event/worship-service-5-2-2/2029-01-21/
END:VEVENT
BEGIN:VEVENT
DTSTART;TZID=America/New_York:20290121T121500
DTEND;TZID=America/New_York:20290121T133000
DTSTAMP:20260422T180412
CREATED:20260305T165302Z
LAST-MODIFIED:20260305T170242Z
UID:10007914-1863692100-1863696600@waverlychurch.org
SUMMARY:Coffee Hour
DESCRIPTION:Join us after service weekly for a chance to share fellowship over coffee and snacks
URL:https://waverlychurch.org/event/coffee-hour-3-2-2-2-2-2/2029-01-21/
LOCATION:Lounge
END:VEVENT
BEGIN:VEVENT
DTSTART;TZID=America/New_York:20290122T090000
DTEND;TZID=America/New_York:20290122T200000
DTSTAMP:20260422T180412
CREATED:20251030T152456Z
LAST-MODIFIED:20251030T152456Z
UID:10132060-1863766800-1863806400@waverlychurch.org
SUMMARY:Guitar Lessons
DESCRIPTION:ian@cainsmusiclessons.com
URL:https://waverlychurch.org/event/guitar-lessons/2029-01-22/
LOCATION:Frog Room
END:VEVENT
BEGIN:VEVENT
DTSTART;TZID=America/New_York:20290124T090000
DTEND;TZID=America/New_York:20290124T200000
DTSTAMP:20260422T180412
CREATED:20251030T152456Z
LAST-MODIFIED:20251030T152456Z
UID:10132061-1863939600-1863979200@waverlychurch.org
SUMMARY:Guitar Lessons
DESCRIPTION:ian@cainsmusiclessons.com
URL:https://waverlychurch.org/event/guitar-lessons/2029-01-24/
LOCATION:Frog Room
END:VEVENT
BEGIN:VEVENT
DTSTART;TZID=America/New_York:20290125T103000
DTEND;TZID=America/New_York:20290125T140000
DTSTAMP:20260422T180412
CREATED:20260324T153601Z
LAST-MODIFIED:20260324T153603Z
UID:10133100-1864031400-1864044000@waverlychurch.org
SUMMARY:Reiki with Bob Dove and Ross Marshall
DESCRIPTION:
URL:https://waverlychurch.org/event/reiki-with-bob-dove-and-ross-marshall-2-2/2029-01-25/
LOCATION:Social Hall
END:VEVENT
BEGIN:VEVENT
DTSTART;TZID=America/New_York:20290125T190000
DTEND;TZID=America/New_York:20290125T203000
DTSTAMP:20260422T180412
CREATED:20251125T183555Z
LAST-MODIFIED:20251125T183747Z
UID:10132498-1864062000-1864067400@waverlychurch.org
SUMMARY:Choir Rehearsal in Lounge
DESCRIPTION:
URL:https://waverlychurch.org/event/choir-rehearsal-in-lounge/2029-01-25/
LOCATION:Lounge
END:VEVENT
BEGIN:VEVENT
DTSTART;TZID=America/New_York:20290128T093000
DTEND;TZID=America/New_York:20290128T100000
DTSTAMP:20260422T180412
CREATED:20251125T184126Z
LAST-MODIFIED:20251125T184126Z
UID:10132759-1864287000-1864288800@waverlychurch.org
SUMMARY:Choir Rehearsal in Sanctuary
DESCRIPTION:
URL:https://waverlychurch.org/event/choir-rehearsal-in-sanctuary/2029-01-28/
END:VEVENT
BEGIN:VEVENT
DTSTART;TZID=America/New_York:20290128T100000
DTEND;TZID=America/New_York:20290128T105500
DTSTAMP:20260422T180412
CREATED:20260305T170350Z
LAST-MODIFIED:20260305T170351Z
UID:10007322-1864288800-1864292100@waverlychurch.org
SUMMARY:Sunday School
DESCRIPTION:All ages are welcome to join us each week for Sunday School in the following locations: \nChildren up through 1st grade: nursery (downstairs\, right side of front entrance – ring bell to enter) \nChildren and Youth 2nd grade through 12th grade in the “Wonka Room” – room off of our lower floor Social Hall. \nAdults: lounge (upstairs in back of church)
URL:https://waverlychurch.org/event/sunday-school-3-2-2-2-2-2-2-2/2029-01-28/
END:VEVENT
BEGIN:VEVENT
DTSTART;TZID=America/New_York:20290128T110000
DTEND;TZID=America/New_York:20290128T121500
DTSTAMP:20260422T180412
CREATED:20250923T171614Z
LAST-MODIFIED:20250923T171615Z
UID:10007890-1864292400-1864296900@waverlychurch.org
SUMMARY:Worship Service
DESCRIPTION:We meet on Sundays in our Sanctuary at 11am during the school year and stream services online. \nSunday’s worship service will be live-streamed over our Facebook page on Sunday mornings. \n \nhttps://www.facebook.com/pg/WaverlyChurch/videos/
URL:https://waverlychurch.org/event/worship-service-5-2-2/2029-01-28/
END:VEVENT
BEGIN:VEVENT
DTSTART;TZID=America/New_York:20290128T121500
DTEND;TZID=America/New_York:20290128T133000
DTSTAMP:20260422T180412
CREATED:20260305T165302Z
LAST-MODIFIED:20260305T170242Z
UID:10007915-1864296900-1864301400@waverlychurch.org
SUMMARY:Coffee Hour
DESCRIPTION:Join us after service weekly for a chance to share fellowship over coffee and snacks
URL:https://waverlychurch.org/event/coffee-hour-3-2-2-2-2-2/2029-01-28/
LOCATION:Lounge
END:VEVENT
BEGIN:VEVENT
DTSTART;TZID=America/New_York:20290129T090000
DTEND;TZID=America/New_York:20290129T200000
DTSTAMP:20260422T180412
CREATED:20251030T152456Z
LAST-MODIFIED:20251030T152456Z
UID:10132062-1864371600-1864411200@waverlychurch.org
SUMMARY:Guitar Lessons
DESCRIPTION:ian@cainsmusiclessons.com
URL:https://waverlychurch.org/event/guitar-lessons/2029-01-29/
LOCATION:Frog Room
END:VEVENT
BEGIN:VEVENT
DTSTART;TZID=America/New_York:20290131T090000
DTEND;TZID=America/New_York:20290131T200000
DTSTAMP:20260422T180412
CREATED:20251030T152456Z
LAST-MODIFIED:20251030T152456Z
UID:10132063-1864544400-1864584000@waverlychurch.org
SUMMARY:Guitar Lessons
DESCRIPTION:ian@cainsmusiclessons.com
URL:https://waverlychurch.org/event/guitar-lessons/2029-01-31/
LOCATION:Frog Room
END:VEVENT
BEGIN:VEVENT
DTSTART;TZID=America/New_York:20290201T190000
DTEND;TZID=America/New_York:20290201T203000
DTSTAMP:20260422T180412
CREATED:20251125T183555Z
LAST-MODIFIED:20251125T183747Z
UID:10132499-1864666800-1864672200@waverlychurch.org
SUMMARY:Choir Rehearsal in Lounge
DESCRIPTION:
URL:https://waverlychurch.org/event/choir-rehearsal-in-lounge/2029-02-01/
LOCATION:Lounge
END:VEVENT
BEGIN:VEVENT
DTSTART;TZID=America/New_York:20290203T110000
DTEND;TZID=America/New_York:20290203T143000
DTSTAMP:20260422T180412
CREATED:20251125T184526Z
LAST-MODIFIED:20251125T184526Z
UID:10132893-1864810800-1864823400@waverlychurch.org
SUMMARY:East End N.A. Business Meeting/Social Hall
DESCRIPTION:
URL:https://waverlychurch.org/event/east-end-n-a-business-meeting-social-hall/2029-02-03/
END:VEVENT
BEGIN:VEVENT
DTSTART;TZID=America/New_York:20290204T093000
DTEND;TZID=America/New_York:20290204T100000
DTSTAMP:20260422T180412
CREATED:20251125T184126Z
LAST-MODIFIED:20251125T184126Z
UID:10132760-1864891800-1864893600@waverlychurch.org
SUMMARY:Choir Rehearsal in Sanctuary
DESCRIPTION:
URL:https://waverlychurch.org/event/choir-rehearsal-in-sanctuary/2029-02-04/
END:VEVENT
BEGIN:VEVENT
DTSTART;TZID=America/New_York:20290204T100000
DTEND;TZID=America/New_York:20290204T105500
DTSTAMP:20260422T180412
CREATED:20260305T170350Z
LAST-MODIFIED:20260305T170351Z
UID:10007323-1864893600-1864896900@waverlychurch.org
SUMMARY:Sunday School
DESCRIPTION:All ages are welcome to join us each week for Sunday School in the following locations: \nChildren up through 1st grade: nursery (downstairs\, right side of front entrance – ring bell to enter) \nChildren and Youth 2nd grade through 12th grade in the “Wonka Room” – room off of our lower floor Social Hall. \nAdults: lounge (upstairs in back of church)
URL:https://waverlychurch.org/event/sunday-school-3-2-2-2-2-2-2-2/2029-02-04/
END:VEVENT
BEGIN:VEVENT
DTSTART;TZID=America/New_York:20290204T110000
DTEND;TZID=America/New_York:20290204T121500
DTSTAMP:20260422T180412
CREATED:20250923T171614Z
LAST-MODIFIED:20250923T171615Z
UID:10007891-1864897200-1864901700@waverlychurch.org
SUMMARY:Worship Service
DESCRIPTION:We meet on Sundays in our Sanctuary at 11am during the school year and stream services online. \nSunday’s worship service will be live-streamed over our Facebook page on Sunday mornings. \n \nhttps://www.facebook.com/pg/WaverlyChurch/videos/
URL:https://waverlychurch.org/event/worship-service-5-2-2/2029-02-04/
END:VEVENT
BEGIN:VEVENT
DTSTART;TZID=America/New_York:20290204T121500
DTEND;TZID=America/New_York:20290204T133000
DTSTAMP:20260422T180412
CREATED:20260305T165302Z
LAST-MODIFIED:20260305T170242Z
UID:10007916-1864901700-1864906200@waverlychurch.org
SUMMARY:Coffee Hour
DESCRIPTION:Join us after service weekly for a chance to share fellowship over coffee and snacks
URL:https://waverlychurch.org/event/coffee-hour-3-2-2-2-2-2/2029-02-04/
LOCATION:Lounge
END:VEVENT
BEGIN:VEVENT
DTSTART;TZID=America/New_York:20290205T090000
DTEND;TZID=America/New_York:20290205T200000
DTSTAMP:20260422T180412
CREATED:20251030T152456Z
LAST-MODIFIED:20251030T152456Z
UID:10132064-1864976400-1865016000@waverlychurch.org
SUMMARY:Guitar Lessons
DESCRIPTION:ian@cainsmusiclessons.com
URL:https://waverlychurch.org/event/guitar-lessons/2029-02-05/
LOCATION:Frog Room
END:VEVENT
BEGIN:VEVENT
DTSTART;TZID=America/New_York:20290207T090000
DTEND;TZID=America/New_York:20290207T200000
DTSTAMP:20260422T180412
CREATED:20251030T152456Z
LAST-MODIFIED:20251030T152456Z
UID:10132065-1865149200-1865188800@waverlychurch.org
SUMMARY:Guitar Lessons
DESCRIPTION:ian@cainsmusiclessons.com
URL:https://waverlychurch.org/event/guitar-lessons/2029-02-07/
LOCATION:Frog Room
END:VEVENT
BEGIN:VEVENT
DTSTART;TZID=America/New_York:20290208T190000
DTEND;TZID=America/New_York:20290208T203000
DTSTAMP:20260422T180412
CREATED:20251125T183555Z
LAST-MODIFIED:20251125T183747Z
UID:10132500-1865271600-1865277000@waverlychurch.org
SUMMARY:Choir Rehearsal in Lounge
DESCRIPTION:
URL:https://waverlychurch.org/event/choir-rehearsal-in-lounge/2029-02-08/
LOCATION:Lounge
END:VEVENT
BEGIN:VEVENT
DTSTART;TZID=America/New_York:20290211T093000
DTEND;TZID=America/New_York:20290211T100000
DTSTAMP:20260422T180412
CREATED:20251125T184126Z
LAST-MODIFIED:20251125T184126Z
UID:10132761-1865496600-1865498400@waverlychurch.org
SUMMARY:Choir Rehearsal in Sanctuary
DESCRIPTION:
URL:https://waverlychurch.org/event/choir-rehearsal-in-sanctuary/2029-02-11/
END:VEVENT
END:VCALENDAR