BEGIN:VCALENDAR
VERSION:2.0
PRODID:-//Waverly Presbyterian Church - ECPv6.15.20//NONSGML v1.0//EN
CALSCALE:GREGORIAN
METHOD:PUBLISH
X-WR-CALNAME:Waverly Presbyterian Church
X-ORIGINAL-URL:https://waverlychurch.org
X-WR-CALDESC:Events for Waverly Presbyterian Church
REFRESH-INTERVAL;VALUE=DURATION:PT1H
X-Robots-Tag:noindex
X-PUBLISHED-TTL:PT1H
BEGIN:VTIMEZONE
TZID:UTC
BEGIN:STANDARD
TZOFFSETFROM:+0000
TZOFFSETTO:+0000
TZNAME:UTC
DTSTART:20180101T000000
END:STANDARD
END:VTIMEZONE
BEGIN:VEVENT
DTSTART;TZID=UTC:20190423T093000
DTEND;TZID=UTC:20190423T103000
DTSTAMP:20260420T202010
CREATED:20190310T185153Z
LAST-MODIFIED:20190310T185153Z
UID:10002202-1556011800-1556015400@waverlychurch.org
SUMMARY:QiGong class
DESCRIPTION:
URL:https://waverlychurch.org/event/qigong-class/2019-04-23/
END:VEVENT
BEGIN:VEVENT
DTSTART;TZID=UTC:20190424T100000
DTEND;TZID=UTC:20190424T120000
DTSTAMP:20260420T202010
CREATED:20190310T185812Z
LAST-MODIFIED:20190310T185812Z
UID:10002291-1556100000-1556107200@waverlychurch.org
SUMMARY:Wed Morning Playgroup
DESCRIPTION:Pre-K youth playgroup.
URL:https://waverlychurch.org/event/wed-morning-playgroup/2019-04-24/
END:VEVENT
BEGIN:VEVENT
DTSTART;TZID=UTC:20190424T180000
DTEND;TZID=UTC:20190424T203000
DTSTAMP:20260420T202010
CREATED:20190310T185922Z
LAST-MODIFIED:20190310T185922Z
UID:10003159-1556128800-1556137800@waverlychurch.org
SUMMARY:Tai Chi
DESCRIPTION:
URL:https://waverlychurch.org/event/tai-chi/2019-04-24/
LOCATION:Social Hall
END:VEVENT
BEGIN:VEVENT
DTSTART;TZID=UTC:20190426T190000
DTEND;TZID=UTC:20190426T210000
DTSTAMP:20260420T202010
CREATED:20190310T190658Z
LAST-MODIFIED:20190310T190931Z
UID:10002675-1556305200-1556312400@waverlychurch.org
SUMMARY:Opera House
DESCRIPTION:Youth melodrama practice!!
URL:https://waverlychurch.org/event/opera-house/2019-04-26/
END:VEVENT
BEGIN:VEVENT
DTSTART;TZID=UTC:20190428T100000
DTEND;TZID=UTC:20190428T110000
DTSTAMP:20260420T202010
CREATED:20190310T182806Z
LAST-MODIFIED:20190310T182806Z
UID:10002228-1556445600-1556449200@waverlychurch.org
SUMMARY:Sunday School
DESCRIPTION:Classes for pre-K through adult.
URL:https://waverlychurch.org/event/sunday-school-2/2019-04-28/
END:VEVENT
BEGIN:VEVENT
DTSTART;TZID=UTC:20190428T110000
DTEND;TZID=UTC:20190428T120000
DTSTAMP:20260420T202010
CREATED:20190310T183008Z
LAST-MODIFIED:20190310T192706Z
UID:10002238-1556449200-1556452800@waverlychurch.org
SUMMARY:Worship Service
DESCRIPTION:
URL:https://waverlychurch.org/event/worship-service/2019-04-28/
LOCATION:Sanctuary
END:VEVENT
BEGIN:VEVENT
DTSTART;TZID=UTC:20190428T190000
DTEND;TZID=UTC:20190428T210000
DTSTAMP:20260420T202010
CREATED:20190310T190658Z
LAST-MODIFIED:20190310T190931Z
UID:10002676-1556478000-1556485200@waverlychurch.org
SUMMARY:Opera House
DESCRIPTION:Youth melodrama practice!!
URL:https://waverlychurch.org/event/opera-house/2019-04-28/
END:VEVENT
BEGIN:VEVENT
DTSTART;TZID=UTC:20190429T190000
DTEND;TZID=UTC:20190429T210000
DTSTAMP:20260420T202010
CREATED:20190310T190311Z
LAST-MODIFIED:20190310T190506Z
UID:10003185-1556564400-1556571600@waverlychurch.org
SUMMARY:Search for God Study group
DESCRIPTION:
URL:https://waverlychurch.org/event/search-for-god-study-group/2019-04-29/
LOCATION:Lounge
END:VEVENT
BEGIN:VEVENT
DTSTART;TZID=UTC:20190430T093000
DTEND;TZID=UTC:20190430T103000
DTSTAMP:20260420T202010
CREATED:20190310T185153Z
LAST-MODIFIED:20190310T185153Z
UID:10002203-1556616600-1556620200@waverlychurch.org
SUMMARY:QiGong class
DESCRIPTION:
URL:https://waverlychurch.org/event/qigong-class/2019-04-30/
END:VEVENT
BEGIN:VEVENT
DTSTART;TZID=UTC:20190501T100000
DTEND;TZID=UTC:20190501T120000
DTSTAMP:20260420T202010
CREATED:20190310T185812Z
LAST-MODIFIED:20190310T185812Z
UID:10002292-1556704800-1556712000@waverlychurch.org
SUMMARY:Wed Morning Playgroup
DESCRIPTION:Pre-K youth playgroup.
URL:https://waverlychurch.org/event/wed-morning-playgroup/2019-05-01/
END:VEVENT
BEGIN:VEVENT
DTSTART;TZID=UTC:20190501T180000
DTEND;TZID=UTC:20190501T203000
DTSTAMP:20260420T202010
CREATED:20190310T185922Z
LAST-MODIFIED:20190310T185922Z
UID:10003160-1556733600-1556742600@waverlychurch.org
SUMMARY:Tai Chi
DESCRIPTION:
URL:https://waverlychurch.org/event/tai-chi/2019-05-01/
LOCATION:Social Hall
END:VEVENT
BEGIN:VEVENT
DTSTART;TZID=UTC:20190503T190000
DTEND;TZID=UTC:20190503T210000
DTSTAMP:20260420T202010
CREATED:20190310T190658Z
LAST-MODIFIED:20190310T190931Z
UID:10002677-1556910000-1556917200@waverlychurch.org
SUMMARY:Opera House
DESCRIPTION:Youth melodrama practice!!
URL:https://waverlychurch.org/event/opera-house/2019-05-03/
END:VEVENT
BEGIN:VEVENT
DTSTART;TZID=UTC:20190505T100000
DTEND;TZID=UTC:20190505T110000
DTSTAMP:20260420T202010
CREATED:20190310T182806Z
LAST-MODIFIED:20190310T182806Z
UID:10002229-1557050400-1557054000@waverlychurch.org
SUMMARY:Sunday School
DESCRIPTION:Classes for pre-K through adult.
URL:https://waverlychurch.org/event/sunday-school-2/2019-05-05/
END:VEVENT
BEGIN:VEVENT
DTSTART;TZID=UTC:20190505T110000
DTEND;TZID=UTC:20190505T120000
DTSTAMP:20260420T202010
CREATED:20190310T183008Z
LAST-MODIFIED:20190310T192706Z
UID:10002239-1557054000-1557057600@waverlychurch.org
SUMMARY:Worship Service
DESCRIPTION:
URL:https://waverlychurch.org/event/worship-service/2019-05-05/
LOCATION:Sanctuary
END:VEVENT
BEGIN:VEVENT
DTSTART;TZID=UTC:20190505T190000
DTEND;TZID=UTC:20190505T210000
DTSTAMP:20260420T202010
CREATED:20190310T190658Z
LAST-MODIFIED:20190310T190931Z
UID:10002678-1557082800-1557090000@waverlychurch.org
SUMMARY:Opera House
DESCRIPTION:Youth melodrama practice!!
URL:https://waverlychurch.org/event/opera-house/2019-05-05/
END:VEVENT
BEGIN:VEVENT
DTSTART;TZID=UTC:20190506T190000
DTEND;TZID=UTC:20190506T210000
DTSTAMP:20260420T202010
CREATED:20190310T190311Z
LAST-MODIFIED:20190310T190506Z
UID:10003186-1557169200-1557176400@waverlychurch.org
SUMMARY:Search for God Study group
DESCRIPTION:
URL:https://waverlychurch.org/event/search-for-god-study-group/2019-05-06/
LOCATION:Lounge
END:VEVENT
BEGIN:VEVENT
DTSTART;TZID=UTC:20190507T093000
DTEND;TZID=UTC:20190507T103000
DTSTAMP:20260420T202010
CREATED:20190310T185153Z
LAST-MODIFIED:20190310T185153Z
UID:10002204-1557221400-1557225000@waverlychurch.org
SUMMARY:QiGong class
DESCRIPTION:
URL:https://waverlychurch.org/event/qigong-class/2019-05-07/
END:VEVENT
BEGIN:VEVENT
DTSTART;TZID=UTC:20190508T100000
DTEND;TZID=UTC:20190508T120000
DTSTAMP:20260420T202010
CREATED:20190310T185812Z
LAST-MODIFIED:20190310T185812Z
UID:10002293-1557309600-1557316800@waverlychurch.org
SUMMARY:Wed Morning Playgroup
DESCRIPTION:Pre-K youth playgroup.
URL:https://waverlychurch.org/event/wed-morning-playgroup/2019-05-08/
END:VEVENT
BEGIN:VEVENT
DTSTART;TZID=UTC:20190508T180000
DTEND;TZID=UTC:20190508T203000
DTSTAMP:20260420T202010
CREATED:20190310T185922Z
LAST-MODIFIED:20190310T185922Z
UID:10003161-1557338400-1557347400@waverlychurch.org
SUMMARY:Tai Chi
DESCRIPTION:
URL:https://waverlychurch.org/event/tai-chi/2019-05-08/
LOCATION:Social Hall
END:VEVENT
BEGIN:VEVENT
DTSTART;TZID=UTC:20190510T190000
DTEND;TZID=UTC:20190510T210000
DTSTAMP:20260420T202010
CREATED:20190310T190658Z
LAST-MODIFIED:20190310T190931Z
UID:10002679-1557514800-1557522000@waverlychurch.org
SUMMARY:Opera House
DESCRIPTION:Youth melodrama practice!!
URL:https://waverlychurch.org/event/opera-house/2019-05-10/
END:VEVENT
BEGIN:VEVENT
DTSTART;TZID=UTC:20190512T100000
DTEND;TZID=UTC:20190512T110000
DTSTAMP:20260420T202010
CREATED:20190310T182806Z
LAST-MODIFIED:20190310T182806Z
UID:10002230-1557655200-1557658800@waverlychurch.org
SUMMARY:Sunday School
DESCRIPTION:Classes for pre-K through adult.
URL:https://waverlychurch.org/event/sunday-school-2/2019-05-12/
END:VEVENT
BEGIN:VEVENT
DTSTART;TZID=UTC:20190512T110000
DTEND;TZID=UTC:20190512T120000
DTSTAMP:20260420T202010
CREATED:20190310T183008Z
LAST-MODIFIED:20190310T192706Z
UID:10002240-1557658800-1557662400@waverlychurch.org
SUMMARY:Worship Service
DESCRIPTION:
URL:https://waverlychurch.org/event/worship-service/2019-05-12/
LOCATION:Sanctuary
END:VEVENT
BEGIN:VEVENT
DTSTART;TZID=UTC:20190513T190000
DTEND;TZID=UTC:20190513T200000
DTSTAMP:20260420T202010
CREATED:20190310T184856Z
LAST-MODIFIED:20190407T184613Z
UID:10002248-1557774000-1557777600@waverlychurch.org
SUMMARY:African Drumming
DESCRIPTION:
URL:https://waverlychurch.org/event/african-drumming/2019-05-13/
LOCATION:Social Hall
END:VEVENT
BEGIN:VEVENT
DTSTART;TZID=UTC:20190513T190000
DTEND;TZID=UTC:20190513T200000
DTSTAMP:20260420T202010
CREATED:20190310T184856Z
LAST-MODIFIED:20190407T185012Z
UID:10002249-1557774000-1557777600@waverlychurch.org
SUMMARY:African Drumming
DESCRIPTION:
URL:https://waverlychurch.org/event/african-drumming-2019-05-13/2019-05-13/
LOCATION:Social Hall
END:VEVENT
BEGIN:VEVENT
DTSTART;TZID=UTC:20190513T190000
DTEND;TZID=UTC:20190513T210000
DTSTAMP:20260420T202010
CREATED:20190310T190311Z
LAST-MODIFIED:20190310T190506Z
UID:10003187-1557774000-1557781200@waverlychurch.org
SUMMARY:Search for God Study group
DESCRIPTION:
URL:https://waverlychurch.org/event/search-for-god-study-group/2019-05-13/
LOCATION:Lounge
END:VEVENT
BEGIN:VEVENT
DTSTART;TZID=UTC:20190514T093000
DTEND;TZID=UTC:20190514T103000
DTSTAMP:20260420T202010
CREATED:20190310T185153Z
LAST-MODIFIED:20190310T185153Z
UID:10002205-1557826200-1557829800@waverlychurch.org
SUMMARY:QiGong class
DESCRIPTION:
URL:https://waverlychurch.org/event/qigong-class/2019-05-14/
END:VEVENT
BEGIN:VEVENT
DTSTART;TZID=UTC:20190515T100000
DTEND;TZID=UTC:20190515T120000
DTSTAMP:20260420T202010
CREATED:20190310T185812Z
LAST-MODIFIED:20190310T185812Z
UID:10002294-1557914400-1557921600@waverlychurch.org
SUMMARY:Wed Morning Playgroup
DESCRIPTION:Pre-K youth playgroup.
URL:https://waverlychurch.org/event/wed-morning-playgroup/2019-05-15/
END:VEVENT
BEGIN:VEVENT
DTSTART;TZID=UTC:20190515T180000
DTEND;TZID=UTC:20190515T203000
DTSTAMP:20260420T202010
CREATED:20190310T185922Z
LAST-MODIFIED:20190310T185922Z
UID:10003162-1557943200-1557952200@waverlychurch.org
SUMMARY:Tai Chi
DESCRIPTION:
URL:https://waverlychurch.org/event/tai-chi/2019-05-15/
LOCATION:Social Hall
END:VEVENT
BEGIN:VEVENT
DTSTART;TZID=UTC:20190519T100000
DTEND;TZID=UTC:20190519T110000
DTSTAMP:20260420T202010
CREATED:20190310T182806Z
LAST-MODIFIED:20190310T182806Z
UID:10002231-1558260000-1558263600@waverlychurch.org
SUMMARY:Sunday School
DESCRIPTION:Classes for pre-K through adult.
URL:https://waverlychurch.org/event/sunday-school-2/2019-05-19/
END:VEVENT
BEGIN:VEVENT
DTSTART;TZID=UTC:20190519T110000
DTEND;TZID=UTC:20190519T120000
DTSTAMP:20260420T202010
CREATED:20190310T183008Z
LAST-MODIFIED:20190310T192706Z
UID:10002241-1558263600-1558267200@waverlychurch.org
SUMMARY:Worship Service
DESCRIPTION:
URL:https://waverlychurch.org/event/worship-service/2019-05-19/
LOCATION:Sanctuary
END:VEVENT
END:VCALENDAR