BEGIN:VCALENDAR
VERSION:2.0
PRODID:-//Waverly Presbyterian Church - ECPv6.15.20//NONSGML v1.0//EN
CALSCALE:GREGORIAN
METHOD:PUBLISH
X-WR-CALNAME:Waverly Presbyterian Church
X-ORIGINAL-URL:https://waverlychurch.org
X-WR-CALDESC:Events for Waverly Presbyterian Church
REFRESH-INTERVAL;VALUE=DURATION:PT1H
X-Robots-Tag:noindex
X-PUBLISHED-TTL:PT1H
BEGIN:VTIMEZONE
TZID:UTC
BEGIN:STANDARD
TZOFFSETFROM:+0000
TZOFFSETTO:+0000
TZNAME:UTC
DTSTART:20180101T000000
END:STANDARD
END:VTIMEZONE
BEGIN:VEVENT
DTSTART;TZID=UTC:20190526T110000
DTEND;TZID=UTC:20190526T120000
DTSTAMP:20260421T013043
CREATED:20190310T183008Z
LAST-MODIFIED:20190310T192706Z
UID:10002242-1558868400-1558872000@waverlychurch.org
SUMMARY:Worship Service
DESCRIPTION:
URL:https://waverlychurch.org/event/worship-service/2019-05-26/
LOCATION:Sanctuary
END:VEVENT
BEGIN:VEVENT
DTSTART;TZID=UTC:20190527T190000
DTEND;TZID=UTC:20190527T200000
DTSTAMP:20260421T013043
CREATED:20190310T184856Z
LAST-MODIFIED:20190407T185012Z
UID:10002251-1558983600-1558987200@waverlychurch.org
SUMMARY:African Drumming
DESCRIPTION:
URL:https://waverlychurch.org/event/african-drumming-2019-05-13/2019-05-27/
LOCATION:Social Hall
END:VEVENT
BEGIN:VEVENT
DTSTART;TZID=UTC:20190527T190000
DTEND;TZID=UTC:20190527T210000
DTSTAMP:20260421T013043
CREATED:20190310T190311Z
LAST-MODIFIED:20190310T190506Z
UID:10003189-1558983600-1558990800@waverlychurch.org
SUMMARY:Search for God Study group
DESCRIPTION:
URL:https://waverlychurch.org/event/search-for-god-study-group/2019-05-27/
LOCATION:Lounge
END:VEVENT
BEGIN:VEVENT
DTSTART;TZID=UTC:20190528T093000
DTEND;TZID=UTC:20190528T103000
DTSTAMP:20260421T013043
CREATED:20190310T185153Z
LAST-MODIFIED:20190310T185153Z
UID:10002207-1559035800-1559039400@waverlychurch.org
SUMMARY:QiGong class
DESCRIPTION:
URL:https://waverlychurch.org/event/qigong-class/2019-05-28/
END:VEVENT
BEGIN:VEVENT
DTSTART;TZID=UTC:20190529T100000
DTEND;TZID=UTC:20190529T120000
DTSTAMP:20260421T013043
CREATED:20190310T185812Z
LAST-MODIFIED:20190310T185812Z
UID:10002296-1559124000-1559131200@waverlychurch.org
SUMMARY:Wed Morning Playgroup
DESCRIPTION:Pre-K youth playgroup.
URL:https://waverlychurch.org/event/wed-morning-playgroup/2019-05-29/
END:VEVENT
BEGIN:VEVENT
DTSTART;TZID=UTC:20190529T180000
DTEND;TZID=UTC:20190529T203000
DTSTAMP:20260421T013043
CREATED:20190310T185922Z
LAST-MODIFIED:20190310T185922Z
UID:10003164-1559152800-1559161800@waverlychurch.org
SUMMARY:Tai Chi
DESCRIPTION:
URL:https://waverlychurch.org/event/tai-chi/2019-05-29/
LOCATION:Social Hall
END:VEVENT
BEGIN:VEVENT
DTSTART;TZID=UTC:20190602T110000
DTEND;TZID=UTC:20190602T120000
DTSTAMP:20260421T013043
CREATED:20190602T193443Z
LAST-MODIFIED:20190602T193443Z
UID:10002076-1559473200-1559476800@waverlychurch.org
SUMMARY:All Church Picnic
DESCRIPTION:Worship starts at 10:00 AM\nFollowed by an all-church picnic\nAll are welcome!\nPlease wear red and bring a red food to the picnic.
URL:https://waverlychurch.org/event/all-church-picnic/
END:VEVENT
BEGIN:VEVENT
DTSTART;TZID=UTC:20190603T190000
DTEND;TZID=UTC:20190603T200000
DTSTAMP:20260421T013043
CREATED:20190310T184856Z
LAST-MODIFIED:20190407T185012Z
UID:10002252-1559588400-1559592000@waverlychurch.org
SUMMARY:African Drumming
DESCRIPTION:
URL:https://waverlychurch.org/event/african-drumming-2019-05-13/2019-06-03/
LOCATION:Social Hall
END:VEVENT
BEGIN:VEVENT
DTSTART;TZID=UTC:20190603T190000
DTEND;TZID=UTC:20190603T210000
DTSTAMP:20260421T013043
CREATED:20190310T190311Z
LAST-MODIFIED:20190310T190506Z
UID:10003190-1559588400-1559595600@waverlychurch.org
SUMMARY:Search for God Study group
DESCRIPTION:
URL:https://waverlychurch.org/event/search-for-god-study-group/2019-06-03/
LOCATION:Lounge
END:VEVENT
BEGIN:VEVENT
DTSTART;TZID=UTC:20190604T093000
DTEND;TZID=UTC:20190604T103000
DTSTAMP:20260421T013043
CREATED:20190310T185153Z
LAST-MODIFIED:20190310T185153Z
UID:10002208-1559640600-1559644200@waverlychurch.org
SUMMARY:QiGong class
DESCRIPTION:
URL:https://waverlychurch.org/event/qigong-class/2019-06-04/
END:VEVENT
BEGIN:VEVENT
DTSTART;TZID=UTC:20190605T100000
DTEND;TZID=UTC:20190605T120000
DTSTAMP:20260421T013043
CREATED:20190310T185812Z
LAST-MODIFIED:20190310T185812Z
UID:10002297-1559728800-1559736000@waverlychurch.org
SUMMARY:Wed Morning Playgroup
DESCRIPTION:Pre-K youth playgroup.
URL:https://waverlychurch.org/event/wed-morning-playgroup/2019-06-05/
END:VEVENT
BEGIN:VEVENT
DTSTART;TZID=UTC:20190605T180000
DTEND;TZID=UTC:20190605T203000
DTSTAMP:20260421T013043
CREATED:20190310T185922Z
LAST-MODIFIED:20190310T185922Z
UID:10003165-1559757600-1559766600@waverlychurch.org
SUMMARY:Tai Chi
DESCRIPTION:
URL:https://waverlychurch.org/event/tai-chi/2019-06-05/
LOCATION:Social Hall
END:VEVENT
BEGIN:VEVENT
DTSTART;TZID=UTC:20190609T100000
DTEND;TZID=UTC:20190609T110000
DTSTAMP:20260421T013043
CREATED:20190310T183008Z
LAST-MODIFIED:20190602T193709Z
UID:10002267-1560074400-1560078000@waverlychurch.org
SUMMARY:Worship Service
DESCRIPTION:Summer times start this week. 10:AM Worship.
URL:https://waverlychurch.org/event/worship-service-2019-06-02/
LOCATION:Sanctuary
END:VEVENT
BEGIN:VEVENT
DTSTART;TZID=UTC:20190610T190000
DTEND;TZID=UTC:20190610T200000
DTSTAMP:20260421T013043
CREATED:20190310T184856Z
LAST-MODIFIED:20190407T185012Z
UID:10002253-1560193200-1560196800@waverlychurch.org
SUMMARY:African Drumming
DESCRIPTION:
URL:https://waverlychurch.org/event/african-drumming-2019-05-13/2019-06-10/
LOCATION:Social Hall
END:VEVENT
BEGIN:VEVENT
DTSTART;TZID=UTC:20190610T190000
DTEND;TZID=UTC:20190610T210000
DTSTAMP:20260421T013043
CREATED:20190310T190311Z
LAST-MODIFIED:20190310T190506Z
UID:10003191-1560193200-1560200400@waverlychurch.org
SUMMARY:Search for God Study group
DESCRIPTION:
URL:https://waverlychurch.org/event/search-for-god-study-group/2019-06-10/
LOCATION:Lounge
END:VEVENT
BEGIN:VEVENT
DTSTART;TZID=UTC:20190611T093000
DTEND;TZID=UTC:20190611T103000
DTSTAMP:20260421T013043
CREATED:20190310T185153Z
LAST-MODIFIED:20190310T185153Z
UID:10002209-1560245400-1560249000@waverlychurch.org
SUMMARY:QiGong class
DESCRIPTION:
URL:https://waverlychurch.org/event/qigong-class/2019-06-11/
END:VEVENT
BEGIN:VEVENT
DTSTART;TZID=UTC:20190612T100000
DTEND;TZID=UTC:20190612T120000
DTSTAMP:20260421T013043
CREATED:20190310T185812Z
LAST-MODIFIED:20190310T185812Z
UID:10002298-1560333600-1560340800@waverlychurch.org
SUMMARY:Wed Morning Playgroup
DESCRIPTION:Pre-K youth playgroup.
URL:https://waverlychurch.org/event/wed-morning-playgroup/2019-06-12/
END:VEVENT
BEGIN:VEVENT
DTSTART;TZID=UTC:20190612T180000
DTEND;TZID=UTC:20190612T203000
DTSTAMP:20260421T013043
CREATED:20190310T185922Z
LAST-MODIFIED:20190310T185922Z
UID:10003166-1560362400-1560371400@waverlychurch.org
SUMMARY:Tai Chi
DESCRIPTION:
URL:https://waverlychurch.org/event/tai-chi/2019-06-12/
LOCATION:Social Hall
END:VEVENT
BEGIN:VEVENT
DTSTART;TZID=UTC:20190616T100000
DTEND;TZID=UTC:20190616T110000
DTSTAMP:20260421T013043
CREATED:20190310T183008Z
LAST-MODIFIED:20190602T193637Z
UID:10002274-1560679200-1560682800@waverlychurch.org
SUMMARY:Worship Service
DESCRIPTION:
URL:https://waverlychurch.org/event/worship-service-2019-06-02-2019-06-16/2019-06-16/
LOCATION:Sanctuary
END:VEVENT
BEGIN:VEVENT
DTSTART;TZID=UTC:20190617T190000
DTEND;TZID=UTC:20190617T200000
DTSTAMP:20260421T013043
CREATED:20190310T184856Z
LAST-MODIFIED:20190407T185012Z
UID:10002254-1560798000-1560801600@waverlychurch.org
SUMMARY:African Drumming
DESCRIPTION:
URL:https://waverlychurch.org/event/african-drumming-2019-05-13/2019-06-17/
LOCATION:Social Hall
END:VEVENT
BEGIN:VEVENT
DTSTART;TZID=UTC:20190617T190000
DTEND;TZID=UTC:20190617T210000
DTSTAMP:20260421T013043
CREATED:20190310T190311Z
LAST-MODIFIED:20190310T190506Z
UID:10003192-1560798000-1560805200@waverlychurch.org
SUMMARY:Search for God Study group
DESCRIPTION:
URL:https://waverlychurch.org/event/search-for-god-study-group/2019-06-17/
LOCATION:Lounge
END:VEVENT
BEGIN:VEVENT
DTSTART;TZID=UTC:20190618T093000
DTEND;TZID=UTC:20190618T103000
DTSTAMP:20260421T013043
CREATED:20190310T185153Z
LAST-MODIFIED:20190310T185153Z
UID:10002210-1560850200-1560853800@waverlychurch.org
SUMMARY:QiGong class
DESCRIPTION:
URL:https://waverlychurch.org/event/qigong-class/2019-06-18/
END:VEVENT
BEGIN:VEVENT
DTSTART;TZID=UTC:20190619T100000
DTEND;TZID=UTC:20190619T120000
DTSTAMP:20260421T013043
CREATED:20190310T185812Z
LAST-MODIFIED:20190310T185812Z
UID:10002299-1560938400-1560945600@waverlychurch.org
SUMMARY:Wed Morning Playgroup
DESCRIPTION:Pre-K youth playgroup.
URL:https://waverlychurch.org/event/wed-morning-playgroup/2019-06-19/
END:VEVENT
BEGIN:VEVENT
DTSTART;TZID=UTC:20190619T180000
DTEND;TZID=UTC:20190619T203000
DTSTAMP:20260421T013043
CREATED:20190310T185922Z
LAST-MODIFIED:20190310T185922Z
UID:10003167-1560967200-1560976200@waverlychurch.org
SUMMARY:Tai Chi
DESCRIPTION:
URL:https://waverlychurch.org/event/tai-chi/2019-06-19/
LOCATION:Social Hall
END:VEVENT
BEGIN:VEVENT
DTSTART;TZID=UTC:20190623T100000
DTEND;TZID=UTC:20190623T110000
DTSTAMP:20260421T013043
CREATED:20190310T183008Z
LAST-MODIFIED:20190602T193637Z
UID:10002275-1561284000-1561287600@waverlychurch.org
SUMMARY:Worship Service
DESCRIPTION:
URL:https://waverlychurch.org/event/worship-service-2019-06-02-2019-06-16/2019-06-23/
LOCATION:Sanctuary
END:VEVENT
BEGIN:VEVENT
DTSTART;TZID=UTC:20190624T190000
DTEND;TZID=UTC:20190624T200000
DTSTAMP:20260421T013043
CREATED:20190310T184856Z
LAST-MODIFIED:20190407T185012Z
UID:10002255-1561402800-1561406400@waverlychurch.org
SUMMARY:African Drumming
DESCRIPTION:
URL:https://waverlychurch.org/event/african-drumming-2019-05-13/2019-06-24/
LOCATION:Social Hall
END:VEVENT
BEGIN:VEVENT
DTSTART;TZID=UTC:20190624T190000
DTEND;TZID=UTC:20190624T210000
DTSTAMP:20260421T013043
CREATED:20190310T190311Z
LAST-MODIFIED:20190310T190506Z
UID:10003193-1561402800-1561410000@waverlychurch.org
SUMMARY:Search for God Study group
DESCRIPTION:
URL:https://waverlychurch.org/event/search-for-god-study-group/2019-06-24/
LOCATION:Lounge
END:VEVENT
BEGIN:VEVENT
DTSTART;TZID=UTC:20190625T093000
DTEND;TZID=UTC:20190625T103000
DTSTAMP:20260421T013043
CREATED:20190310T185153Z
LAST-MODIFIED:20190310T185153Z
UID:10002211-1561455000-1561458600@waverlychurch.org
SUMMARY:QiGong class
DESCRIPTION:
URL:https://waverlychurch.org/event/qigong-class/2019-06-25/
END:VEVENT
BEGIN:VEVENT
DTSTART;TZID=UTC:20190626T100000
DTEND;TZID=UTC:20190626T120000
DTSTAMP:20260421T013043
CREATED:20190310T185812Z
LAST-MODIFIED:20190310T185812Z
UID:10002300-1561543200-1561550400@waverlychurch.org
SUMMARY:Wed Morning Playgroup
DESCRIPTION:Pre-K youth playgroup.
URL:https://waverlychurch.org/event/wed-morning-playgroup/2019-06-26/
END:VEVENT
BEGIN:VEVENT
DTSTART;TZID=UTC:20190626T180000
DTEND;TZID=UTC:20190626T203000
DTSTAMP:20260421T013043
CREATED:20190310T185922Z
LAST-MODIFIED:20190310T185922Z
UID:10003168-1561572000-1561581000@waverlychurch.org
SUMMARY:Tai Chi
DESCRIPTION:
URL:https://waverlychurch.org/event/tai-chi/2019-06-26/
LOCATION:Social Hall
END:VEVENT
END:VCALENDAR