BEGIN:VCALENDAR
VERSION:2.0
PRODID:-//Waverly Presbyterian Church - ECPv6.15.20//NONSGML v1.0//EN
CALSCALE:GREGORIAN
METHOD:PUBLISH
X-WR-CALNAME:Waverly Presbyterian Church
X-ORIGINAL-URL:https://waverlychurch.org
X-WR-CALDESC:Events for Waverly Presbyterian Church
REFRESH-INTERVAL;VALUE=DURATION:PT1H
X-Robots-Tag:noindex
X-PUBLISHED-TTL:PT1H
BEGIN:VTIMEZONE
TZID:America/New_York
BEGIN:DAYLIGHT
TZOFFSETFROM:-0500
TZOFFSETTO:-0400
TZNAME:EDT
DTSTART:20260308T070000
END:DAYLIGHT
BEGIN:STANDARD
TZOFFSETFROM:-0400
TZOFFSETTO:-0500
TZNAME:EST
DTSTART:20261101T060000
END:STANDARD
BEGIN:DAYLIGHT
TZOFFSETFROM:-0500
TZOFFSETTO:-0400
TZNAME:EDT
DTSTART:20270314T070000
END:DAYLIGHT
BEGIN:STANDARD
TZOFFSETFROM:-0400
TZOFFSETTO:-0500
TZNAME:EST
DTSTART:20271107T060000
END:STANDARD
BEGIN:DAYLIGHT
TZOFFSETFROM:-0500
TZOFFSETTO:-0400
TZNAME:EDT
DTSTART:20280312T070000
END:DAYLIGHT
BEGIN:STANDARD
TZOFFSETFROM:-0400
TZOFFSETTO:-0500
TZNAME:EST
DTSTART:20281105T060000
END:STANDARD
END:VTIMEZONE
BEGIN:VTIMEZONE
TZID:UTC
BEGIN:STANDARD
TZOFFSETFROM:+0000
TZOFFSETTO:+0000
TZNAME:UTC
DTSTART:20260101T000000
END:STANDARD
END:VTIMEZONE
BEGIN:VEVENT
DTSTART;TZID=America/New_York:20270114T190000
DTEND;TZID=America/New_York:20270114T203000
DTSTAMP:20260420T220342
CREATED:20251125T183555Z
LAST-MODIFIED:20251125T183747Z
UID:10132392-1799953200-1799958600@waverlychurch.org
SUMMARY:Choir Rehearsal in Lounge
DESCRIPTION:
URL:https://waverlychurch.org/event/choir-rehearsal-in-lounge/2027-01-14/
LOCATION:Lounge
END:VEVENT
BEGIN:VEVENT
DTSTART;TZID=America/New_York:20270117T093000
DTEND;TZID=America/New_York:20270117T100000
DTSTAMP:20260420T220342
CREATED:20251125T184126Z
LAST-MODIFIED:20251125T184126Z
UID:10132653-1800178200-1800180000@waverlychurch.org
SUMMARY:Choir Rehearsal in Sanctuary
DESCRIPTION:
URL:https://waverlychurch.org/event/choir-rehearsal-in-sanctuary/2027-01-17/
END:VEVENT
BEGIN:VEVENT
DTSTART;TZID=America/New_York:20270117T100000
DTEND;TZID=America/New_York:20270117T105500
DTSTAMP:20260420T220342
CREATED:20260305T170350Z
LAST-MODIFIED:20260305T170351Z
UID:10007216-1800180000-1800183300@waverlychurch.org
SUMMARY:Sunday School
DESCRIPTION:All ages are welcome to join us each week for Sunday School in the following locations: \nChildren up through 1st grade: nursery (downstairs\, right side of front entrance – ring bell to enter) \nChildren and Youth 2nd grade through 12th grade in the “Wonka Room” – room off of our lower floor Social Hall. \nAdults: lounge (upstairs in back of church)
URL:https://waverlychurch.org/event/sunday-school-3-2-2-2-2-2-2-2/2027-01-17/
END:VEVENT
BEGIN:VEVENT
DTSTART;TZID=America/New_York:20270117T110000
DTEND;TZID=America/New_York:20270117T121500
DTSTAMP:20260420T220342
CREATED:20250923T171614Z
LAST-MODIFIED:20250923T171615Z
UID:10007784-1800183600-1800188100@waverlychurch.org
SUMMARY:Worship Service
DESCRIPTION:We meet on Sundays in our Sanctuary at 11am during the school year and stream services online. \nSunday’s worship service will be live-streamed over our Facebook page on Sunday mornings. \n \nhttps://www.facebook.com/pg/WaverlyChurch/videos/
URL:https://waverlychurch.org/event/worship-service-5-2-2/2027-01-17/
END:VEVENT
BEGIN:VEVENT
DTSTART;TZID=America/New_York:20270117T121500
DTEND;TZID=America/New_York:20270117T133000
DTSTAMP:20260420T220342
CREATED:20260305T165302Z
LAST-MODIFIED:20260305T170242Z
UID:10006700-1800188100-1800192600@waverlychurch.org
SUMMARY:Coffee Hour
DESCRIPTION:Join us after service weekly for a chance to share fellowship over coffee and snacks
URL:https://waverlychurch.org/event/coffee-hour-3-2-2-2-2-2/2027-01-17/
LOCATION:Lounge
END:VEVENT
BEGIN:VEVENT
DTSTART;TZID=America/New_York:20270117T193000
DTEND;TZID=America/New_York:20270117T210000
DTSTAMP:20260420T220342
CREATED:20190310T184702Z
LAST-MODIFIED:20220704T145322Z
UID:10000722-1800214200-1800219600@waverlychurch.org
SUMMARY:Alcoholics Anonymous
DESCRIPTION:The Frick Park Group of Alcoholics Anonymous is holding in-person meetings in the Social Hall. \nAdditional links for AA groups are posted online at the AA Central Office.\nhttps://www.pghaa.org/
URL:https://waverlychurch.org/event/aa-2020-03-22-2021-07-04/2027-01-17/
LOCATION:Social Hall
END:VEVENT
BEGIN:VEVENT
DTSTART;TZID=America/New_York:20270118T090000
DTEND;TZID=America/New_York:20270118T200000
DTSTAMP:20260420T220342
CREATED:20251030T152456Z
LAST-MODIFIED:20251030T152456Z
UID:10131850-1800262800-1800302400@waverlychurch.org
SUMMARY:Guitar Lessons
DESCRIPTION:ian@cainsmusiclessons.com
URL:https://waverlychurch.org/event/guitar-lessons/2027-01-18/
LOCATION:Frog Room
END:VEVENT
BEGIN:VEVENT
DTSTART;TZID=America/New_York:20270119T190000
DTEND;TZID=America/New_York:20270119T193000
DTSTAMP:20260420T220342
CREATED:20210711T201005Z
LAST-MODIFIED:20220704T150145Z
UID:10000371-1800385200-1800387000@waverlychurch.org
SUMMARY:Al-Anon [Beginners' Meeting]
DESCRIPTION:The Frick Park Al-Anon group may still be virtual. \nContact frickparkafg85[at]gmail.com with any questions.
URL:https://waverlychurch.org/event/al-anon-beginners-meeting-2022-01-04-2022-04-05/2027-01-19/
LOCATION:Social Hall
END:VEVENT
BEGIN:VEVENT
DTSTART;TZID=UTC:20270119T193000
DTEND;TZID=UTC:20270119T203000
DTSTAMP:20260420T220342
CREATED:20190310T185001Z
LAST-MODIFIED:20220331T225559Z
UID:10002600-1800387000-1800390600@waverlychurch.org
SUMMARY:Al-Anon
DESCRIPTION:The Frick Park Al-Anon is holding in-person meetings in the Social Hall. \nContact frickparkafg85[at]gmail.com with any questions.
URL:https://waverlychurch.org/event/al-anon-2020-03-24-2021-07-06-2021-07-13/2027-01-19/
END:VEVENT
BEGIN:VEVENT
DTSTART;TZID=America/New_York:20270120T090000
DTEND;TZID=America/New_York:20270120T200000
DTSTAMP:20260420T220342
CREATED:20251030T152456Z
LAST-MODIFIED:20251030T152456Z
UID:10131851-1800435600-1800475200@waverlychurch.org
SUMMARY:Guitar Lessons
DESCRIPTION:ian@cainsmusiclessons.com
URL:https://waverlychurch.org/event/guitar-lessons/2027-01-20/
LOCATION:Frog Room
END:VEVENT
BEGIN:VEVENT
DTSTART;TZID=America/New_York:20270121T190000
DTEND;TZID=America/New_York:20270121T203000
DTSTAMP:20260420T220342
CREATED:20251125T183555Z
LAST-MODIFIED:20251125T183747Z
UID:10132393-1800558000-1800563400@waverlychurch.org
SUMMARY:Choir Rehearsal in Lounge
DESCRIPTION:
URL:https://waverlychurch.org/event/choir-rehearsal-in-lounge/2027-01-21/
LOCATION:Lounge
END:VEVENT
BEGIN:VEVENT
DTSTART;TZID=America/New_York:20270124T093000
DTEND;TZID=America/New_York:20270124T100000
DTSTAMP:20260420T220342
CREATED:20251125T184126Z
LAST-MODIFIED:20251125T184126Z
UID:10132654-1800783000-1800784800@waverlychurch.org
SUMMARY:Choir Rehearsal in Sanctuary
DESCRIPTION:
URL:https://waverlychurch.org/event/choir-rehearsal-in-sanctuary/2027-01-24/
END:VEVENT
BEGIN:VEVENT
DTSTART;TZID=America/New_York:20270124T100000
DTEND;TZID=America/New_York:20270124T105500
DTSTAMP:20260420T220342
CREATED:20260305T170350Z
LAST-MODIFIED:20260305T170351Z
UID:10007217-1800784800-1800788100@waverlychurch.org
SUMMARY:Sunday School
DESCRIPTION:All ages are welcome to join us each week for Sunday School in the following locations: \nChildren up through 1st grade: nursery (downstairs\, right side of front entrance – ring bell to enter) \nChildren and Youth 2nd grade through 12th grade in the “Wonka Room” – room off of our lower floor Social Hall. \nAdults: lounge (upstairs in back of church)
URL:https://waverlychurch.org/event/sunday-school-3-2-2-2-2-2-2-2/2027-01-24/
END:VEVENT
BEGIN:VEVENT
DTSTART;TZID=America/New_York:20270124T110000
DTEND;TZID=America/New_York:20270124T121500
DTSTAMP:20260420T220342
CREATED:20250923T171614Z
LAST-MODIFIED:20250923T171615Z
UID:10007785-1800788400-1800792900@waverlychurch.org
SUMMARY:Worship Service
DESCRIPTION:We meet on Sundays in our Sanctuary at 11am during the school year and stream services online. \nSunday’s worship service will be live-streamed over our Facebook page on Sunday mornings. \n \nhttps://www.facebook.com/pg/WaverlyChurch/videos/
URL:https://waverlychurch.org/event/worship-service-5-2-2/2027-01-24/
END:VEVENT
BEGIN:VEVENT
DTSTART;TZID=America/New_York:20270124T121500
DTEND;TZID=America/New_York:20270124T133000
DTSTAMP:20260420T220342
CREATED:20260305T165302Z
LAST-MODIFIED:20260305T170242Z
UID:10006701-1800792900-1800797400@waverlychurch.org
SUMMARY:Coffee Hour
DESCRIPTION:Join us after service weekly for a chance to share fellowship over coffee and snacks
URL:https://waverlychurch.org/event/coffee-hour-3-2-2-2-2-2/2027-01-24/
LOCATION:Lounge
END:VEVENT
BEGIN:VEVENT
DTSTART;TZID=America/New_York:20270124T193000
DTEND;TZID=America/New_York:20270124T210000
DTSTAMP:20260420T220342
CREATED:20190310T184702Z
LAST-MODIFIED:20220704T145322Z
UID:10000723-1800819000-1800824400@waverlychurch.org
SUMMARY:Alcoholics Anonymous
DESCRIPTION:The Frick Park Group of Alcoholics Anonymous is holding in-person meetings in the Social Hall. \nAdditional links for AA groups are posted online at the AA Central Office.\nhttps://www.pghaa.org/
URL:https://waverlychurch.org/event/aa-2020-03-22-2021-07-04/2027-01-24/
LOCATION:Social Hall
END:VEVENT
BEGIN:VEVENT
DTSTART;TZID=America/New_York:20270125T090000
DTEND;TZID=America/New_York:20270125T200000
DTSTAMP:20260420T220342
CREATED:20251030T152456Z
LAST-MODIFIED:20251030T152456Z
UID:10131852-1800867600-1800907200@waverlychurch.org
SUMMARY:Guitar Lessons
DESCRIPTION:ian@cainsmusiclessons.com
URL:https://waverlychurch.org/event/guitar-lessons/2027-01-25/
LOCATION:Frog Room
END:VEVENT
BEGIN:VEVENT
DTSTART;TZID=America/New_York:20270126T190000
DTEND;TZID=America/New_York:20270126T193000
DTSTAMP:20260420T220342
CREATED:20210711T201005Z
LAST-MODIFIED:20220704T150145Z
UID:10000372-1800990000-1800991800@waverlychurch.org
SUMMARY:Al-Anon [Beginners' Meeting]
DESCRIPTION:The Frick Park Al-Anon group may still be virtual. \nContact frickparkafg85[at]gmail.com with any questions.
URL:https://waverlychurch.org/event/al-anon-beginners-meeting-2022-01-04-2022-04-05/2027-01-26/
LOCATION:Social Hall
END:VEVENT
BEGIN:VEVENT
DTSTART;TZID=UTC:20270126T193000
DTEND;TZID=UTC:20270126T203000
DTSTAMP:20260420T220342
CREATED:20190310T185001Z
LAST-MODIFIED:20220331T225559Z
UID:10002601-1800991800-1800995400@waverlychurch.org
SUMMARY:Al-Anon
DESCRIPTION:The Frick Park Al-Anon is holding in-person meetings in the Social Hall. \nContact frickparkafg85[at]gmail.com with any questions.
URL:https://waverlychurch.org/event/al-anon-2020-03-24-2021-07-06-2021-07-13/2027-01-26/
END:VEVENT
BEGIN:VEVENT
DTSTART;TZID=America/New_York:20270127T090000
DTEND;TZID=America/New_York:20270127T200000
DTSTAMP:20260420T220342
CREATED:20251030T152456Z
LAST-MODIFIED:20251030T152456Z
UID:10131853-1801040400-1801080000@waverlychurch.org
SUMMARY:Guitar Lessons
DESCRIPTION:ian@cainsmusiclessons.com
URL:https://waverlychurch.org/event/guitar-lessons/2027-01-27/
LOCATION:Frog Room
END:VEVENT
BEGIN:VEVENT
DTSTART;TZID=America/New_York:20270128T103000
DTEND;TZID=America/New_York:20270128T140000
DTSTAMP:20260420T220342
CREATED:20260324T153601Z
LAST-MODIFIED:20260324T153603Z
UID:10133076-1801132200-1801144800@waverlychurch.org
SUMMARY:Reiki with Bob Dove and Ross Marshall
DESCRIPTION:
URL:https://waverlychurch.org/event/reiki-with-bob-dove-and-ross-marshall-2-2/2027-01-28/
LOCATION:Social Hall
END:VEVENT
BEGIN:VEVENT
DTSTART;TZID=America/New_York:20270128T190000
DTEND;TZID=America/New_York:20270128T203000
DTSTAMP:20260420T220342
CREATED:20251125T183555Z
LAST-MODIFIED:20251125T183747Z
UID:10132394-1801162800-1801168200@waverlychurch.org
SUMMARY:Choir Rehearsal in Lounge
DESCRIPTION:
URL:https://waverlychurch.org/event/choir-rehearsal-in-lounge/2027-01-28/
LOCATION:Lounge
END:VEVENT
BEGIN:VEVENT
DTSTART;TZID=America/New_York:20270131T093000
DTEND;TZID=America/New_York:20270131T100000
DTSTAMP:20260420T220342
CREATED:20251125T184126Z
LAST-MODIFIED:20251125T184126Z
UID:10132655-1801387800-1801389600@waverlychurch.org
SUMMARY:Choir Rehearsal in Sanctuary
DESCRIPTION:
URL:https://waverlychurch.org/event/choir-rehearsal-in-sanctuary/2027-01-31/
END:VEVENT
BEGIN:VEVENT
DTSTART;TZID=America/New_York:20270131T100000
DTEND;TZID=America/New_York:20270131T105500
DTSTAMP:20260420T220342
CREATED:20260305T170350Z
LAST-MODIFIED:20260305T170351Z
UID:10007218-1801389600-1801392900@waverlychurch.org
SUMMARY:Sunday School
DESCRIPTION:All ages are welcome to join us each week for Sunday School in the following locations: \nChildren up through 1st grade: nursery (downstairs\, right side of front entrance – ring bell to enter) \nChildren and Youth 2nd grade through 12th grade in the “Wonka Room” – room off of our lower floor Social Hall. \nAdults: lounge (upstairs in back of church)
URL:https://waverlychurch.org/event/sunday-school-3-2-2-2-2-2-2-2/2027-01-31/
END:VEVENT
BEGIN:VEVENT
DTSTART;TZID=America/New_York:20270131T110000
DTEND;TZID=America/New_York:20270131T121500
DTSTAMP:20260420T220342
CREATED:20250923T171614Z
LAST-MODIFIED:20250923T171615Z
UID:10007786-1801393200-1801397700@waverlychurch.org
SUMMARY:Worship Service
DESCRIPTION:We meet on Sundays in our Sanctuary at 11am during the school year and stream services online. \nSunday’s worship service will be live-streamed over our Facebook page on Sunday mornings. \n \nhttps://www.facebook.com/pg/WaverlyChurch/videos/
URL:https://waverlychurch.org/event/worship-service-5-2-2/2027-01-31/
END:VEVENT
BEGIN:VEVENT
DTSTART;TZID=America/New_York:20270131T121500
DTEND;TZID=America/New_York:20270131T133000
DTSTAMP:20260420T220342
CREATED:20260305T165302Z
LAST-MODIFIED:20260305T170242Z
UID:10006702-1801397700-1801402200@waverlychurch.org
SUMMARY:Coffee Hour
DESCRIPTION:Join us after service weekly for a chance to share fellowship over coffee and snacks
URL:https://waverlychurch.org/event/coffee-hour-3-2-2-2-2-2/2027-01-31/
LOCATION:Lounge
END:VEVENT
BEGIN:VEVENT
DTSTART;TZID=America/New_York:20270131T193000
DTEND;TZID=America/New_York:20270131T210000
DTSTAMP:20260420T220342
CREATED:20190310T184702Z
LAST-MODIFIED:20220704T145322Z
UID:10000724-1801423800-1801429200@waverlychurch.org
SUMMARY:Alcoholics Anonymous
DESCRIPTION:The Frick Park Group of Alcoholics Anonymous is holding in-person meetings in the Social Hall. \nAdditional links for AA groups are posted online at the AA Central Office.\nhttps://www.pghaa.org/
URL:https://waverlychurch.org/event/aa-2020-03-22-2021-07-04/2027-01-31/
LOCATION:Social Hall
END:VEVENT
BEGIN:VEVENT
DTSTART;TZID=America/New_York:20270201T090000
DTEND;TZID=America/New_York:20270201T200000
DTSTAMP:20260420T220342
CREATED:20251030T152456Z
LAST-MODIFIED:20251030T152456Z
UID:10131854-1801472400-1801512000@waverlychurch.org
SUMMARY:Guitar Lessons
DESCRIPTION:ian@cainsmusiclessons.com
URL:https://waverlychurch.org/event/guitar-lessons/2027-02-01/
LOCATION:Frog Room
END:VEVENT
BEGIN:VEVENT
DTSTART;TZID=America/New_York:20270202T190000
DTEND;TZID=America/New_York:20270202T193000
DTSTAMP:20260420T220342
CREATED:20210711T201005Z
LAST-MODIFIED:20220704T150145Z
UID:10000373-1801594800-1801596600@waverlychurch.org
SUMMARY:Al-Anon [Beginners' Meeting]
DESCRIPTION:The Frick Park Al-Anon group may still be virtual. \nContact frickparkafg85[at]gmail.com with any questions.
URL:https://waverlychurch.org/event/al-anon-beginners-meeting-2022-01-04-2022-04-05/2027-02-02/
LOCATION:Social Hall
END:VEVENT
BEGIN:VEVENT
DTSTART;TZID=UTC:20270202T193000
DTEND;TZID=UTC:20270202T203000
DTSTAMP:20260420T220342
CREATED:20190310T185001Z
LAST-MODIFIED:20220331T225559Z
UID:10002602-1801596600-1801600200@waverlychurch.org
SUMMARY:Al-Anon
DESCRIPTION:The Frick Park Al-Anon is holding in-person meetings in the Social Hall. \nContact frickparkafg85[at]gmail.com with any questions.
URL:https://waverlychurch.org/event/al-anon-2020-03-24-2021-07-06-2021-07-13/2027-02-02/
END:VEVENT
END:VCALENDAR