BEGIN:VCALENDAR
VERSION:2.0
PRODID:-//Waverly Presbyterian Church - ECPv6.15.20//NONSGML v1.0//EN
CALSCALE:GREGORIAN
METHOD:PUBLISH
X-WR-CALNAME:Waverly Presbyterian Church
X-ORIGINAL-URL:https://waverlychurch.org
X-WR-CALDESC:Events for Waverly Presbyterian Church
REFRESH-INTERVAL;VALUE=DURATION:PT1H
X-Robots-Tag:noindex
X-PUBLISHED-TTL:PT1H
BEGIN:VTIMEZONE
TZID:UTC
BEGIN:STANDARD
TZOFFSETFROM:+0000
TZOFFSETTO:+0000
TZNAME:UTC
DTSTART:20180101T000000
END:STANDARD
END:VTIMEZONE
BEGIN:VEVENT
DTSTART;TZID=UTC:20190623T100000
DTEND;TZID=UTC:20190623T110000
DTSTAMP:20260421T021324
CREATED:20190310T183008Z
LAST-MODIFIED:20190602T193637Z
UID:10002275-1561284000-1561287600@waverlychurch.org
SUMMARY:Worship Service
DESCRIPTION:
URL:https://waverlychurch.org/event/worship-service-2019-06-02-2019-06-16/2019-06-23/
LOCATION:Sanctuary
END:VEVENT
BEGIN:VEVENT
DTSTART;TZID=UTC:20190624T190000
DTEND;TZID=UTC:20190624T200000
DTSTAMP:20260421T021324
CREATED:20190310T184856Z
LAST-MODIFIED:20190407T185012Z
UID:10002255-1561402800-1561406400@waverlychurch.org
SUMMARY:African Drumming
DESCRIPTION:
URL:https://waverlychurch.org/event/african-drumming-2019-05-13/2019-06-24/
LOCATION:Social Hall
END:VEVENT
BEGIN:VEVENT
DTSTART;TZID=UTC:20190624T190000
DTEND;TZID=UTC:20190624T210000
DTSTAMP:20260421T021324
CREATED:20190310T190311Z
LAST-MODIFIED:20190310T190506Z
UID:10003193-1561402800-1561410000@waverlychurch.org
SUMMARY:Search for God Study group
DESCRIPTION:
URL:https://waverlychurch.org/event/search-for-god-study-group/2019-06-24/
LOCATION:Lounge
END:VEVENT
BEGIN:VEVENT
DTSTART;TZID=UTC:20190625T093000
DTEND;TZID=UTC:20190625T103000
DTSTAMP:20260421T021324
CREATED:20190310T185153Z
LAST-MODIFIED:20190310T185153Z
UID:10002211-1561455000-1561458600@waverlychurch.org
SUMMARY:QiGong class
DESCRIPTION:
URL:https://waverlychurch.org/event/qigong-class/2019-06-25/
END:VEVENT
BEGIN:VEVENT
DTSTART;TZID=UTC:20190626T100000
DTEND;TZID=UTC:20190626T120000
DTSTAMP:20260421T021324
CREATED:20190310T185812Z
LAST-MODIFIED:20190310T185812Z
UID:10002300-1561543200-1561550400@waverlychurch.org
SUMMARY:Wed Morning Playgroup
DESCRIPTION:Pre-K youth playgroup.
URL:https://waverlychurch.org/event/wed-morning-playgroup/2019-06-26/
END:VEVENT
BEGIN:VEVENT
DTSTART;TZID=UTC:20190626T180000
DTEND;TZID=UTC:20190626T203000
DTSTAMP:20260421T021324
CREATED:20190310T185922Z
LAST-MODIFIED:20190310T185922Z
UID:10003168-1561572000-1561581000@waverlychurch.org
SUMMARY:Tai Chi
DESCRIPTION:
URL:https://waverlychurch.org/event/tai-chi/2019-06-26/
LOCATION:Social Hall
END:VEVENT
BEGIN:VEVENT
DTSTART;TZID=UTC:20190630T100000
DTEND;TZID=UTC:20190630T110000
DTSTAMP:20260421T021324
CREATED:20190310T183008Z
LAST-MODIFIED:20190602T193637Z
UID:10002276-1561888800-1561892400@waverlychurch.org
SUMMARY:Worship Service
DESCRIPTION:
URL:https://waverlychurch.org/event/worship-service-2019-06-02-2019-06-16/2019-06-30/
LOCATION:Sanctuary
END:VEVENT
BEGIN:VEVENT
DTSTART;TZID=UTC:20190701T190000
DTEND;TZID=UTC:20190701T200000
DTSTAMP:20260421T021324
CREATED:20190310T184856Z
LAST-MODIFIED:20190407T185012Z
UID:10002256-1562007600-1562011200@waverlychurch.org
SUMMARY:African Drumming
DESCRIPTION:
URL:https://waverlychurch.org/event/african-drumming-2019-05-13/2019-07-01/
LOCATION:Social Hall
END:VEVENT
BEGIN:VEVENT
DTSTART;TZID=UTC:20190701T190000
DTEND;TZID=UTC:20190701T210000
DTSTAMP:20260421T021324
CREATED:20190310T190311Z
LAST-MODIFIED:20190310T190506Z
UID:10003194-1562007600-1562014800@waverlychurch.org
SUMMARY:Search for God Study group
DESCRIPTION:
URL:https://waverlychurch.org/event/search-for-god-study-group/2019-07-01/
LOCATION:Lounge
END:VEVENT
BEGIN:VEVENT
DTSTART;TZID=UTC:20190702T093000
DTEND;TZID=UTC:20190702T103000
DTSTAMP:20260421T021324
CREATED:20190310T185153Z
LAST-MODIFIED:20190310T185153Z
UID:10002212-1562059800-1562063400@waverlychurch.org
SUMMARY:QiGong class
DESCRIPTION:
URL:https://waverlychurch.org/event/qigong-class/2019-07-02/
END:VEVENT
BEGIN:VEVENT
DTSTART;TZID=UTC:20190703T100000
DTEND;TZID=UTC:20190703T120000
DTSTAMP:20260421T021324
CREATED:20190310T185812Z
LAST-MODIFIED:20190310T185812Z
UID:10002301-1562148000-1562155200@waverlychurch.org
SUMMARY:Wed Morning Playgroup
DESCRIPTION:Pre-K youth playgroup.
URL:https://waverlychurch.org/event/wed-morning-playgroup/2019-07-03/
END:VEVENT
BEGIN:VEVENT
DTSTART;TZID=UTC:20190703T180000
DTEND;TZID=UTC:20190703T203000
DTSTAMP:20260421T021324
CREATED:20190310T185922Z
LAST-MODIFIED:20190310T185922Z
UID:10003169-1562176800-1562185800@waverlychurch.org
SUMMARY:Tai Chi
DESCRIPTION:
URL:https://waverlychurch.org/event/tai-chi/2019-07-03/
LOCATION:Social Hall
END:VEVENT
BEGIN:VEVENT
DTSTART;TZID=UTC:20190707T100000
DTEND;TZID=UTC:20190707T110000
DTSTAMP:20260421T021324
CREATED:20190310T183008Z
LAST-MODIFIED:20190602T193637Z
UID:10002277-1562493600-1562497200@waverlychurch.org
SUMMARY:Worship Service
DESCRIPTION:
URL:https://waverlychurch.org/event/worship-service-2019-06-02-2019-06-16/2019-07-07/
LOCATION:Sanctuary
END:VEVENT
BEGIN:VEVENT
DTSTART;TZID=UTC:20190708T190000
DTEND;TZID=UTC:20190708T200000
DTSTAMP:20260421T021324
CREATED:20190310T184856Z
LAST-MODIFIED:20190407T185012Z
UID:10002257-1562612400-1562616000@waverlychurch.org
SUMMARY:African Drumming
DESCRIPTION:
URL:https://waverlychurch.org/event/african-drumming-2019-05-13/2019-07-08/
LOCATION:Social Hall
END:VEVENT
BEGIN:VEVENT
DTSTART;TZID=UTC:20190708T190000
DTEND;TZID=UTC:20190708T210000
DTSTAMP:20260421T021324
CREATED:20190310T190311Z
LAST-MODIFIED:20190310T190506Z
UID:10003195-1562612400-1562619600@waverlychurch.org
SUMMARY:Search for God Study group
DESCRIPTION:
URL:https://waverlychurch.org/event/search-for-god-study-group/2019-07-08/
LOCATION:Lounge
END:VEVENT
BEGIN:VEVENT
DTSTART;TZID=UTC:20190709T093000
DTEND;TZID=UTC:20190709T103000
DTSTAMP:20260421T021324
CREATED:20190310T185153Z
LAST-MODIFIED:20190310T185153Z
UID:10002213-1562664600-1562668200@waverlychurch.org
SUMMARY:QiGong class
DESCRIPTION:
URL:https://waverlychurch.org/event/qigong-class/2019-07-09/
END:VEVENT
BEGIN:VEVENT
DTSTART;TZID=UTC:20190710T100000
DTEND;TZID=UTC:20190710T120000
DTSTAMP:20260421T021324
CREATED:20190310T185812Z
LAST-MODIFIED:20190310T185812Z
UID:10002302-1562752800-1562760000@waverlychurch.org
SUMMARY:Wed Morning Playgroup
DESCRIPTION:Pre-K youth playgroup.
URL:https://waverlychurch.org/event/wed-morning-playgroup/2019-07-10/
END:VEVENT
BEGIN:VEVENT
DTSTART;TZID=UTC:20190710T180000
DTEND;TZID=UTC:20190710T203000
DTSTAMP:20260421T021324
CREATED:20190310T185922Z
LAST-MODIFIED:20190310T185922Z
UID:10003170-1562781600-1562790600@waverlychurch.org
SUMMARY:Tai Chi
DESCRIPTION:
URL:https://waverlychurch.org/event/tai-chi/2019-07-10/
LOCATION:Social Hall
END:VEVENT
BEGIN:VEVENT
DTSTART;TZID=UTC:20190714T100000
DTEND;TZID=UTC:20190714T110000
DTSTAMP:20260421T021324
CREATED:20190310T183008Z
LAST-MODIFIED:20190602T193637Z
UID:10002278-1563098400-1563102000@waverlychurch.org
SUMMARY:Worship Service
DESCRIPTION:
URL:https://waverlychurch.org/event/worship-service-2019-06-02-2019-06-16/2019-07-14/
LOCATION:Sanctuary
END:VEVENT
BEGIN:VEVENT
DTSTART;TZID=UTC:20190715T190000
DTEND;TZID=UTC:20190715T200000
DTSTAMP:20260421T021324
CREATED:20190310T184856Z
LAST-MODIFIED:20190407T185012Z
UID:10002258-1563217200-1563220800@waverlychurch.org
SUMMARY:African Drumming
DESCRIPTION:
URL:https://waverlychurch.org/event/african-drumming-2019-05-13/2019-07-15/
LOCATION:Social Hall
END:VEVENT
BEGIN:VEVENT
DTSTART;TZID=UTC:20190715T190000
DTEND;TZID=UTC:20190715T210000
DTSTAMP:20260421T021324
CREATED:20190310T190311Z
LAST-MODIFIED:20190310T190506Z
UID:10003196-1563217200-1563224400@waverlychurch.org
SUMMARY:Search for God Study group
DESCRIPTION:
URL:https://waverlychurch.org/event/search-for-god-study-group/2019-07-15/
LOCATION:Lounge
END:VEVENT
BEGIN:VEVENT
DTSTART;TZID=UTC:20190716T093000
DTEND;TZID=UTC:20190716T103000
DTSTAMP:20260421T021324
CREATED:20190310T185153Z
LAST-MODIFIED:20190310T185153Z
UID:10002214-1563269400-1563273000@waverlychurch.org
SUMMARY:QiGong class
DESCRIPTION:
URL:https://waverlychurch.org/event/qigong-class/2019-07-16/
END:VEVENT
BEGIN:VEVENT
DTSTART;TZID=UTC:20190717T100000
DTEND;TZID=UTC:20190717T120000
DTSTAMP:20260421T021324
CREATED:20190310T185812Z
LAST-MODIFIED:20190310T185812Z
UID:10002303-1563357600-1563364800@waverlychurch.org
SUMMARY:Wed Morning Playgroup
DESCRIPTION:Pre-K youth playgroup.
URL:https://waverlychurch.org/event/wed-morning-playgroup/2019-07-17/
END:VEVENT
BEGIN:VEVENT
DTSTART;TZID=UTC:20190717T180000
DTEND;TZID=UTC:20190717T203000
DTSTAMP:20260421T021324
CREATED:20190310T185922Z
LAST-MODIFIED:20190310T185922Z
UID:10003171-1563386400-1563395400@waverlychurch.org
SUMMARY:Tai Chi
DESCRIPTION:
URL:https://waverlychurch.org/event/tai-chi/2019-07-17/
LOCATION:Social Hall
END:VEVENT
BEGIN:VEVENT
DTSTART;TZID=UTC:20190721T100000
DTEND;TZID=UTC:20190721T110000
DTSTAMP:20260421T021324
CREATED:20190310T183008Z
LAST-MODIFIED:20190602T193637Z
UID:10002279-1563703200-1563706800@waverlychurch.org
SUMMARY:Worship Service
DESCRIPTION:
URL:https://waverlychurch.org/event/worship-service-2019-06-02-2019-06-16/2019-07-21/
LOCATION:Sanctuary
END:VEVENT
BEGIN:VEVENT
DTSTART;TZID=UTC:20190722T190000
DTEND;TZID=UTC:20190722T200000
DTSTAMP:20260421T021324
CREATED:20190310T184856Z
LAST-MODIFIED:20190407T185012Z
UID:10002259-1563822000-1563825600@waverlychurch.org
SUMMARY:African Drumming
DESCRIPTION:
URL:https://waverlychurch.org/event/african-drumming-2019-05-13/2019-07-22/
LOCATION:Social Hall
END:VEVENT
BEGIN:VEVENT
DTSTART;TZID=UTC:20190722T190000
DTEND;TZID=UTC:20190722T210000
DTSTAMP:20260421T021324
CREATED:20190310T190311Z
LAST-MODIFIED:20190310T190506Z
UID:10003197-1563822000-1563829200@waverlychurch.org
SUMMARY:Search for God Study group
DESCRIPTION:
URL:https://waverlychurch.org/event/search-for-god-study-group/2019-07-22/
LOCATION:Lounge
END:VEVENT
BEGIN:VEVENT
DTSTART;TZID=UTC:20190723T093000
DTEND;TZID=UTC:20190723T103000
DTSTAMP:20260421T021324
CREATED:20190310T185153Z
LAST-MODIFIED:20190310T185153Z
UID:10002215-1563874200-1563877800@waverlychurch.org
SUMMARY:QiGong class
DESCRIPTION:
URL:https://waverlychurch.org/event/qigong-class/2019-07-23/
END:VEVENT
BEGIN:VEVENT
DTSTART;TZID=UTC:20190724T100000
DTEND;TZID=UTC:20190724T120000
DTSTAMP:20260421T021324
CREATED:20190310T185812Z
LAST-MODIFIED:20190310T185812Z
UID:10002304-1563962400-1563969600@waverlychurch.org
SUMMARY:Wed Morning Playgroup
DESCRIPTION:Pre-K youth playgroup.
URL:https://waverlychurch.org/event/wed-morning-playgroup/2019-07-24/
END:VEVENT
BEGIN:VEVENT
DTSTART;TZID=UTC:20190724T180000
DTEND;TZID=UTC:20190724T203000
DTSTAMP:20260421T021324
CREATED:20190310T185922Z
LAST-MODIFIED:20190310T185922Z
UID:10003172-1563991200-1564000200@waverlychurch.org
SUMMARY:Tai Chi
DESCRIPTION:
URL:https://waverlychurch.org/event/tai-chi/2019-07-24/
LOCATION:Social Hall
END:VEVENT
END:VCALENDAR