BEGIN:VCALENDAR
VERSION:2.0
PRODID:-//Waverly Presbyterian Church - ECPv6.15.20//NONSGML v1.0//EN
CALSCALE:GREGORIAN
METHOD:PUBLISH
X-ORIGINAL-URL:https://waverlychurch.org
X-WR-CALDESC:Events for Waverly Presbyterian Church
REFRESH-INTERVAL;VALUE=DURATION:PT1H
X-Robots-Tag:noindex
X-PUBLISHED-TTL:PT1H
BEGIN:VTIMEZONE
TZID:America/New_York
BEGIN:DAYLIGHT
TZOFFSETFROM:-0500
TZOFFSETTO:-0400
TZNAME:EDT
DTSTART:20240310T070000
END:DAYLIGHT
BEGIN:STANDARD
TZOFFSETFROM:-0400
TZOFFSETTO:-0500
TZNAME:EST
DTSTART:20241103T060000
END:STANDARD
BEGIN:DAYLIGHT
TZOFFSETFROM:-0500
TZOFFSETTO:-0400
TZNAME:EDT
DTSTART:20250309T070000
END:DAYLIGHT
BEGIN:STANDARD
TZOFFSETFROM:-0400
TZOFFSETTO:-0500
TZNAME:EST
DTSTART:20251102T060000
END:STANDARD
BEGIN:DAYLIGHT
TZOFFSETFROM:-0500
TZOFFSETTO:-0400
TZNAME:EDT
DTSTART:20260308T070000
END:DAYLIGHT
BEGIN:STANDARD
TZOFFSETFROM:-0400
TZOFFSETTO:-0500
TZNAME:EST
DTSTART:20261101T060000
END:STANDARD
END:VTIMEZONE
BEGIN:VTIMEZONE
TZID:UTC
BEGIN:STANDARD
TZOFFSETFROM:+0000
TZOFFSETTO:+0000
TZNAME:UTC
DTSTART:20240101T000000
END:STANDARD
END:VTIMEZONE
BEGIN:VEVENT
DTSTART;TZID=America/New_York:20250912T180000
DTEND;TZID=America/New_York:20250912T200000
DTSTAMP:20260422T182655
CREATED:20250821T145450Z
LAST-MODIFIED:20250821T145450Z
UID:10129189-1757700000-1757707200@waverlychurch.org
SUMMARY:First Friday Fellowship (Second Friday for Sept)
DESCRIPTION:This month\, First Friday will be on the Second Friday. \nFollowing months will be on the first Fridays.
URL:https://waverlychurch.org/event/first-friday-fellowship-second-friday-for-sept/
LOCATION:Social Hall
END:VEVENT
BEGIN:VEVENT
DTSTART;TZID=America/New_York:20250914T100000
DTEND;TZID=America/New_York:20250914T105500
DTSTAMP:20260422T182655
CREATED:20250729T172418Z
LAST-MODIFIED:20250729T172418Z
UID:10007146-1757844000-1757847300@waverlychurch.org
SUMMARY:Sunday School
DESCRIPTION:All ages are welcome to join us each week for Sunday School in the following locations: \nChildren up through 1st grade: nursery (downstairs\, right side of front entrance – ring bell to enter) \nChildren and Youth 2nd grade through 12th grade in the “Wonka Room” – room off of our lower floor Social Hall. \nAdults: lounge (upstairs in back of church)
URL:https://waverlychurch.org/event/sunday-school-3-2-2-2-2-2/2025-09-14/
END:VEVENT
BEGIN:VEVENT
DTSTART;TZID=America/New_York:20250914T110000
DTEND;TZID=America/New_York:20250914T121500
DTSTAMP:20260422T182655
CREATED:20250729T172012Z
LAST-MODIFIED:20250729T172203Z
UID:10007714-1757847600-1757852100@waverlychurch.org
SUMMARY:Worship Service
DESCRIPTION:We meet on Sundays in our Sanctuary at 11am during the school year and stream services online. \nSunday’s worship service will be live-streamed over our Facebook page on Sunday mornings. \n \nhttps://www.facebook.com/pg/WaverlyChurch/videos/
URL:https://waverlychurch.org/event/worship-service-5-2/2025-09-14/
END:VEVENT
BEGIN:VEVENT
DTSTART;TZID=America/New_York:20250914T121500
DTEND;TZID=America/New_York:20250914T133000
DTSTAMP:20260422T182655
CREATED:20250729T155142Z
LAST-MODIFIED:20250729T155458Z
UID:10006630-1757852100-1757856600@waverlychurch.org
SUMMARY:Coffee Hour
DESCRIPTION:Join us after service weekly for a chance to share fellowship over coffee and snacks
URL:https://waverlychurch.org/event/coffee-hour-3-2-2-2/2025-09-14/
LOCATION:Lounge
END:VEVENT
BEGIN:VEVENT
DTSTART;TZID=America/New_York:20250914T193000
DTEND;TZID=America/New_York:20250914T210000
DTSTAMP:20260422T182655
CREATED:20190310T184702Z
LAST-MODIFIED:20220704T145322Z
UID:10000652-1757878200-1757883600@waverlychurch.org
SUMMARY:Alcoholics Anonymous
DESCRIPTION:The Frick Park Group of Alcoholics Anonymous is holding in-person meetings in the Social Hall. \nAdditional links for AA groups are posted online at the AA Central Office.\nhttps://www.pghaa.org/
URL:https://waverlychurch.org/event/aa-2020-03-22-2021-07-04/2025-09-14/
LOCATION:Social Hall
END:VEVENT
BEGIN:VEVENT
DTSTART;TZID=America/New_York:20250915T170000
DTEND;TZID=America/New_York:20250915T180000
DTSTAMP:20260422T182655
CREATED:20240827T181303Z
LAST-MODIFIED:20260309T184828Z
UID:10008279-1757955600-1757959200@waverlychurch.org
SUMMARY:Drawing Closer - Meeting on Zoom
DESCRIPTION:This time of contemplative prayer and exploration of poetry is different every week and open to all\, no matter your beliefs. \nClick here for the Zoom link or call by phone:\n929-436-2866\nMeeting ID: 829 0407 0235\nPasscode: 056654
URL:https://waverlychurch.org/event/drawing-closer/2025-09-15/
LOCATION:https://waverlychurch.org/event/drawing-closer/2025-09-15/
END:VEVENT
BEGIN:VEVENT
DTSTART;TZID=America/New_York:20250916T190000
DTEND;TZID=America/New_York:20250916T193000
DTSTAMP:20260422T182655
CREATED:20210711T201005Z
LAST-MODIFIED:20220704T150145Z
UID:10000301-1758049200-1758051000@waverlychurch.org
SUMMARY:Al-Anon [Beginners' Meeting]
DESCRIPTION:The Frick Park Al-Anon group may still be virtual. \nContact frickparkafg85[at]gmail.com with any questions.
URL:https://waverlychurch.org/event/al-anon-beginners-meeting-2022-01-04-2022-04-05/2025-09-16/
LOCATION:Social Hall
END:VEVENT
BEGIN:VEVENT
DTSTART;TZID=UTC:20250916T193000
DTEND;TZID=UTC:20250916T203000
DTSTAMP:20260422T182655
CREATED:20190310T185001Z
LAST-MODIFIED:20220331T225559Z
UID:10002530-1758051000-1758054600@waverlychurch.org
SUMMARY:Al-Anon
DESCRIPTION:The Frick Park Al-Anon is holding in-person meetings in the Social Hall. \nContact frickparkafg85[at]gmail.com with any questions.
URL:https://waverlychurch.org/event/al-anon-2020-03-24-2021-07-06-2021-07-13/2025-09-16/
END:VEVENT
BEGIN:VEVENT
DTSTART;TZID=America/New_York:20250918T103000
DTEND;TZID=America/New_York:20250918T140000
DTSTAMP:20260422T182655
CREATED:20241211T164945Z
LAST-MODIFIED:20241211T164945Z
UID:10008599-1758191400-1758204000@waverlychurch.org
SUMMARY:Reiki with Bob Dove and Ross Marshall
DESCRIPTION:
URL:https://waverlychurch.org/event/reiki-with-bob-dove-and-ross-marshall-2/2025-09-18/
LOCATION:Social Hall
END:VEVENT
BEGIN:VEVENT
DTSTART;TZID=America/New_York:20250919T100000
DTEND;TZID=America/New_York:20250919T104500
DTSTAMP:20260422T182655
CREATED:20250529T155049Z
LAST-MODIFIED:20250529T155049Z
UID:10126543-1758276000-1758278700@waverlychurch.org
SUMMARY:Five Elements Qigong Fall Session 1 (Drop-ins Welcome)
DESCRIPTION:Contact Laura at laurakbudde@gmail.com or 618-210-3672.
URL:https://waverlychurch.org/event/five-elements-qigong-fall-session-1-drop-ins-welcome/2025-09-19/
LOCATION:Social Hall
END:VEVENT
BEGIN:VEVENT
DTSTART;TZID=America/New_York:20250919T110000
DTEND;TZID=America/New_York:20250919T120000
DTSTAMP:20260422T182655
CREATED:20250529T155342Z
LAST-MODIFIED:20250529T155342Z
UID:10126555-1758279600-1758283200@waverlychurch.org
SUMMARY:Tai Chi for Health Part 1 (Beginner Friendly)
DESCRIPTION:Contact Laura at laurakbudde@gmail.com or 618-210-3672. \nRegular attendance is necessary to learn and benefit from a complete tai chi form.
URL:https://waverlychurch.org/event/tai-chi-for-health-part-1-beginner-friendly/2025-09-19/
LOCATION:Social Hall
END:VEVENT
BEGIN:VEVENT
DTSTART;TZID=America/New_York:20250921T100000
DTEND;TZID=America/New_York:20250921T105500
DTSTAMP:20260422T182655
CREATED:20250729T172418Z
LAST-MODIFIED:20250729T172418Z
UID:10007147-1758448800-1758452100@waverlychurch.org
SUMMARY:Sunday School
DESCRIPTION:All ages are welcome to join us each week for Sunday School in the following locations: \nChildren up through 1st grade: nursery (downstairs\, right side of front entrance – ring bell to enter) \nChildren and Youth 2nd grade through 12th grade in the “Wonka Room” – room off of our lower floor Social Hall. \nAdults: lounge (upstairs in back of church)
URL:https://waverlychurch.org/event/sunday-school-3-2-2-2-2-2/2025-09-21/
END:VEVENT
BEGIN:VEVENT
DTSTART;TZID=America/New_York:20250921T110000
DTEND;TZID=America/New_York:20250921T121500
DTSTAMP:20260422T182655
CREATED:20250729T172012Z
LAST-MODIFIED:20250729T172203Z
UID:10007715-1758452400-1758456900@waverlychurch.org
SUMMARY:Worship Service
DESCRIPTION:We meet on Sundays in our Sanctuary at 11am during the school year and stream services online. \nSunday’s worship service will be live-streamed over our Facebook page on Sunday mornings. \n \nhttps://www.facebook.com/pg/WaverlyChurch/videos/
URL:https://waverlychurch.org/event/worship-service-5-2/2025-09-21/
END:VEVENT
BEGIN:VEVENT
DTSTART;TZID=America/New_York:20250921T121500
DTEND;TZID=America/New_York:20250921T133000
DTSTAMP:20260422T182655
CREATED:20250729T155142Z
LAST-MODIFIED:20250729T155458Z
UID:10006631-1758456900-1758461400@waverlychurch.org
SUMMARY:Coffee Hour
DESCRIPTION:Join us after service weekly for a chance to share fellowship over coffee and snacks
URL:https://waverlychurch.org/event/coffee-hour-3-2-2-2/2025-09-21/
LOCATION:Lounge
END:VEVENT
BEGIN:VEVENT
DTSTART;TZID=America/New_York:20250921T193000
DTEND;TZID=America/New_York:20250921T210000
DTSTAMP:20260422T182655
CREATED:20190310T184702Z
LAST-MODIFIED:20220704T145322Z
UID:10000653-1758483000-1758488400@waverlychurch.org
SUMMARY:Alcoholics Anonymous
DESCRIPTION:The Frick Park Group of Alcoholics Anonymous is holding in-person meetings in the Social Hall. \nAdditional links for AA groups are posted online at the AA Central Office.\nhttps://www.pghaa.org/
URL:https://waverlychurch.org/event/aa-2020-03-22-2021-07-04/2025-09-21/
LOCATION:Social Hall
END:VEVENT
BEGIN:VEVENT
DTSTART;TZID=America/New_York:20250922T170000
DTEND;TZID=America/New_York:20250922T180000
DTSTAMP:20260422T182655
CREATED:20240827T181303Z
LAST-MODIFIED:20260309T184828Z
UID:10008280-1758560400-1758564000@waverlychurch.org
SUMMARY:Drawing Closer - Meeting on Zoom
DESCRIPTION:This time of contemplative prayer and exploration of poetry is different every week and open to all\, no matter your beliefs. \nClick here for the Zoom link or call by phone:\n929-436-2866\nMeeting ID: 829 0407 0235\nPasscode: 056654
URL:https://waverlychurch.org/event/drawing-closer/2025-09-22/
LOCATION:https://waverlychurch.org/event/drawing-closer/2025-09-22/
END:VEVENT
BEGIN:VEVENT
DTSTART;TZID=America/New_York:20250923T190000
DTEND;TZID=America/New_York:20250923T193000
DTSTAMP:20260422T182655
CREATED:20210711T201005Z
LAST-MODIFIED:20220704T150145Z
UID:10000302-1758654000-1758655800@waverlychurch.org
SUMMARY:Al-Anon [Beginners' Meeting]
DESCRIPTION:The Frick Park Al-Anon group may still be virtual. \nContact frickparkafg85[at]gmail.com with any questions.
URL:https://waverlychurch.org/event/al-anon-beginners-meeting-2022-01-04-2022-04-05/2025-09-23/
LOCATION:Social Hall
END:VEVENT
BEGIN:VEVENT
DTSTART;TZID=UTC:20250923T193000
DTEND;TZID=UTC:20250923T203000
DTSTAMP:20260422T182655
CREATED:20190310T185001Z
LAST-MODIFIED:20220331T225559Z
UID:10002531-1758655800-1758659400@waverlychurch.org
SUMMARY:Al-Anon
DESCRIPTION:The Frick Park Al-Anon is holding in-person meetings in the Social Hall. \nContact frickparkafg85[at]gmail.com with any questions.
URL:https://waverlychurch.org/event/al-anon-2020-03-24-2021-07-06-2021-07-13/2025-09-23/
END:VEVENT
BEGIN:VEVENT
DTSTART;TZID=America/New_York:20250926T100000
DTEND;TZID=America/New_York:20250926T104500
DTSTAMP:20260422T182655
CREATED:20250529T155049Z
LAST-MODIFIED:20250529T155049Z
UID:10126544-1758880800-1758883500@waverlychurch.org
SUMMARY:Five Elements Qigong Fall Session 1 (Drop-ins Welcome)
DESCRIPTION:Contact Laura at laurakbudde@gmail.com or 618-210-3672.
URL:https://waverlychurch.org/event/five-elements-qigong-fall-session-1-drop-ins-welcome/2025-09-26/
LOCATION:Social Hall
END:VEVENT
BEGIN:VEVENT
DTSTART;TZID=America/New_York:20250926T110000
DTEND;TZID=America/New_York:20250926T120000
DTSTAMP:20260422T182655
CREATED:20250529T155342Z
LAST-MODIFIED:20250529T155342Z
UID:10126556-1758884400-1758888000@waverlychurch.org
SUMMARY:Tai Chi for Health Part 1 (Beginner Friendly)
DESCRIPTION:Contact Laura at laurakbudde@gmail.com or 618-210-3672. \nRegular attendance is necessary to learn and benefit from a complete tai chi form.
URL:https://waverlychurch.org/event/tai-chi-for-health-part-1-beginner-friendly/2025-09-26/
LOCATION:Social Hall
END:VEVENT
BEGIN:VEVENT
DTSTART;TZID=America/New_York:20250928T100000
DTEND;TZID=America/New_York:20250928T105500
DTSTAMP:20260422T182655
CREATED:20250923T174238Z
LAST-MODIFIED:20250923T174239Z
UID:10007148-1759053600-1759056900@waverlychurch.org
SUMMARY:Sunday School
DESCRIPTION:All ages are welcome to join us each week for Sunday School in the following locations: \nChildren up through 1st grade: nursery (downstairs\, right side of front entrance – ring bell to enter) \nChildren and Youth 2nd grade through 12th grade in the “Wonka Room” – room off of our lower floor Social Hall. \nAdults: lounge (upstairs in back of church)
URL:https://waverlychurch.org/event/sunday-school-3-2-2-2-2-2-2/2025-09-28/
END:VEVENT
BEGIN:VEVENT
DTSTART;TZID=America/New_York:20250928T110000
DTEND;TZID=America/New_York:20250928T121500
DTSTAMP:20260422T182655
CREATED:20250923T171614Z
LAST-MODIFIED:20250923T171615Z
UID:10007716-1759057200-1759061700@waverlychurch.org
SUMMARY:Worship Service
DESCRIPTION:We meet on Sundays in our Sanctuary at 11am during the school year and stream services online. \nSunday’s worship service will be live-streamed over our Facebook page on Sunday mornings. \n \nhttps://www.facebook.com/pg/WaverlyChurch/videos/
URL:https://waverlychurch.org/event/worship-service-5-2-2/2025-09-28/
END:VEVENT
BEGIN:VEVENT
DTSTART;TZID=America/New_York:20250928T121500
DTEND;TZID=America/New_York:20250928T133000
DTSTAMP:20260422T182655
CREATED:20250923T170705Z
LAST-MODIFIED:20250923T170706Z
UID:10006632-1759061700-1759066200@waverlychurch.org
SUMMARY:Coffee Hour
DESCRIPTION:Join us after service weekly for a chance to share fellowship over coffee and snacks
URL:https://waverlychurch.org/event/coffee-hour-3-2-2-2-2/2025-09-28/
LOCATION:Lounge
END:VEVENT
BEGIN:VEVENT
DTSTART;TZID=America/New_York:20250928T193000
DTEND;TZID=America/New_York:20250928T210000
DTSTAMP:20260422T182655
CREATED:20190310T184702Z
LAST-MODIFIED:20220704T145322Z
UID:10000654-1759087800-1759093200@waverlychurch.org
SUMMARY:Alcoholics Anonymous
DESCRIPTION:The Frick Park Group of Alcoholics Anonymous is holding in-person meetings in the Social Hall. \nAdditional links for AA groups are posted online at the AA Central Office.\nhttps://www.pghaa.org/
URL:https://waverlychurch.org/event/aa-2020-03-22-2021-07-04/2025-09-28/
LOCATION:Social Hall
END:VEVENT
BEGIN:VEVENT
DTSTART;TZID=America/New_York:20250929T170000
DTEND;TZID=America/New_York:20250929T180000
DTSTAMP:20260422T182655
CREATED:20240827T181303Z
LAST-MODIFIED:20260309T184828Z
UID:10008281-1759165200-1759168800@waverlychurch.org
SUMMARY:Drawing Closer - Meeting on Zoom
DESCRIPTION:This time of contemplative prayer and exploration of poetry is different every week and open to all\, no matter your beliefs. \nClick here for the Zoom link or call by phone:\n929-436-2866\nMeeting ID: 829 0407 0235\nPasscode: 056654
URL:https://waverlychurch.org/event/drawing-closer/2025-09-29/
LOCATION:https://waverlychurch.org/event/drawing-closer/2025-09-29/
END:VEVENT
BEGIN:VEVENT
DTSTART;TZID=America/New_York:20250930T190000
DTEND;TZID=America/New_York:20250930T193000
DTSTAMP:20260422T182655
CREATED:20210711T201005Z
LAST-MODIFIED:20220704T150145Z
UID:10000303-1759258800-1759260600@waverlychurch.org
SUMMARY:Al-Anon [Beginners' Meeting]
DESCRIPTION:The Frick Park Al-Anon group may still be virtual. \nContact frickparkafg85[at]gmail.com with any questions.
URL:https://waverlychurch.org/event/al-anon-beginners-meeting-2022-01-04-2022-04-05/2025-09-30/
LOCATION:Social Hall
END:VEVENT
BEGIN:VEVENT
DTSTART;TZID=UTC:20250930T193000
DTEND;TZID=UTC:20250930T203000
DTSTAMP:20260422T182655
CREATED:20190310T185001Z
LAST-MODIFIED:20220331T225559Z
UID:10002532-1759260600-1759264200@waverlychurch.org
SUMMARY:Al-Anon
DESCRIPTION:The Frick Park Al-Anon is holding in-person meetings in the Social Hall. \nContact frickparkafg85[at]gmail.com with any questions.
URL:https://waverlychurch.org/event/al-anon-2020-03-24-2021-07-06-2021-07-13/2025-09-30/
END:VEVENT
BEGIN:VEVENT
DTSTART;TZID=America/New_York:20251003T100000
DTEND;TZID=America/New_York:20251003T104500
DTSTAMP:20260422T182655
CREATED:20250529T155049Z
LAST-MODIFIED:20250529T155049Z
UID:10126545-1759485600-1759488300@waverlychurch.org
SUMMARY:Five Elements Qigong Fall Session 1 (Drop-ins Welcome)
DESCRIPTION:Contact Laura at laurakbudde@gmail.com or 618-210-3672.
URL:https://waverlychurch.org/event/five-elements-qigong-fall-session-1-drop-ins-welcome/2025-10-03/
LOCATION:Social Hall
END:VEVENT
BEGIN:VEVENT
DTSTART;TZID=America/New_York:20251003T110000
DTEND;TZID=America/New_York:20251003T120000
DTSTAMP:20260422T182655
CREATED:20250529T155342Z
LAST-MODIFIED:20250529T155342Z
UID:10126557-1759489200-1759492800@waverlychurch.org
SUMMARY:Tai Chi for Health Part 1 (Beginner Friendly)
DESCRIPTION:Contact Laura at laurakbudde@gmail.com or 618-210-3672. \nRegular attendance is necessary to learn and benefit from a complete tai chi form.
URL:https://waverlychurch.org/event/tai-chi-for-health-part-1-beginner-friendly/2025-10-03/
LOCATION:Social Hall
END:VEVENT
BEGIN:VEVENT
DTSTART;TZID=America/New_York:20251003T180000
DTEND;TZID=America/New_York:20251003T200000
DTSTAMP:20260422T182655
CREATED:20250821T164621Z
LAST-MODIFIED:20250821T164621Z
UID:10129190-1759514400-1759521600@waverlychurch.org
SUMMARY:First Friday Fellowship
DESCRIPTION:
URL:https://waverlychurch.org/event/first-friday-fellowship/2025-10-03/
LOCATION:Social Hall
END:VEVENT
END:VCALENDAR