BEGIN:VCALENDAR
VERSION:2.0
PRODID:-//Waverly Presbyterian Church - ECPv6.15.20//NONSGML v1.0//EN
CALSCALE:GREGORIAN
METHOD:PUBLISH
X-ORIGINAL-URL:https://waverlychurch.org
X-WR-CALDESC:Events for Waverly Presbyterian Church
REFRESH-INTERVAL;VALUE=DURATION:PT1H
X-Robots-Tag:noindex
X-PUBLISHED-TTL:PT1H
BEGIN:VTIMEZONE
TZID:America/New_York
BEGIN:DAYLIGHT
TZOFFSETFROM:-0500
TZOFFSETTO:-0400
TZNAME:EDT
DTSTART:20260308T070000
END:DAYLIGHT
BEGIN:STANDARD
TZOFFSETFROM:-0400
TZOFFSETTO:-0500
TZNAME:EST
DTSTART:20261101T060000
END:STANDARD
BEGIN:DAYLIGHT
TZOFFSETFROM:-0500
TZOFFSETTO:-0400
TZNAME:EDT
DTSTART:20270314T070000
END:DAYLIGHT
BEGIN:STANDARD
TZOFFSETFROM:-0400
TZOFFSETTO:-0500
TZNAME:EST
DTSTART:20271107T060000
END:STANDARD
BEGIN:DAYLIGHT
TZOFFSETFROM:-0500
TZOFFSETTO:-0400
TZNAME:EDT
DTSTART:20280312T070000
END:DAYLIGHT
BEGIN:STANDARD
TZOFFSETFROM:-0400
TZOFFSETTO:-0500
TZNAME:EST
DTSTART:20281105T060000
END:STANDARD
END:VTIMEZONE
BEGIN:VTIMEZONE
TZID:UTC
BEGIN:STANDARD
TZOFFSETFROM:+0000
TZOFFSETTO:+0000
TZNAME:UTC
DTSTART:20260101T000000
END:STANDARD
END:VTIMEZONE
BEGIN:VEVENT
DTSTART;TZID=America/New_York:20270422T103000
DTEND;TZID=America/New_York:20270422T140000
DTSTAMP:20260420T141220
CREATED:20260324T153601Z
LAST-MODIFIED:20260324T153603Z
UID:10133079-1808389800-1808402400@waverlychurch.org
SUMMARY:Reiki with Bob Dove and Ross Marshall
DESCRIPTION:
URL:https://waverlychurch.org/event/reiki-with-bob-dove-and-ross-marshall-2-2/2027-04-22/
LOCATION:Social Hall
END:VEVENT
BEGIN:VEVENT
DTSTART;TZID=America/New_York:20270422T190000
DTEND;TZID=America/New_York:20270422T203000
DTSTAMP:20260420T141220
CREATED:20251125T183555Z
LAST-MODIFIED:20251125T183747Z
UID:10132406-1808420400-1808425800@waverlychurch.org
SUMMARY:Choir Rehearsal in Lounge
DESCRIPTION:
URL:https://waverlychurch.org/event/choir-rehearsal-in-lounge/2027-04-22/
LOCATION:Lounge
END:VEVENT
BEGIN:VEVENT
DTSTART;TZID=America/New_York:20270425T093000
DTEND;TZID=America/New_York:20270425T100000
DTSTAMP:20260420T141220
CREATED:20251125T184126Z
LAST-MODIFIED:20251125T184126Z
UID:10132667-1808645400-1808647200@waverlychurch.org
SUMMARY:Choir Rehearsal in Sanctuary
DESCRIPTION:
URL:https://waverlychurch.org/event/choir-rehearsal-in-sanctuary/2027-04-25/
END:VEVENT
BEGIN:VEVENT
DTSTART;TZID=America/New_York:20270425T100000
DTEND;TZID=America/New_York:20270425T105500
DTSTAMP:20260420T141220
CREATED:20260305T170350Z
LAST-MODIFIED:20260305T170351Z
UID:10007230-1808647200-1808650500@waverlychurch.org
SUMMARY:Sunday School
DESCRIPTION:All ages are welcome to join us each week for Sunday School in the following locations: \nChildren up through 1st grade: nursery (downstairs\, right side of front entrance – ring bell to enter) \nChildren and Youth 2nd grade through 12th grade in the “Wonka Room” – room off of our lower floor Social Hall. \nAdults: lounge (upstairs in back of church)
URL:https://waverlychurch.org/event/sunday-school-3-2-2-2-2-2-2-2/2027-04-25/
END:VEVENT
BEGIN:VEVENT
DTSTART;TZID=America/New_York:20270425T110000
DTEND;TZID=America/New_York:20270425T121500
DTSTAMP:20260420T141220
CREATED:20250923T171614Z
LAST-MODIFIED:20250923T171615Z
UID:10007798-1808650800-1808655300@waverlychurch.org
SUMMARY:Worship Service
DESCRIPTION:We meet on Sundays in our Sanctuary at 11am during the school year and stream services online. \nSunday’s worship service will be live-streamed over our Facebook page on Sunday mornings. \n \nhttps://www.facebook.com/pg/WaverlyChurch/videos/
URL:https://waverlychurch.org/event/worship-service-5-2-2/2027-04-25/
END:VEVENT
BEGIN:VEVENT
DTSTART;TZID=America/New_York:20270425T121500
DTEND;TZID=America/New_York:20270425T133000
DTSTAMP:20260420T141220
CREATED:20260305T165302Z
LAST-MODIFIED:20260305T170242Z
UID:10006714-1808655300-1808659800@waverlychurch.org
SUMMARY:Coffee Hour
DESCRIPTION:Join us after service weekly for a chance to share fellowship over coffee and snacks
URL:https://waverlychurch.org/event/coffee-hour-3-2-2-2-2-2/2027-04-25/
LOCATION:Lounge
END:VEVENT
BEGIN:VEVENT
DTSTART;TZID=America/New_York:20270425T193000
DTEND;TZID=America/New_York:20270425T210000
DTSTAMP:20260420T141220
CREATED:20190310T184702Z
LAST-MODIFIED:20220704T145322Z
UID:10000736-1808681400-1808686800@waverlychurch.org
SUMMARY:Alcoholics Anonymous
DESCRIPTION:The Frick Park Group of Alcoholics Anonymous is holding in-person meetings in the Social Hall. \nAdditional links for AA groups are posted online at the AA Central Office.\nhttps://www.pghaa.org/
URL:https://waverlychurch.org/event/aa-2020-03-22-2021-07-04/2027-04-25/
LOCATION:Social Hall
END:VEVENT
BEGIN:VEVENT
DTSTART;TZID=America/New_York:20270426T090000
DTEND;TZID=America/New_York:20270426T200000
DTSTAMP:20260420T141220
CREATED:20251030T152456Z
LAST-MODIFIED:20251030T152456Z
UID:10131878-1808730000-1808769600@waverlychurch.org
SUMMARY:Guitar Lessons
DESCRIPTION:ian@cainsmusiclessons.com
URL:https://waverlychurch.org/event/guitar-lessons/2027-04-26/
LOCATION:Frog Room
END:VEVENT
BEGIN:VEVENT
DTSTART;TZID=America/New_York:20270427T190000
DTEND;TZID=America/New_York:20270427T193000
DTSTAMP:20260420T141220
CREATED:20210711T201005Z
LAST-MODIFIED:20220704T150145Z
UID:10000385-1808852400-1808854200@waverlychurch.org
SUMMARY:Al-Anon [Beginners' Meeting]
DESCRIPTION:The Frick Park Al-Anon group may still be virtual. \nContact frickparkafg85[at]gmail.com with any questions.
URL:https://waverlychurch.org/event/al-anon-beginners-meeting-2022-01-04-2022-04-05/2027-04-27/
LOCATION:Social Hall
END:VEVENT
BEGIN:VEVENT
DTSTART;TZID=UTC:20270427T193000
DTEND;TZID=UTC:20270427T203000
DTSTAMP:20260420T141220
CREATED:20190310T185001Z
LAST-MODIFIED:20220331T225559Z
UID:10002614-1808854200-1808857800@waverlychurch.org
SUMMARY:Al-Anon
DESCRIPTION:The Frick Park Al-Anon is holding in-person meetings in the Social Hall. \nContact frickparkafg85[at]gmail.com with any questions.
URL:https://waverlychurch.org/event/al-anon-2020-03-24-2021-07-06-2021-07-13/2027-04-27/
END:VEVENT
BEGIN:VEVENT
DTSTART;TZID=America/New_York:20270428T090000
DTEND;TZID=America/New_York:20270428T200000
DTSTAMP:20260420T141220
CREATED:20251030T152456Z
LAST-MODIFIED:20251030T152456Z
UID:10131879-1808902800-1808942400@waverlychurch.org
SUMMARY:Guitar Lessons
DESCRIPTION:ian@cainsmusiclessons.com
URL:https://waverlychurch.org/event/guitar-lessons/2027-04-28/
LOCATION:Frog Room
END:VEVENT
BEGIN:VEVENT
DTSTART;TZID=America/New_York:20270429T190000
DTEND;TZID=America/New_York:20270429T203000
DTSTAMP:20260420T141220
CREATED:20251125T183555Z
LAST-MODIFIED:20251125T183747Z
UID:10132407-1809025200-1809030600@waverlychurch.org
SUMMARY:Choir Rehearsal in Lounge
DESCRIPTION:
URL:https://waverlychurch.org/event/choir-rehearsal-in-lounge/2027-04-29/
LOCATION:Lounge
END:VEVENT
BEGIN:VEVENT
DTSTART;TZID=America/New_York:20270501T110000
DTEND;TZID=America/New_York:20270501T143000
DTSTAMP:20260420T141220
CREATED:20251125T184526Z
LAST-MODIFIED:20251125T184526Z
UID:10132872-1809169200-1809181800@waverlychurch.org
SUMMARY:East End N.A. Business Meeting/Social Hall
DESCRIPTION:
URL:https://waverlychurch.org/event/east-end-n-a-business-meeting-social-hall/2027-05-01/
END:VEVENT
BEGIN:VEVENT
DTSTART;TZID=America/New_York:20270502T093000
DTEND;TZID=America/New_York:20270502T100000
DTSTAMP:20260420T141220
CREATED:20251125T184126Z
LAST-MODIFIED:20251125T184126Z
UID:10132668-1809250200-1809252000@waverlychurch.org
SUMMARY:Choir Rehearsal in Sanctuary
DESCRIPTION:
URL:https://waverlychurch.org/event/choir-rehearsal-in-sanctuary/2027-05-02/
END:VEVENT
BEGIN:VEVENT
DTSTART;TZID=America/New_York:20270502T100000
DTEND;TZID=America/New_York:20270502T105500
DTSTAMP:20260420T141220
CREATED:20260305T170350Z
LAST-MODIFIED:20260305T170351Z
UID:10007231-1809252000-1809255300@waverlychurch.org
SUMMARY:Sunday School
DESCRIPTION:All ages are welcome to join us each week for Sunday School in the following locations: \nChildren up through 1st grade: nursery (downstairs\, right side of front entrance – ring bell to enter) \nChildren and Youth 2nd grade through 12th grade in the “Wonka Room” – room off of our lower floor Social Hall. \nAdults: lounge (upstairs in back of church)
URL:https://waverlychurch.org/event/sunday-school-3-2-2-2-2-2-2-2/2027-05-02/
END:VEVENT
BEGIN:VEVENT
DTSTART;TZID=America/New_York:20270502T110000
DTEND;TZID=America/New_York:20270502T121500
DTSTAMP:20260420T141220
CREATED:20250923T171614Z
LAST-MODIFIED:20250923T171615Z
UID:10007799-1809255600-1809260100@waverlychurch.org
SUMMARY:Worship Service
DESCRIPTION:We meet on Sundays in our Sanctuary at 11am during the school year and stream services online. \nSunday’s worship service will be live-streamed over our Facebook page on Sunday mornings. \n \nhttps://www.facebook.com/pg/WaverlyChurch/videos/
URL:https://waverlychurch.org/event/worship-service-5-2-2/2027-05-02/
END:VEVENT
BEGIN:VEVENT
DTSTART;TZID=America/New_York:20270502T121500
DTEND;TZID=America/New_York:20270502T133000
DTSTAMP:20260420T141220
CREATED:20260305T165302Z
LAST-MODIFIED:20260305T170242Z
UID:10006715-1809260100-1809264600@waverlychurch.org
SUMMARY:Coffee Hour
DESCRIPTION:Join us after service weekly for a chance to share fellowship over coffee and snacks
URL:https://waverlychurch.org/event/coffee-hour-3-2-2-2-2-2/2027-05-02/
LOCATION:Lounge
END:VEVENT
BEGIN:VEVENT
DTSTART;TZID=America/New_York:20270502T193000
DTEND;TZID=America/New_York:20270502T210000
DTSTAMP:20260420T141220
CREATED:20190310T184702Z
LAST-MODIFIED:20220704T145322Z
UID:10000737-1809286200-1809291600@waverlychurch.org
SUMMARY:Alcoholics Anonymous
DESCRIPTION:The Frick Park Group of Alcoholics Anonymous is holding in-person meetings in the Social Hall. \nAdditional links for AA groups are posted online at the AA Central Office.\nhttps://www.pghaa.org/
URL:https://waverlychurch.org/event/aa-2020-03-22-2021-07-04/2027-05-02/
LOCATION:Social Hall
END:VEVENT
BEGIN:VEVENT
DTSTART;TZID=America/New_York:20270503T090000
DTEND;TZID=America/New_York:20270503T200000
DTSTAMP:20260420T141220
CREATED:20251030T152456Z
LAST-MODIFIED:20251030T152456Z
UID:10131880-1809334800-1809374400@waverlychurch.org
SUMMARY:Guitar Lessons
DESCRIPTION:ian@cainsmusiclessons.com
URL:https://waverlychurch.org/event/guitar-lessons/2027-05-03/
LOCATION:Frog Room
END:VEVENT
BEGIN:VEVENT
DTSTART;TZID=America/New_York:20270504T190000
DTEND;TZID=America/New_York:20270504T193000
DTSTAMP:20260420T141220
CREATED:20210711T201005Z
LAST-MODIFIED:20220704T150145Z
UID:10000386-1809457200-1809459000@waverlychurch.org
SUMMARY:Al-Anon [Beginners' Meeting]
DESCRIPTION:The Frick Park Al-Anon group may still be virtual. \nContact frickparkafg85[at]gmail.com with any questions.
URL:https://waverlychurch.org/event/al-anon-beginners-meeting-2022-01-04-2022-04-05/2027-05-04/
LOCATION:Social Hall
END:VEVENT
BEGIN:VEVENT
DTSTART;TZID=UTC:20270504T193000
DTEND;TZID=UTC:20270504T203000
DTSTAMP:20260420T141220
CREATED:20190310T185001Z
LAST-MODIFIED:20220331T225559Z
UID:10002615-1809459000-1809462600@waverlychurch.org
SUMMARY:Al-Anon
DESCRIPTION:The Frick Park Al-Anon is holding in-person meetings in the Social Hall. \nContact frickparkafg85[at]gmail.com with any questions.
URL:https://waverlychurch.org/event/al-anon-2020-03-24-2021-07-06-2021-07-13/2027-05-04/
END:VEVENT
BEGIN:VEVENT
DTSTART;TZID=America/New_York:20270505T090000
DTEND;TZID=America/New_York:20270505T200000
DTSTAMP:20260420T141220
CREATED:20251030T152456Z
LAST-MODIFIED:20251030T152456Z
UID:10131881-1809507600-1809547200@waverlychurch.org
SUMMARY:Guitar Lessons
DESCRIPTION:ian@cainsmusiclessons.com
URL:https://waverlychurch.org/event/guitar-lessons/2027-05-05/
LOCATION:Frog Room
END:VEVENT
BEGIN:VEVENT
DTSTART;TZID=America/New_York:20270506T190000
DTEND;TZID=America/New_York:20270506T203000
DTSTAMP:20260420T141220
CREATED:20251125T183555Z
LAST-MODIFIED:20251125T183747Z
UID:10132408-1809630000-1809635400@waverlychurch.org
SUMMARY:Choir Rehearsal in Lounge
DESCRIPTION:
URL:https://waverlychurch.org/event/choir-rehearsal-in-lounge/2027-05-06/
LOCATION:Lounge
END:VEVENT
BEGIN:VEVENT
DTSTART;TZID=America/New_York:20270509T093000
DTEND;TZID=America/New_York:20270509T100000
DTSTAMP:20260420T141220
CREATED:20251125T184126Z
LAST-MODIFIED:20251125T184126Z
UID:10132669-1809855000-1809856800@waverlychurch.org
SUMMARY:Choir Rehearsal in Sanctuary
DESCRIPTION:
URL:https://waverlychurch.org/event/choir-rehearsal-in-sanctuary/2027-05-09/
END:VEVENT
BEGIN:VEVENT
DTSTART;TZID=America/New_York:20270509T100000
DTEND;TZID=America/New_York:20270509T105500
DTSTAMP:20260420T141220
CREATED:20260305T170350Z
LAST-MODIFIED:20260305T170351Z
UID:10007232-1809856800-1809860100@waverlychurch.org
SUMMARY:Sunday School
DESCRIPTION:All ages are welcome to join us each week for Sunday School in the following locations: \nChildren up through 1st grade: nursery (downstairs\, right side of front entrance – ring bell to enter) \nChildren and Youth 2nd grade through 12th grade in the “Wonka Room” – room off of our lower floor Social Hall. \nAdults: lounge (upstairs in back of church)
URL:https://waverlychurch.org/event/sunday-school-3-2-2-2-2-2-2-2/2027-05-09/
END:VEVENT
BEGIN:VEVENT
DTSTART;TZID=America/New_York:20270509T110000
DTEND;TZID=America/New_York:20270509T121500
DTSTAMP:20260420T141220
CREATED:20250923T171614Z
LAST-MODIFIED:20250923T171615Z
UID:10007800-1809860400-1809864900@waverlychurch.org
SUMMARY:Worship Service
DESCRIPTION:We meet on Sundays in our Sanctuary at 11am during the school year and stream services online. \nSunday’s worship service will be live-streamed over our Facebook page on Sunday mornings. \n \nhttps://www.facebook.com/pg/WaverlyChurch/videos/
URL:https://waverlychurch.org/event/worship-service-5-2-2/2027-05-09/
END:VEVENT
BEGIN:VEVENT
DTSTART;TZID=America/New_York:20270509T121500
DTEND;TZID=America/New_York:20270509T133000
DTSTAMP:20260420T141220
CREATED:20260305T165302Z
LAST-MODIFIED:20260305T170242Z
UID:10006716-1809864900-1809869400@waverlychurch.org
SUMMARY:Coffee Hour
DESCRIPTION:Join us after service weekly for a chance to share fellowship over coffee and snacks
URL:https://waverlychurch.org/event/coffee-hour-3-2-2-2-2-2/2027-05-09/
LOCATION:Lounge
END:VEVENT
BEGIN:VEVENT
DTSTART;TZID=America/New_York:20270509T193000
DTEND;TZID=America/New_York:20270509T210000
DTSTAMP:20260420T141220
CREATED:20190310T184702Z
LAST-MODIFIED:20220704T145322Z
UID:10000738-1809891000-1809896400@waverlychurch.org
SUMMARY:Alcoholics Anonymous
DESCRIPTION:The Frick Park Group of Alcoholics Anonymous is holding in-person meetings in the Social Hall. \nAdditional links for AA groups are posted online at the AA Central Office.\nhttps://www.pghaa.org/
URL:https://waverlychurch.org/event/aa-2020-03-22-2021-07-04/2027-05-09/
LOCATION:Social Hall
END:VEVENT
BEGIN:VEVENT
DTSTART;TZID=America/New_York:20270510T090000
DTEND;TZID=America/New_York:20270510T200000
DTSTAMP:20260420T141220
CREATED:20251030T152456Z
LAST-MODIFIED:20251030T152456Z
UID:10131882-1809939600-1809979200@waverlychurch.org
SUMMARY:Guitar Lessons
DESCRIPTION:ian@cainsmusiclessons.com
URL:https://waverlychurch.org/event/guitar-lessons/2027-05-10/
LOCATION:Frog Room
END:VEVENT
BEGIN:VEVENT
DTSTART;TZID=America/New_York:20270510T190000
DTEND;TZID=America/New_York:20270510T203000
DTSTAMP:20260420T141220
CREATED:20251125T185647Z
LAST-MODIFIED:20251125T185647Z
UID:10132932-1809975600-1809981000@waverlychurch.org
SUMMARY:Amnesty Meeting-Social Hall
DESCRIPTION:
URL:https://waverlychurch.org/event/amnesty-meeting-social-hall/2027-05-10/
END:VEVENT
END:VCALENDAR