BEGIN:VCALENDAR
VERSION:2.0
PRODID:-//Waverly Presbyterian Church - ECPv6.15.20//NONSGML v1.0//EN
CALSCALE:GREGORIAN
METHOD:PUBLISH
X-ORIGINAL-URL:https://waverlychurch.org
X-WR-CALDESC:Events for Waverly Presbyterian Church
REFRESH-INTERVAL;VALUE=DURATION:PT1H
X-Robots-Tag:noindex
X-PUBLISHED-TTL:PT1H
BEGIN:VTIMEZONE
TZID:UTC
BEGIN:STANDARD
TZOFFSETFROM:+0000
TZOFFSETTO:+0000
TZNAME:UTC
DTSTART:20270101T000000
END:STANDARD
END:VTIMEZONE
BEGIN:VTIMEZONE
TZID:America/New_York
BEGIN:DAYLIGHT
TZOFFSETFROM:-0500
TZOFFSETTO:-0400
TZNAME:EDT
DTSTART:20270314T070000
END:DAYLIGHT
BEGIN:STANDARD
TZOFFSETFROM:-0400
TZOFFSETTO:-0500
TZNAME:EST
DTSTART:20271107T060000
END:STANDARD
BEGIN:DAYLIGHT
TZOFFSETFROM:-0500
TZOFFSETTO:-0400
TZNAME:EDT
DTSTART:20280312T070000
END:DAYLIGHT
BEGIN:STANDARD
TZOFFSETFROM:-0400
TZOFFSETTO:-0500
TZNAME:EST
DTSTART:20281105T060000
END:STANDARD
BEGIN:DAYLIGHT
TZOFFSETFROM:-0500
TZOFFSETTO:-0400
TZNAME:EDT
DTSTART:20290311T070000
END:DAYLIGHT
BEGIN:STANDARD
TZOFFSETFROM:-0400
TZOFFSETTO:-0500
TZNAME:EST
DTSTART:20291104T060000
END:STANDARD
END:VTIMEZONE
BEGIN:VEVENT
DTSTART;TZID=UTC:20280215T193000
DTEND;TZID=UTC:20280215T203000
DTSTAMP:20260421T092325
CREATED:20190310T185001Z
LAST-MODIFIED:20220331T225559Z
UID:10002656-1834255800-1834259400@waverlychurch.org
SUMMARY:Al-Anon
DESCRIPTION:The Frick Park Al-Anon is holding in-person meetings in the Social Hall. \nContact frickparkafg85[at]gmail.com with any questions.
URL:https://waverlychurch.org/event/al-anon-2020-03-24-2021-07-06-2021-07-13/2028-02-15/
END:VEVENT
BEGIN:VEVENT
DTSTART;TZID=America/New_York:20280216T090000
DTEND;TZID=America/New_York:20280216T200000
DTSTAMP:20260421T092325
CREATED:20251030T152456Z
LAST-MODIFIED:20251030T152456Z
UID:10131963-1834304400-1834344000@waverlychurch.org
SUMMARY:Guitar Lessons
DESCRIPTION:ian@cainsmusiclessons.com
URL:https://waverlychurch.org/event/guitar-lessons/2028-02-16/
LOCATION:Frog Room
END:VEVENT
BEGIN:VEVENT
DTSTART;TZID=America/New_York:20280217T190000
DTEND;TZID=America/New_York:20280217T203000
DTSTAMP:20260421T092325
CREATED:20251125T183555Z
LAST-MODIFIED:20251125T183747Z
UID:10132449-1834426800-1834432200@waverlychurch.org
SUMMARY:Choir Rehearsal in Lounge
DESCRIPTION:
URL:https://waverlychurch.org/event/choir-rehearsal-in-lounge/2028-02-17/
LOCATION:Lounge
END:VEVENT
BEGIN:VEVENT
DTSTART;TZID=America/New_York:20280220T093000
DTEND;TZID=America/New_York:20280220T100000
DTSTAMP:20260421T092325
CREATED:20251125T184126Z
LAST-MODIFIED:20251125T184126Z
UID:10132710-1834651800-1834653600@waverlychurch.org
SUMMARY:Choir Rehearsal in Sanctuary
DESCRIPTION:
URL:https://waverlychurch.org/event/choir-rehearsal-in-sanctuary/2028-02-20/
END:VEVENT
BEGIN:VEVENT
DTSTART;TZID=America/New_York:20280220T100000
DTEND;TZID=America/New_York:20280220T105500
DTSTAMP:20260421T092325
CREATED:20260305T170350Z
LAST-MODIFIED:20260305T170351Z
UID:10007273-1834653600-1834656900@waverlychurch.org
SUMMARY:Sunday School
DESCRIPTION:All ages are welcome to join us each week for Sunday School in the following locations: \nChildren up through 1st grade: nursery (downstairs\, right side of front entrance – ring bell to enter) \nChildren and Youth 2nd grade through 12th grade in the “Wonka Room” – room off of our lower floor Social Hall. \nAdults: lounge (upstairs in back of church)
URL:https://waverlychurch.org/event/sunday-school-3-2-2-2-2-2-2-2/2028-02-20/
END:VEVENT
BEGIN:VEVENT
DTSTART;TZID=America/New_York:20280220T110000
DTEND;TZID=America/New_York:20280220T121500
DTSTAMP:20260421T092325
CREATED:20250923T171614Z
LAST-MODIFIED:20250923T171615Z
UID:10007841-1834657200-1834661700@waverlychurch.org
SUMMARY:Worship Service
DESCRIPTION:We meet on Sundays in our Sanctuary at 11am during the school year and stream services online. \nSunday’s worship service will be live-streamed over our Facebook page on Sunday mornings. \n \nhttps://www.facebook.com/pg/WaverlyChurch/videos/
URL:https://waverlychurch.org/event/worship-service-5-2-2/2028-02-20/
END:VEVENT
BEGIN:VEVENT
DTSTART;TZID=America/New_York:20280220T121500
DTEND;TZID=America/New_York:20280220T133000
DTSTAMP:20260421T092325
CREATED:20260305T165302Z
LAST-MODIFIED:20260305T170242Z
UID:10006757-1834661700-1834666200@waverlychurch.org
SUMMARY:Coffee Hour
DESCRIPTION:Join us after service weekly for a chance to share fellowship over coffee and snacks
URL:https://waverlychurch.org/event/coffee-hour-3-2-2-2-2-2/2028-02-20/
LOCATION:Lounge
END:VEVENT
BEGIN:VEVENT
DTSTART;TZID=America/New_York:20280220T193000
DTEND;TZID=America/New_York:20280220T210000
DTSTAMP:20260421T092325
CREATED:20190310T184702Z
LAST-MODIFIED:20220704T145322Z
UID:10000779-1834687800-1834693200@waverlychurch.org
SUMMARY:Alcoholics Anonymous
DESCRIPTION:The Frick Park Group of Alcoholics Anonymous is holding in-person meetings in the Social Hall. \nAdditional links for AA groups are posted online at the AA Central Office.\nhttps://www.pghaa.org/
URL:https://waverlychurch.org/event/aa-2020-03-22-2021-07-04/2028-02-20/
LOCATION:Social Hall
END:VEVENT
BEGIN:VEVENT
DTSTART;TZID=America/New_York:20280221T090000
DTEND;TZID=America/New_York:20280221T200000
DTSTAMP:20260421T092325
CREATED:20251030T152456Z
LAST-MODIFIED:20251030T152456Z
UID:10131964-1834736400-1834776000@waverlychurch.org
SUMMARY:Guitar Lessons
DESCRIPTION:ian@cainsmusiclessons.com
URL:https://waverlychurch.org/event/guitar-lessons/2028-02-21/
LOCATION:Frog Room
END:VEVENT
BEGIN:VEVENT
DTSTART;TZID=America/New_York:20280222T190000
DTEND;TZID=America/New_York:20280222T193000
DTSTAMP:20260421T092325
CREATED:20210711T201005Z
LAST-MODIFIED:20220704T150145Z
UID:10000428-1834858800-1834860600@waverlychurch.org
SUMMARY:Al-Anon [Beginners' Meeting]
DESCRIPTION:The Frick Park Al-Anon group may still be virtual. \nContact frickparkafg85[at]gmail.com with any questions.
URL:https://waverlychurch.org/event/al-anon-beginners-meeting-2022-01-04-2022-04-05/2028-02-22/
LOCATION:Social Hall
END:VEVENT
BEGIN:VEVENT
DTSTART;TZID=UTC:20280222T193000
DTEND;TZID=UTC:20280222T203000
DTSTAMP:20260421T092325
CREATED:20190310T185001Z
LAST-MODIFIED:20220331T225559Z
UID:10002657-1834860600-1834864200@waverlychurch.org
SUMMARY:Al-Anon
DESCRIPTION:The Frick Park Al-Anon is holding in-person meetings in the Social Hall. \nContact frickparkafg85[at]gmail.com with any questions.
URL:https://waverlychurch.org/event/al-anon-2020-03-24-2021-07-06-2021-07-13/2028-02-22/
END:VEVENT
BEGIN:VEVENT
DTSTART;TZID=America/New_York:20280223T090000
DTEND;TZID=America/New_York:20280223T200000
DTSTAMP:20260421T092325
CREATED:20251030T152456Z
LAST-MODIFIED:20251030T152456Z
UID:10131965-1834909200-1834948800@waverlychurch.org
SUMMARY:Guitar Lessons
DESCRIPTION:ian@cainsmusiclessons.com
URL:https://waverlychurch.org/event/guitar-lessons/2028-02-23/
LOCATION:Frog Room
END:VEVENT
BEGIN:VEVENT
DTSTART;TZID=America/New_York:20280224T103000
DTEND;TZID=America/New_York:20280224T140000
DTSTAMP:20260421T092325
CREATED:20260324T153601Z
LAST-MODIFIED:20260324T153603Z
UID:10133089-1835001000-1835013600@waverlychurch.org
SUMMARY:Reiki with Bob Dove and Ross Marshall
DESCRIPTION:
URL:https://waverlychurch.org/event/reiki-with-bob-dove-and-ross-marshall-2-2/2028-02-24/
LOCATION:Social Hall
END:VEVENT
BEGIN:VEVENT
DTSTART;TZID=America/New_York:20280224T190000
DTEND;TZID=America/New_York:20280224T203000
DTSTAMP:20260421T092325
CREATED:20251125T183555Z
LAST-MODIFIED:20251125T183747Z
UID:10132450-1835031600-1835037000@waverlychurch.org
SUMMARY:Choir Rehearsal in Lounge
DESCRIPTION:
URL:https://waverlychurch.org/event/choir-rehearsal-in-lounge/2028-02-24/
LOCATION:Lounge
END:VEVENT
BEGIN:VEVENT
DTSTART;TZID=America/New_York:20280227T093000
DTEND;TZID=America/New_York:20280227T100000
DTSTAMP:20260421T092325
CREATED:20251125T184126Z
LAST-MODIFIED:20251125T184126Z
UID:10132711-1835256600-1835258400@waverlychurch.org
SUMMARY:Choir Rehearsal in Sanctuary
DESCRIPTION:
URL:https://waverlychurch.org/event/choir-rehearsal-in-sanctuary/2028-02-27/
END:VEVENT
BEGIN:VEVENT
DTSTART;TZID=America/New_York:20280227T100000
DTEND;TZID=America/New_York:20280227T105500
DTSTAMP:20260421T092325
CREATED:20260305T170350Z
LAST-MODIFIED:20260305T170351Z
UID:10007274-1835258400-1835261700@waverlychurch.org
SUMMARY:Sunday School
DESCRIPTION:All ages are welcome to join us each week for Sunday School in the following locations: \nChildren up through 1st grade: nursery (downstairs\, right side of front entrance – ring bell to enter) \nChildren and Youth 2nd grade through 12th grade in the “Wonka Room” – room off of our lower floor Social Hall. \nAdults: lounge (upstairs in back of church)
URL:https://waverlychurch.org/event/sunday-school-3-2-2-2-2-2-2-2/2028-02-27/
END:VEVENT
BEGIN:VEVENT
DTSTART;TZID=America/New_York:20280227T110000
DTEND;TZID=America/New_York:20280227T121500
DTSTAMP:20260421T092325
CREATED:20250923T171614Z
LAST-MODIFIED:20250923T171615Z
UID:10007842-1835262000-1835266500@waverlychurch.org
SUMMARY:Worship Service
DESCRIPTION:We meet on Sundays in our Sanctuary at 11am during the school year and stream services online. \nSunday’s worship service will be live-streamed over our Facebook page on Sunday mornings. \n \nhttps://www.facebook.com/pg/WaverlyChurch/videos/
URL:https://waverlychurch.org/event/worship-service-5-2-2/2028-02-27/
END:VEVENT
BEGIN:VEVENT
DTSTART;TZID=America/New_York:20280227T121500
DTEND;TZID=America/New_York:20280227T133000
DTSTAMP:20260421T092325
CREATED:20260305T165302Z
LAST-MODIFIED:20260305T170242Z
UID:10006758-1835266500-1835271000@waverlychurch.org
SUMMARY:Coffee Hour
DESCRIPTION:Join us after service weekly for a chance to share fellowship over coffee and snacks
URL:https://waverlychurch.org/event/coffee-hour-3-2-2-2-2-2/2028-02-27/
LOCATION:Lounge
END:VEVENT
BEGIN:VEVENT
DTSTART;TZID=America/New_York:20280227T193000
DTEND;TZID=America/New_York:20280227T210000
DTSTAMP:20260421T092325
CREATED:20190310T184702Z
LAST-MODIFIED:20220704T145322Z
UID:10000780-1835292600-1835298000@waverlychurch.org
SUMMARY:Alcoholics Anonymous
DESCRIPTION:The Frick Park Group of Alcoholics Anonymous is holding in-person meetings in the Social Hall. \nAdditional links for AA groups are posted online at the AA Central Office.\nhttps://www.pghaa.org/
URL:https://waverlychurch.org/event/aa-2020-03-22-2021-07-04/2028-02-27/
LOCATION:Social Hall
END:VEVENT
BEGIN:VEVENT
DTSTART;TZID=America/New_York:20280228T090000
DTEND;TZID=America/New_York:20280228T200000
DTSTAMP:20260421T092325
CREATED:20251030T152456Z
LAST-MODIFIED:20251030T152456Z
UID:10131966-1835341200-1835380800@waverlychurch.org
SUMMARY:Guitar Lessons
DESCRIPTION:ian@cainsmusiclessons.com
URL:https://waverlychurch.org/event/guitar-lessons/2028-02-28/
LOCATION:Frog Room
END:VEVENT
BEGIN:VEVENT
DTSTART;TZID=America/New_York:20280229T190000
DTEND;TZID=America/New_York:20280229T193000
DTSTAMP:20260421T092325
CREATED:20210711T201005Z
LAST-MODIFIED:20220704T150145Z
UID:10000429-1835463600-1835465400@waverlychurch.org
SUMMARY:Al-Anon [Beginners' Meeting]
DESCRIPTION:The Frick Park Al-Anon group may still be virtual. \nContact frickparkafg85[at]gmail.com with any questions.
URL:https://waverlychurch.org/event/al-anon-beginners-meeting-2022-01-04-2022-04-05/2028-02-29/
LOCATION:Social Hall
END:VEVENT
BEGIN:VEVENT
DTSTART;TZID=UTC:20280229T193000
DTEND;TZID=UTC:20280229T203000
DTSTAMP:20260421T092325
CREATED:20190310T185001Z
LAST-MODIFIED:20220331T225559Z
UID:10002658-1835465400-1835469000@waverlychurch.org
SUMMARY:Al-Anon
DESCRIPTION:The Frick Park Al-Anon is holding in-person meetings in the Social Hall. \nContact frickparkafg85[at]gmail.com with any questions.
URL:https://waverlychurch.org/event/al-anon-2020-03-24-2021-07-06-2021-07-13/2028-02-29/
END:VEVENT
BEGIN:VEVENT
DTSTART;TZID=America/New_York:20280301T090000
DTEND;TZID=America/New_York:20280301T200000
DTSTAMP:20260421T092325
CREATED:20251030T152456Z
LAST-MODIFIED:20251030T152456Z
UID:10131967-1835514000-1835553600@waverlychurch.org
SUMMARY:Guitar Lessons
DESCRIPTION:ian@cainsmusiclessons.com
URL:https://waverlychurch.org/event/guitar-lessons/2028-03-01/
LOCATION:Frog Room
END:VEVENT
BEGIN:VEVENT
DTSTART;TZID=America/New_York:20280302T190000
DTEND;TZID=America/New_York:20280302T203000
DTSTAMP:20260421T092325
CREATED:20251125T183555Z
LAST-MODIFIED:20251125T183747Z
UID:10132451-1835636400-1835641800@waverlychurch.org
SUMMARY:Choir Rehearsal in Lounge
DESCRIPTION:
URL:https://waverlychurch.org/event/choir-rehearsal-in-lounge/2028-03-02/
LOCATION:Lounge
END:VEVENT
BEGIN:VEVENT
DTSTART;TZID=America/New_York:20280304T110000
DTEND;TZID=America/New_York:20280304T143000
DTSTAMP:20260421T092325
CREATED:20251125T184526Z
LAST-MODIFIED:20251125T184526Z
UID:10132882-1835780400-1835793000@waverlychurch.org
SUMMARY:East End N.A. Business Meeting/Social Hall
DESCRIPTION:
URL:https://waverlychurch.org/event/east-end-n-a-business-meeting-social-hall/2028-03-04/
END:VEVENT
BEGIN:VEVENT
DTSTART;TZID=America/New_York:20280305T093000
DTEND;TZID=America/New_York:20280305T100000
DTSTAMP:20260421T092325
CREATED:20251125T184126Z
LAST-MODIFIED:20251125T184126Z
UID:10132712-1835861400-1835863200@waverlychurch.org
SUMMARY:Choir Rehearsal in Sanctuary
DESCRIPTION:
URL:https://waverlychurch.org/event/choir-rehearsal-in-sanctuary/2028-03-05/
END:VEVENT
BEGIN:VEVENT
DTSTART;TZID=America/New_York:20280305T100000
DTEND;TZID=America/New_York:20280305T105500
DTSTAMP:20260421T092325
CREATED:20260305T170350Z
LAST-MODIFIED:20260305T170351Z
UID:10007275-1835863200-1835866500@waverlychurch.org
SUMMARY:Sunday School
DESCRIPTION:All ages are welcome to join us each week for Sunday School in the following locations: \nChildren up through 1st grade: nursery (downstairs\, right side of front entrance – ring bell to enter) \nChildren and Youth 2nd grade through 12th grade in the “Wonka Room” – room off of our lower floor Social Hall. \nAdults: lounge (upstairs in back of church)
URL:https://waverlychurch.org/event/sunday-school-3-2-2-2-2-2-2-2/2028-03-05/
END:VEVENT
BEGIN:VEVENT
DTSTART;TZID=America/New_York:20280305T110000
DTEND;TZID=America/New_York:20280305T121500
DTSTAMP:20260421T092325
CREATED:20250923T171614Z
LAST-MODIFIED:20250923T171615Z
UID:10007843-1835866800-1835871300@waverlychurch.org
SUMMARY:Worship Service
DESCRIPTION:We meet on Sundays in our Sanctuary at 11am during the school year and stream services online. \nSunday’s worship service will be live-streamed over our Facebook page on Sunday mornings. \n \nhttps://www.facebook.com/pg/WaverlyChurch/videos/
URL:https://waverlychurch.org/event/worship-service-5-2-2/2028-03-05/
END:VEVENT
BEGIN:VEVENT
DTSTART;TZID=America/New_York:20280305T121500
DTEND;TZID=America/New_York:20280305T133000
DTSTAMP:20260421T092325
CREATED:20260305T165302Z
LAST-MODIFIED:20260305T170242Z
UID:10006759-1835871300-1835875800@waverlychurch.org
SUMMARY:Coffee Hour
DESCRIPTION:Join us after service weekly for a chance to share fellowship over coffee and snacks
URL:https://waverlychurch.org/event/coffee-hour-3-2-2-2-2-2/2028-03-05/
LOCATION:Lounge
END:VEVENT
BEGIN:VEVENT
DTSTART;TZID=America/New_York:20280306T090000
DTEND;TZID=America/New_York:20280306T200000
DTSTAMP:20260421T092325
CREATED:20251030T152456Z
LAST-MODIFIED:20251030T152456Z
UID:10131968-1835946000-1835985600@waverlychurch.org
SUMMARY:Guitar Lessons
DESCRIPTION:ian@cainsmusiclessons.com
URL:https://waverlychurch.org/event/guitar-lessons/2028-03-06/
LOCATION:Frog Room
END:VEVENT
END:VCALENDAR